BEGIN:VCALENDAR
VERSION:2.0
PRODID:-//Silverdale Lutheran Church - ECPv6.15.12.2//NONSGML v1.0//EN
CALSCALE:GREGORIAN
METHOD:PUBLISH
X-WR-CALNAME:Silverdale Lutheran Church
X-ORIGINAL-URL:https://silverdalelutheran.org
X-WR-CALDESC:Events for Silverdale Lutheran Church
REFRESH-INTERVAL;VALUE=DURATION:PT1H
X-Robots-Tag:noindex
X-PUBLISHED-TTL:PT1H
BEGIN:VTIMEZONE
TZID:America/Denver
BEGIN:DAYLIGHT
TZOFFSETFROM:-0700
TZOFFSETTO:-0600
TZNAME:MDT
DTSTART:20240310T090000
END:DAYLIGHT
BEGIN:STANDARD
TZOFFSETFROM:-0600
TZOFFSETTO:-0700
TZNAME:MST
DTSTART:20241103T080000
END:STANDARD
BEGIN:DAYLIGHT
TZOFFSETFROM:-0700
TZOFFSETTO:-0600
TZNAME:MDT
DTSTART:20250309T090000
END:DAYLIGHT
BEGIN:STANDARD
TZOFFSETFROM:-0600
TZOFFSETTO:-0700
TZNAME:MST
DTSTART:20251102T080000
END:STANDARD
BEGIN:DAYLIGHT
TZOFFSETFROM:-0700
TZOFFSETTO:-0600
TZNAME:MDT
DTSTART:20260308T090000
END:DAYLIGHT
BEGIN:STANDARD
TZOFFSETFROM:-0600
TZOFFSETTO:-0700
TZNAME:MST
DTSTART:20261101T080000
END:STANDARD
END:VTIMEZONE
BEGIN:VTIMEZONE
TZID:America/Los_Angeles
BEGIN:DAYLIGHT
TZOFFSETFROM:-0800
TZOFFSETTO:-0700
TZNAME:PDT
DTSTART:20240310T100000
END:DAYLIGHT
BEGIN:STANDARD
TZOFFSETFROM:-0700
TZOFFSETTO:-0800
TZNAME:PST
DTSTART:20241103T090000
END:STANDARD
BEGIN:DAYLIGHT
TZOFFSETFROM:-0800
TZOFFSETTO:-0700
TZNAME:PDT
DTSTART:20250309T100000
END:DAYLIGHT
BEGIN:STANDARD
TZOFFSETFROM:-0700
TZOFFSETTO:-0800
TZNAME:PST
DTSTART:20251102T090000
END:STANDARD
BEGIN:DAYLIGHT
TZOFFSETFROM:-0800
TZOFFSETTO:-0700
TZNAME:PDT
DTSTART:20260308T100000
END:DAYLIGHT
BEGIN:STANDARD
TZOFFSETFROM:-0700
TZOFFSETTO:-0800
TZNAME:PST
DTSTART:20261101T090000
END:STANDARD
END:VTIMEZONE
BEGIN:VEVENT
DTSTART;TZID=America/Denver:20250907T083000
DTEND;TZID=America/Denver:20250907T110000
DTSTAMP:20260421T191223
CREATED:20250623T190515Z
LAST-MODIFIED:20250818T194503Z
UID:10000001-1757233800-1757242800@silverdalelutheran.org
SUMMARY:Engage Sunday September 7th
DESCRIPTION:Get ready to kick off our program year in style on Engage Sunday! \nOn September 7th\, we return to our usual worship schedule (8:30am & 11:00am) that will be lead by our sanctuary choir! \nIn between the services from 9:40–10:40 a.m.\, the Gathering Place will be buzzing with all-ages—fellowship\, singing\, and four exciting stations: \n📖 Bible story \n🎨 Creative art \n🤝 Fun mixer game \n❤️ Service project \nWe’ll team up kids\, youth\, and adults to grow in faith together. Come ready to laugh\, learn\, and celebrate our call to Christian education. Don’t miss it! \n(Regular Sunday School begins September 14th.)
URL:https://silverdalelutheran.org/event/rally-day-september-7th/
LOCATION:WA
ATTACH;FMTTYPE=image/jpeg:https://silverdalelutheran.org/wp-content/uploads/2025/08/Engage-Sunday-1920-x-1080-px.jpg
END:VEVENT
BEGIN:VEVENT
DTSTART;TZID=America/Los_Angeles:20250917T103000
DTEND;TZID=America/Los_Angeles:20250917T120000
DTSTAMP:20260421T191223
CREATED:20250917T164917Z
LAST-MODIFIED:20250917T164917Z
UID:10001370-1758105000-1758110400@silverdalelutheran.org
SUMMARY:Manna Bible Study
DESCRIPTION:Manna Bible Study meets on Wednesdays at 10:30am to discuss the texts for the upcoming Sunday Worship Service. \nThis class meets at 10:30am in room 4 (main building) of Silverdale Lutheran Church – you can also join via Zoom. \nClick to view past recordings
URL:https://silverdalelutheran.org/event/manna-bible-study/2025-09-17/
LOCATION:Silverdale Lutheran Church\, 11701 Ridgepoint Dr NW\, Silverdale\, WA\, 98383\, United States
END:VEVENT
BEGIN:VEVENT
DTSTART;TZID=America/Los_Angeles:20250917T120000
DTEND;TZID=America/Los_Angeles:20250917T130000
DTSTAMP:20260421T191223
CREATED:20250917T165143Z
LAST-MODIFIED:20250918T155352Z
UID:10001631-1758110400-1758114000@silverdalelutheran.org
SUMMARY:Hearty Meals
DESCRIPTION:Hearty Meals is a free in-person lunch every Wednesday from noon-1pm every Wednesday.  All are welcome.
URL:https://silverdalelutheran.org/event/hearty-meals/2025-09-17/
LOCATION:Silverdale Lutheran Church\, 11701 Ridgepoint Dr NW\, Silverdale\, WA\, 98383\, United States
CATEGORIES:Community Event
END:VEVENT
BEGIN:VEVENT
DTSTART;TZID=America/Los_Angeles:20250917T183000
DTEND;TZID=America/Los_Angeles:20250917T200000
DTSTAMP:20260421T191223
CREATED:20250916T201057Z
LAST-MODIFIED:20250918T155219Z
UID:10000003-1758133800-1758139200@silverdalelutheran.org
SUMMARY:middle youth night
DESCRIPTION:What: Youth Night\nWho:  6th – 8th grade\nWhen: Every Wednesday night from 6:30pm – 8pm\nWhere:  Gathering Place at SLC\n 
URL:https://silverdalelutheran.org/event/middle-youth-night/2025-09-17/
LOCATION:Silverdale Lutheran – Gathering Place\, 11701 Ridgepoint Dr NW\, Silverdale\, WA\, 98383\, United States
ORGANIZER;CN="Jessica Voigt":MAILTO:jvoigt@silverdalelutheran.org
END:VEVENT
BEGIN:VEVENT
DTSTART;TZID=America/Los_Angeles:20250917T190000
DTEND;TZID=America/Los_Angeles:20250917T200000
DTSTAMP:20260421T191223
CREATED:20250917T165813Z
LAST-MODIFIED:20250918T155059Z
UID:10001892-1758135600-1758139200@silverdalelutheran.org
SUMMARY:Sanctuary Choir Practice
DESCRIPTION:SLC has a rich variety of musical styles in worship. Sanctuary Choir practices in the Sanctuary – one hour a week.  They generally sing for worship once or twice a month. \nFor more information contact Justin Cormier \nMusic Ministries \n  \n 
URL:https://silverdalelutheran.org/event/sanctuary-choir-practice/2025-09-17/
LOCATION:Silverdale Lutheran Church\, 11701 Ridgepoint Dr NW\, Silverdale\, WA\, 98383\, United States
END:VEVENT
BEGIN:VEVENT
DTSTART;TZID=America/Los_Angeles:20250918T103000
DTEND;TZID=America/Los_Angeles:20250918T120000
DTSTAMP:20260421T191223
CREATED:20250917T170040Z
LAST-MODIFIED:20250918T155018Z
UID:10002153-1758191400-1758196800@silverdalelutheran.org
SUMMARY:PB's Thursday Bible Study
DESCRIPTION:PB’s Thursday Bible StudyThe Gospel of John\n\n\nThis year PB’s Thursday Bible Study will walk through the Gospel of John.  This Gospel is often said to be a more “theological” Gospel than the synoptic Gospels (Matthew\, Mark\, and Luke).  One way to look at it is this: The Gospel of John is written in such a way that we will now not miss what many did.  It is a well known fact that the Gospel according to John was Luther’s most loved Gospel.  Come and take a deep dive into this amazing Gospel that truly does deliver God’s mercy and grace in Christ Jesus.  We hope to cover about a ½ chapter in each session and finish by the end of next summer! \nThis class meets in Fellowship Hall Thursday mornings.  You can also join in via ZOOM
URL:https://silverdalelutheran.org/event/pbs-thursday-bible-study/2025-09-18/
LOCATION:Silverdale Lutheran Church\, 11701 Ridgepoint Dr NW\, Silverdale\, WA\, 98383\, United States
END:VEVENT
BEGIN:VEVENT
DTSTART;TZID=America/Los_Angeles:20250918T120000
DTEND;TZID=America/Los_Angeles:20250918T130000
DTSTAMP:20260421T191223
CREATED:20250917T170332Z
LAST-MODIFIED:20250918T154936Z
UID:10002414-1758196800-1758200400@silverdalelutheran.org
SUMMARY:Song of the Church
DESCRIPTION:Song of the Church \n\n\nThis group is a bit like “Choir-lite.” We meet weekly Thursdays at noon and do vocal exercises. Then we study and rehearse the upcoming Sunday’s hymns and songs. Song of the Church is a good opportunity to exercise the voice and to dive deeper into the rich musical tradition of the church. No audition or experience is required for this singing\, and there is no performance obligation. \nMeets in the Sanctuary at Silverdale Lutheran Church.  Questions?  Contact Music Director Justin Cormier
URL:https://silverdalelutheran.org/event/song-of-the-church/2025-09-18/
LOCATION:Silverdale Lutheran Church\, 11701 Ridgepoint Dr NW\, Silverdale\, WA\, 98383\, United States
END:VEVENT
BEGIN:VEVENT
DTSTART;TZID=America/Los_Angeles:20250918T130000
DTEND;TZID=America/Los_Angeles:20250918T140000
DTSTAMP:20260421T191223
CREATED:20250917T170554Z
LAST-MODIFIED:20250918T154844Z
UID:10002675-1758200400-1758204000@silverdalelutheran.org
SUMMARY:Our'Chestra
DESCRIPTION:An ensemble of synthesizers and acoustic instruments\, rehearses weekly and plays for worship once per month. We play hymns and classical repertoire. \nMeets in either the Sanctuary or one of the GP Classrooms. \nQuestions?  Contact Music Director Justin Cormier
URL:https://silverdalelutheran.org/event/ourchestra/2025-09-18/
LOCATION:Silverdale Lutheran Church\, 11701 Ridgepoint Dr NW\, Silverdale\, WA\, 98383\, United States
ORGANIZER;CN="Justin Cormier":MAILTO:jcormier@silverdalelutheran.org
END:VEVENT
BEGIN:VEVENT
DTSTART;TZID=America/Los_Angeles:20250918T130000
DTEND;TZID=America/Los_Angeles:20250918T140000
DTSTAMP:20260421T191223
CREATED:20250917T171720Z
LAST-MODIFIED:20250917T171720Z
UID:10003197-1758200400-1758204000@silverdalelutheran.org
SUMMARY:Faith and Fellowship for Older Men (St)
DESCRIPTION:Fellowship and Faith for Older Men  \nThis time of fellowship is offered to older men looking to connect with each other and with God and faith. \nEnrollment:     3 openings \nWhen:              Weekly on Thursdays 1 p.m. to 2:30 p.m. \nWhere:             Library at Silverdale Lutheran Church \nContact:           Doug Hazen at (360) 692 0208 or doughazen1234@gmail.com
URL:https://silverdalelutheran.org/event/faith-and-fellowship-for-older-men-st/2025-09-18/
LOCATION:Silverdale Lutheran Church\, 11701 Ridgepoint Dr NW\, Silverdale\, WA\, 98383\, United States
END:VEVENT
BEGIN:VEVENT
DTSTART;TZID=America/Los_Angeles:20250918T173000
DTEND;TZID=America/Los_Angeles:20250918T183000
DTSTAMP:20260421T191223
CREATED:20250917T171148Z
LAST-MODIFIED:20250918T154753Z
UID:10002936-1758216600-1758220200@silverdalelutheran.org
SUMMARY:SLiCk Pickers
DESCRIPTION:A bluegrass-style band that rehearses weekly and plays worship once a month. \nMeets in the Sanctuary for Practice one hour a week.
URL:https://silverdalelutheran.org/event/slick-pickers/2025-09-18/
LOCATION:Silverdale Lutheran Church\, 11701 Ridgepoint Dr NW\, Silverdale\, WA\, 98383\, United States
ORGANIZER;CN="Justin Cormier":MAILTO:jcormier@silverdalelutheran.org
END:VEVENT
BEGIN:VEVENT
DTSTART;TZID=America/Los_Angeles:20250918T183000
DTEND;TZID=America/Los_Angeles:20250918T193000
DTSTAMP:20260421T191223
CREATED:20250917T171921Z
LAST-MODIFIED:20250918T154719Z
UID:10003458-1758220200-1758223800@silverdalelutheran.org
SUMMARY:Cubscout Den Mtg (GP Classrooms)
DESCRIPTION:Cubscout Den meets in GP every Thursday with exception to 2nd Thursday’s of month. \nFor more information please see:  https://silverdalelutheran.org/scouting/
URL:https://silverdalelutheran.org/event/cubscout-den-mtg-gp-classrooms/2025-09-18/
LOCATION:Silverdale Lutheran – Gathering Place\, 11701 Ridgepoint Dr NW\, Silverdale\, WA\, 98383\, United States
END:VEVENT
BEGIN:VEVENT
DTSTART;TZID=America/Los_Angeles:20250918T184500
DTEND;TZID=America/Los_Angeles:20250918T193000
DTSTAMP:20260421T191223
CREATED:20250917T172054Z
LAST-MODIFIED:20250918T154645Z
UID:10003719-1758221100-1758223800@silverdalelutheran.org
SUMMARY:Alleluia Ringers (S)
DESCRIPTION:Handbell choir rehearses weekly. This ministry is open to anyone Junior High age and older and is an excellent ministry for those who already read music rhythms. If you haven’t played handbells before\, we’ll teach you! \n 
URL:https://silverdalelutheran.org/event/alleluia-ringers-s/2025-09-18/
LOCATION:Silverdale Lutheran Church\, 11701 Ridgepoint Dr NW\, Silverdale\, WA\, 98383\, United States
ORGANIZER;CN="Justin Cormier":MAILTO:jcormier@silverdalelutheran.org
END:VEVENT
BEGIN:VEVENT
DTSTART;TZID=America/Los_Angeles:20250918T190000
DTEND;TZID=America/Los_Angeles:20250918T203000
DTSTAMP:20260421T191223
CREATED:20250917T172745Z
LAST-MODIFIED:20250918T192920Z
UID:10003980-1758222000-1758227400@silverdalelutheran.org
SUMMARY:Boy Scout Venture Crew
DESCRIPTION:Boy Scout Venture Crew – Coed Ages 14-20\n\n\n\n\n\n\n\n\n\n\n\n\nVenturing is a youth-led program all about building adventures with your friends. Choose to do activities that matter to you and develop essential skills like leadership\, event-planning\, organization\, communication\, and responsibility while having a blast!
URL:https://silverdalelutheran.org/event/boy-scout-venture-crew/
LOCATION:Silverdale Lutheran – Gathering Place\, 11701 Ridgepoint Dr NW\, Silverdale\, WA\, 98383\, United States
CATEGORIES:Community Event
ATTACH;FMTTYPE=image/png:https://silverdalelutheran.org/wp-content/uploads/2025/09/Boy-Scout-event.png
END:VEVENT
BEGIN:VEVENT
DTSTART;TZID=America/Los_Angeles:20250919T080000
DTEND;TZID=America/Los_Angeles:20250919T090000
DTSTAMP:20260421T191223
CREATED:20250918T174712Z
LAST-MODIFIED:20250918T174713Z
UID:10003984-1758268800-1758272400@silverdalelutheran.org
SUMMARY:Men's Prayer Breakfast
DESCRIPTION:The Men’s Prayer Breakfast is about being fed with food for the body AND the soul. We pray for those in need\, have a short Bible study and breakfast with fellowship together. We meet every Friday morning at 8am at the Silverdale Bowling Alley. All men are welcome to please join us!
URL:https://silverdalelutheran.org/event/mens-prayer-breakfast/2025-09-19/
LOCATION:Silverdale Bowling Alley\, 10710 Silverdale Way NW\, Silverdale\, WA\, 98383
CATEGORIES:Community Event
END:VEVENT
BEGIN:VEVENT
DTSTART;TZID=America/Los_Angeles:20250919T180000
DTEND;TZID=America/Los_Angeles:20250919T180000
DTSTAMP:20260421T191223
CREATED:20250916T204044Z
LAST-MODIFIED:20250918T154513Z
UID:10001310-1758304800-1758304800@silverdalelutheran.org
SUMMARY:SLC Kids Youth Night
DESCRIPTION:SLC Kids Night meets once a month on the 3rd Friday.
URL:https://silverdalelutheran.org/event/slc-kids-youth-night/2025-09-19/
LOCATION:Silverdale Lutheran – Gathering Place\, 11701 Ridgepoint Dr NW\, Silverdale\, WA\, 98383\, United States
ORGANIZER;CN="Jessica Voigt":MAILTO:jvoigt@silverdalelutheran.org
END:VEVENT
BEGIN:VEVENT
DTSTART;TZID=America/Los_Angeles:20250921T083000
DTEND;TZID=America/Los_Angeles:20250921T093000
DTSTAMP:20260421T191223
CREATED:20250916T203047Z
LAST-MODIFIED:20250929T182545Z
UID:10000528-1758443400-1758447000@silverdalelutheran.org
SUMMARY:Sunday Worship - Early Service 8:30am
DESCRIPTION:Join us for Sunday Worship.\n8:30 am – Early Service\nSunday School for all ages between services
URL:https://silverdalelutheran.org/event/sunday-worship-830am-2/2025-09-21/
LOCATION:Silverdale Lutheran Church\, 11701 Ridgepoint Dr NW\, Silverdale\, WA\, 98383\, United States
END:VEVENT
BEGIN:VEVENT
DTSTART;TZID=America/Los_Angeles:20250921T110000
DTEND;TZID=America/Los_Angeles:20250921T120000
DTSTAMP:20260421T191223
CREATED:20250916T203317Z
LAST-MODIFIED:20250918T174943Z
UID:10001049-1758452400-1758456000@silverdalelutheran.org
SUMMARY:Sunday Worship - Late Service - 11:00 am
DESCRIPTION:Join us for Sunday Worship.\n11:00 am – Late Service\nSunday School for all ages between services
URL:https://silverdalelutheran.org/event/sunday-worship-1100-am/2025-09-21/
LOCATION:Silverdale Lutheran Church\, 11701 Ridgepoint Dr NW\, Silverdale\, WA\, 98383\, United States
CATEGORIES:Worship
END:VEVENT
BEGIN:VEVENT
DTSTART;TZID=America/Los_Angeles:20250921T190000
DTEND;TZID=America/Los_Angeles:20250921T203000
DTSTAMP:20260421T191223
CREATED:20250918T175222Z
LAST-MODIFIED:20250918T175552Z
UID:10004245-1758481200-1758486600@silverdalelutheran.org
SUMMARY:High School Youth Night
DESCRIPTION:SLY is our high school youth group that meets from 7-8:30pm on Sunday nights in the Gathering Place. This group often has additional opportunities to hang out and grow in their faith. Some of these experiences include acts of service\, backpacking\, retreats\, and fun!
URL:https://silverdalelutheran.org/event/high-school-youth-night/2025-09-21/
LOCATION:Silverdale Lutheran – Gathering Place\, 11701 Ridgepoint Dr NW\, Silverdale\, WA\, 98383\, United States
CATEGORIES:High School
ORGANIZER;CN="Jessica Voigt":MAILTO:jvoigt@silverdalelutheran.org
END:VEVENT
BEGIN:VEVENT
DTSTART;TZID=America/Los_Angeles:20250922T090000
DTEND;TZID=America/Los_Angeles:20250922T120000
DTSTAMP:20260421T191223
CREATED:20250918T180712Z
LAST-MODIFIED:20250918T181755Z
UID:10004506-1758531600-1758542400@silverdalelutheran.org
SUMMARY:Ties That Bind
DESCRIPTION:A ministry started in 1969\, Silverdale Lutheran Church Quilters gather every Monday morning in the Fellowship Hall to create quilts to share with those in need of warmth. Each year the quilters will sew hundreds of quilts that are shipped to Lutheran World Relief for distribution across the world and additional quilts that are shared within our community. All are welcome to join in this creative work. Silverdale Lutheran Church supports this ministry with monetary and in-kind donations\, along with the helping hands of many volunteers.
URL:https://silverdalelutheran.org/event/ties-that-bind/2025-09-22/
LOCATION:Silverdale Lutheran Church\, 11701 Ridgepoint Dr NW\, Silverdale\, WA\, 98383\, United States
CATEGORIES:Community Event
ATTACH;FMTTYPE=image/jpeg:https://silverdalelutheran.org/wp-content/uploads/2025/09/Ties-That-Bind-1280-x-720-px.jpg
END:VEVENT
BEGIN:VEVENT
DTSTART;TZID=America/Los_Angeles:20250922T183000
DTEND;TZID=America/Los_Angeles:20250922T200000
DTSTAMP:20260421T191223
CREATED:20250918T184454Z
LAST-MODIFIED:20251222T203944Z
UID:10004767-1758565800-1758571200@silverdalelutheran.org
SUMMARY:Boy Scouts Troop 1541
DESCRIPTION:Boy Scout Troop 1541 Meets on Mondays at 6:30pm \nBoy Scouts of Ameria – A troop includes youth\, typically aged 11-17\, who participate in outdoor activities\, community service\, and leadership development through a patrol-based structure. Led by youth leaders and guided by adult leaders like a Scoutmaster\, each troop operates on the “Patrol Method\,” where small\, tight-knit patrols plan and execute programs to foster character\, citizenship\, and practical skills through a youth-led model. \nFor more information on BSA visit  https://www.scouting.org/programs/scouts-bsa/ \nQuestions? Contact Scoutmaster JJ Story
URL:https://silverdalelutheran.org/event/boy-scouts-troop-1541/2025-09-22/
LOCATION:Silverdale Lutheran – Gathering Place\, 11701 Ridgepoint Dr NW\, Silverdale\, WA\, 98383\, United States
ATTACH;FMTTYPE=image/png:https://silverdalelutheran.org/wp-content/uploads/2025/09/Boy-Scout-event-Logo.png
END:VEVENT
BEGIN:VEVENT
DTSTART;TZID=America/Los_Angeles:20250924T103000
DTEND;TZID=America/Los_Angeles:20250924T120000
DTSTAMP:20260421T191223
CREATED:20250917T164917Z
LAST-MODIFIED:20250917T164917Z
UID:10001371-1758709800-1758715200@silverdalelutheran.org
SUMMARY:Manna Bible Study
DESCRIPTION:Manna Bible Study meets on Wednesdays at 10:30am to discuss the texts for the upcoming Sunday Worship Service. \nThis class meets at 10:30am in room 4 (main building) of Silverdale Lutheran Church – you can also join via Zoom. \nClick to view past recordings
URL:https://silverdalelutheran.org/event/manna-bible-study/2025-09-24/
LOCATION:Silverdale Lutheran Church\, 11701 Ridgepoint Dr NW\, Silverdale\, WA\, 98383\, United States
END:VEVENT
BEGIN:VEVENT
DTSTART;TZID=America/Los_Angeles:20250924T120000
DTEND;TZID=America/Los_Angeles:20250924T130000
DTSTAMP:20260421T191223
CREATED:20250917T165143Z
LAST-MODIFIED:20250918T155352Z
UID:10001632-1758715200-1758718800@silverdalelutheran.org
SUMMARY:Hearty Meals
DESCRIPTION:Hearty Meals is a free in-person lunch every Wednesday from noon-1pm every Wednesday.  All are welcome.
URL:https://silverdalelutheran.org/event/hearty-meals/2025-09-24/
LOCATION:Silverdale Lutheran Church\, 11701 Ridgepoint Dr NW\, Silverdale\, WA\, 98383\, United States
CATEGORIES:Community Event
END:VEVENT
BEGIN:VEVENT
DTSTART;TZID=America/Los_Angeles:20250924T183000
DTEND;TZID=America/Los_Angeles:20250924T200000
DTSTAMP:20260421T191223
CREATED:20250916T201057Z
LAST-MODIFIED:20250918T155219Z
UID:10000004-1758738600-1758744000@silverdalelutheran.org
SUMMARY:middle youth night
DESCRIPTION:What: Youth Night\nWho:  6th – 8th grade\nWhen: Every Wednesday night from 6:30pm – 8pm\nWhere:  Gathering Place at SLC\n 
URL:https://silverdalelutheran.org/event/middle-youth-night/2025-09-24/
LOCATION:Silverdale Lutheran – Gathering Place\, 11701 Ridgepoint Dr NW\, Silverdale\, WA\, 98383\, United States
ORGANIZER;CN="Jessica Voigt":MAILTO:jvoigt@silverdalelutheran.org
END:VEVENT
BEGIN:VEVENT
DTSTART;TZID=America/Los_Angeles:20250924T190000
DTEND;TZID=America/Los_Angeles:20250924T200000
DTSTAMP:20260421T191223
CREATED:20250917T165813Z
LAST-MODIFIED:20250918T155059Z
UID:10001893-1758740400-1758744000@silverdalelutheran.org
SUMMARY:Sanctuary Choir Practice
DESCRIPTION:SLC has a rich variety of musical styles in worship. Sanctuary Choir practices in the Sanctuary – one hour a week.  They generally sing for worship once or twice a month. \nFor more information contact Justin Cormier \nMusic Ministries \n  \n 
URL:https://silverdalelutheran.org/event/sanctuary-choir-practice/2025-09-24/
LOCATION:Silverdale Lutheran Church\, 11701 Ridgepoint Dr NW\, Silverdale\, WA\, 98383\, United States
END:VEVENT
BEGIN:VEVENT
DTSTART;TZID=America/Los_Angeles:20250925T103000
DTEND;TZID=America/Los_Angeles:20250925T120000
DTSTAMP:20260421T191223
CREATED:20250917T170040Z
LAST-MODIFIED:20250918T155018Z
UID:10002154-1758796200-1758801600@silverdalelutheran.org
SUMMARY:PB's Thursday Bible Study
DESCRIPTION:PB’s Thursday Bible StudyThe Gospel of John\n\n\nThis year PB’s Thursday Bible Study will walk through the Gospel of John.  This Gospel is often said to be a more “theological” Gospel than the synoptic Gospels (Matthew\, Mark\, and Luke).  One way to look at it is this: The Gospel of John is written in such a way that we will now not miss what many did.  It is a well known fact that the Gospel according to John was Luther’s most loved Gospel.  Come and take a deep dive into this amazing Gospel that truly does deliver God’s mercy and grace in Christ Jesus.  We hope to cover about a ½ chapter in each session and finish by the end of next summer! \nThis class meets in Fellowship Hall Thursday mornings.  You can also join in via ZOOM
URL:https://silverdalelutheran.org/event/pbs-thursday-bible-study/2025-09-25/
LOCATION:Silverdale Lutheran Church\, 11701 Ridgepoint Dr NW\, Silverdale\, WA\, 98383\, United States
END:VEVENT
BEGIN:VEVENT
DTSTART;TZID=America/Los_Angeles:20250925T120000
DTEND;TZID=America/Los_Angeles:20250925T130000
DTSTAMP:20260421T191223
CREATED:20250917T170332Z
LAST-MODIFIED:20250918T154936Z
UID:10002415-1758801600-1758805200@silverdalelutheran.org
SUMMARY:Song of the Church
DESCRIPTION:Song of the Church \n\n\nThis group is a bit like “Choir-lite.” We meet weekly Thursdays at noon and do vocal exercises. Then we study and rehearse the upcoming Sunday’s hymns and songs. Song of the Church is a good opportunity to exercise the voice and to dive deeper into the rich musical tradition of the church. No audition or experience is required for this singing\, and there is no performance obligation. \nMeets in the Sanctuary at Silverdale Lutheran Church.  Questions?  Contact Music Director Justin Cormier
URL:https://silverdalelutheran.org/event/song-of-the-church/2025-09-25/
LOCATION:Silverdale Lutheran Church\, 11701 Ridgepoint Dr NW\, Silverdale\, WA\, 98383\, United States
END:VEVENT
BEGIN:VEVENT
DTSTART;TZID=America/Los_Angeles:20250925T130000
DTEND;TZID=America/Los_Angeles:20250925T140000
DTSTAMP:20260421T191223
CREATED:20250917T170554Z
LAST-MODIFIED:20250918T154844Z
UID:10002676-1758805200-1758808800@silverdalelutheran.org
SUMMARY:Our'Chestra
DESCRIPTION:An ensemble of synthesizers and acoustic instruments\, rehearses weekly and plays for worship once per month. We play hymns and classical repertoire. \nMeets in either the Sanctuary or one of the GP Classrooms. \nQuestions?  Contact Music Director Justin Cormier
URL:https://silverdalelutheran.org/event/ourchestra/2025-09-25/
LOCATION:Silverdale Lutheran Church\, 11701 Ridgepoint Dr NW\, Silverdale\, WA\, 98383\, United States
ORGANIZER;CN="Justin Cormier":MAILTO:jcormier@silverdalelutheran.org
END:VEVENT
BEGIN:VEVENT
DTSTART;TZID=America/Los_Angeles:20250925T130000
DTEND;TZID=America/Los_Angeles:20250925T140000
DTSTAMP:20260421T191223
CREATED:20250917T171720Z
LAST-MODIFIED:20250917T171720Z
UID:10003198-1758805200-1758808800@silverdalelutheran.org
SUMMARY:Faith and Fellowship for Older Men (St)
DESCRIPTION:Fellowship and Faith for Older Men  \nThis time of fellowship is offered to older men looking to connect with each other and with God and faith. \nEnrollment:     3 openings \nWhen:              Weekly on Thursdays 1 p.m. to 2:30 p.m. \nWhere:             Library at Silverdale Lutheran Church \nContact:           Doug Hazen at (360) 692 0208 or doughazen1234@gmail.com
URL:https://silverdalelutheran.org/event/faith-and-fellowship-for-older-men-st/2025-09-25/
LOCATION:Silverdale Lutheran Church\, 11701 Ridgepoint Dr NW\, Silverdale\, WA\, 98383\, United States
END:VEVENT
BEGIN:VEVENT
DTSTART;TZID=America/Los_Angeles:20250925T173000
DTEND;TZID=America/Los_Angeles:20250925T183000
DTSTAMP:20260421T191223
CREATED:20250917T171148Z
LAST-MODIFIED:20250918T154753Z
UID:10002937-1758821400-1758825000@silverdalelutheran.org
SUMMARY:SLiCk Pickers
DESCRIPTION:A bluegrass-style band that rehearses weekly and plays worship once a month. \nMeets in the Sanctuary for Practice one hour a week.
URL:https://silverdalelutheran.org/event/slick-pickers/2025-09-25/
LOCATION:Silverdale Lutheran Church\, 11701 Ridgepoint Dr NW\, Silverdale\, WA\, 98383\, United States
ORGANIZER;CN="Justin Cormier":MAILTO:jcormier@silverdalelutheran.org
END:VEVENT
BEGIN:VEVENT
DTSTART;TZID=America/Los_Angeles:20250925T180000
DTEND;TZID=America/Los_Angeles:20250925T200000
DTSTAMP:20260421T191223
CREATED:20250916T194814Z
LAST-MODIFIED:20250918T174016Z
UID:10000002-1758823200-1758830400@silverdalelutheran.org
SUMMARY:Young Adult Night
DESCRIPTION:Young Adult Night @ PJ’s House\nSeptember 25th 6pm-8pm\nDinner provided!\nRSVP HERE\n  \n 
URL:https://silverdalelutheran.org/event/young-adult-night/
LOCATION:PJ’s House\, 10524 Sirocco Circle NW\, Silverdale\, WA\, 98383
CATEGORIES:Young Adults
ORGANIZER;CN="Pastor Jonathan":MAILTO:jsansgaard@gmail.com
END:VEVENT
END:VCALENDAR