BEGIN:VCALENDAR
VERSION:2.0
PRODID:-//Silverdale Lutheran Church - ECPv6.15.12.2//NONSGML v1.0//EN
CALSCALE:GREGORIAN
METHOD:PUBLISH
X-WR-CALNAME:Silverdale Lutheran Church
X-ORIGINAL-URL:https://silverdalelutheran.org
X-WR-CALDESC:Events for Silverdale Lutheran Church
REFRESH-INTERVAL;VALUE=DURATION:PT1H
X-Robots-Tag:noindex
X-PUBLISHED-TTL:PT1H
BEGIN:VTIMEZONE
TZID:America/Los_Angeles
BEGIN:DAYLIGHT
TZOFFSETFROM:-0800
TZOFFSETTO:-0700
TZNAME:PDT
DTSTART:20240310T100000
END:DAYLIGHT
BEGIN:STANDARD
TZOFFSETFROM:-0700
TZOFFSETTO:-0800
TZNAME:PST
DTSTART:20241103T090000
END:STANDARD
BEGIN:DAYLIGHT
TZOFFSETFROM:-0800
TZOFFSETTO:-0700
TZNAME:PDT
DTSTART:20250309T100000
END:DAYLIGHT
BEGIN:STANDARD
TZOFFSETFROM:-0700
TZOFFSETTO:-0800
TZNAME:PST
DTSTART:20251102T090000
END:STANDARD
BEGIN:DAYLIGHT
TZOFFSETFROM:-0800
TZOFFSETTO:-0700
TZNAME:PDT
DTSTART:20260308T100000
END:DAYLIGHT
BEGIN:STANDARD
TZOFFSETFROM:-0700
TZOFFSETTO:-0800
TZNAME:PST
DTSTART:20261101T090000
END:STANDARD
END:VTIMEZONE
BEGIN:VEVENT
DTSTART;TZID=America/Los_Angeles:20251023T173000
DTEND;TZID=America/Los_Angeles:20251023T183000
DTSTAMP:20260422T153534
CREATED:20250917T171148Z
LAST-MODIFIED:20250918T154753Z
UID:10002941-1761240600-1761244200@silverdalelutheran.org
SUMMARY:SLiCk Pickers
DESCRIPTION:A bluegrass-style band that rehearses weekly and plays worship once a month. \nMeets in the Sanctuary for Practice one hour a week.
URL:https://silverdalelutheran.org/event/slick-pickers/2025-10-23/
LOCATION:Silverdale Lutheran Church\, 11701 Ridgepoint Dr NW\, Silverdale\, WA\, 98383\, United States
ORGANIZER;CN="Justin Cormier":MAILTO:jcormier@silverdalelutheran.org
END:VEVENT
BEGIN:VEVENT
DTSTART;TZID=America/Los_Angeles:20251023T180000
DTEND;TZID=America/Los_Angeles:20251023T200000
DTSTAMP:20260422T153534
CREATED:20250929T194007Z
LAST-MODIFIED:20250929T194007Z
UID:10009541-1761242400-1761249600@silverdalelutheran.org
SUMMARY:Kitsap County Search Dogs (FH)
DESCRIPTION:
URL:https://silverdalelutheran.org/event/kitsap-county-search-dogs-fh/2025-10-23/
LOCATION:WA
CATEGORIES:Private Group
END:VEVENT
BEGIN:VEVENT
DTSTART;TZID=America/Los_Angeles:20251023T183000
DTEND;TZID=America/Los_Angeles:20251023T193000
DTSTAMP:20260422T153534
CREATED:20250917T171921Z
LAST-MODIFIED:20250918T154719Z
UID:10003463-1761244200-1761247800@silverdalelutheran.org
SUMMARY:Cubscout Den Mtg (GP Classrooms)
DESCRIPTION:Cubscout Den meets in GP every Thursday with exception to 2nd Thursday’s of month. \nFor more information please see:  https://silverdalelutheran.org/scouting/
URL:https://silverdalelutheran.org/event/cubscout-den-mtg-gp-classrooms/2025-10-23/
LOCATION:Silverdale Lutheran – Gathering Place\, 11701 Ridgepoint Dr NW\, Silverdale\, WA\, 98383\, United States
END:VEVENT
BEGIN:VEVENT
DTSTART;TZID=America/Los_Angeles:20251023T183000
DTEND;TZID=America/Los_Angeles:20251023T200000
DTSTAMP:20260422T153534
CREATED:20250930T212821Z
LAST-MODIFIED:20250930T212821Z
UID:10009985-1761244200-1761249600@silverdalelutheran.org
SUMMARY:Young Adults (HS)
DESCRIPTION:Join us the 2nd and 4th Thursday of each month!
URL:https://silverdalelutheran.org/event/young-adults-hs-3/2025-10-23/
LOCATION:Silverdale Lutheran – Gathering Place\, 11701 Ridgepoint Dr NW\, Silverdale\, WA\, 98383\, United States
CATEGORIES:Young Adults
ORGANIZER;CN="Pastor Jonathan":MAILTO:jsansgaard@gmail.com
END:VEVENT
BEGIN:VEVENT
DTSTART;TZID=America/Los_Angeles:20251023T183000
DTEND;TZID=America/Los_Angeles:20251023T200000
DTSTAMP:20260422T153534
CREATED:20250930T213342Z
LAST-MODIFIED:20250930T213342Z
UID:10010224-1761244200-1761249600@silverdalelutheran.org
SUMMARY:Young Adults (HS)
DESCRIPTION:Join us the 2nd and 4th Tuesday of each month!
URL:https://silverdalelutheran.org/event/young-adults-hs-4/2025-10-23/
LOCATION:Silverdale Lutheran – Gathering Place\, 11701 Ridgepoint Dr NW\, Silverdale\, WA\, 98383\, United States
CATEGORIES:Young Adults
ORGANIZER;CN="Pastor Jonathan":MAILTO:jsansgaard@gmail.com
END:VEVENT
BEGIN:VEVENT
DTSTART;TZID=America/Los_Angeles:20251023T184500
DTEND;TZID=America/Los_Angeles:20251023T193000
DTSTAMP:20260422T153534
CREATED:20250917T172054Z
LAST-MODIFIED:20250918T154645Z
UID:10003724-1761245100-1761247800@silverdalelutheran.org
SUMMARY:Alleluia Ringers (S)
DESCRIPTION:Handbell choir rehearses weekly. This ministry is open to anyone Junior High age and older and is an excellent ministry for those who already read music rhythms. If you haven’t played handbells before\, we’ll teach you! \n 
URL:https://silverdalelutheran.org/event/alleluia-ringers-s/2025-10-23/
LOCATION:Silverdale Lutheran Church\, 11701 Ridgepoint Dr NW\, Silverdale\, WA\, 98383\, United States
ORGANIZER;CN="Justin Cormier":MAILTO:jcormier@silverdalelutheran.org
END:VEVENT
BEGIN:VEVENT
DTSTART;TZID=America/Los_Angeles:20251023T190000
DTEND;TZID=America/Los_Angeles:20251023T200000
DTSTAMP:20260422T153534
CREATED:20250929T182215Z
LAST-MODIFIED:20250929T182215Z
UID:10007503-1761246000-1761249600@silverdalelutheran.org
SUMMARY:Venture Scouting (23)
DESCRIPTION:
URL:https://silverdalelutheran.org/event/venture-scouting-23/2025-10-23/
LOCATION:Silverdale Lutheran – Gathering Place\, 11701 Ridgepoint Dr NW\, Silverdale\, WA\, 98383\, United States
END:VEVENT
BEGIN:VEVENT
DTSTART;TZID=America/Los_Angeles:20251024T080000
DTEND;TZID=America/Los_Angeles:20251024T090000
DTSTAMP:20260422T153534
CREATED:20250918T174712Z
LAST-MODIFIED:20250918T174713Z
UID:10003989-1761292800-1761296400@silverdalelutheran.org
SUMMARY:Men's Prayer Breakfast
DESCRIPTION:The Men’s Prayer Breakfast is about being fed with food for the body AND the soul. We pray for those in need\, have a short Bible study and breakfast with fellowship together. We meet every Friday morning at 8am at the Silverdale Bowling Alley. All men are welcome to please join us!
URL:https://silverdalelutheran.org/event/mens-prayer-breakfast/2025-10-24/
LOCATION:Silverdale Bowling Alley\, 10710 Silverdale Way NW\, Silverdale\, WA\, 98383
CATEGORIES:Community Event
END:VEVENT
BEGIN:VEVENT
DTSTART;TZID=America/Los_Angeles:20251025T103000
DTEND;TZID=America/Los_Angeles:20251025T120000
DTSTAMP:20260422T153534
CREATED:20250929T192435Z
LAST-MODIFIED:20250929T210057Z
UID:10009419-1761388200-1761393600@silverdalelutheran.org
SUMMARY:Breckenridge HOA (FH)
DESCRIPTION:
URL:https://silverdalelutheran.org/event/breckenridge-hoa-fh/
LOCATION:WA
CATEGORIES:Private Group
END:VEVENT
BEGIN:VEVENT
DTSTART;TZID=America/Los_Angeles:20251026T083000
DTEND;TZID=America/Los_Angeles:20251026T093000
DTSTAMP:20260422T153534
CREATED:20250916T203047Z
LAST-MODIFIED:20250929T182545Z
UID:10007885-1761467400-1761471000@silverdalelutheran.org
SUMMARY:Sunday Worship - Early Service 8:30am
DESCRIPTION:Join us for Sunday Worship.\n8:30 am – Early Service\nSunday School for all ages between services
URL:https://silverdalelutheran.org/event/sunday-worship-830am-2/2025-10-26/
LOCATION:Silverdale Lutheran Church\, 11701 Ridgepoint Dr NW\, Silverdale\, WA\, 98383\, United States
END:VEVENT
BEGIN:VEVENT
DTSTART;TZID=America/Los_Angeles:20251026T094500
DTEND;TZID=America/Los_Angeles:20251026T104500
DTSTAMP:20260422T153534
CREATED:20250929T182919Z
LAST-MODIFIED:20250929T182919Z
UID:10008146-1761471900-1761475500@silverdalelutheran.org
SUMMARY:PB's Sunday Adult Education Class
DESCRIPTION:
URL:https://silverdalelutheran.org/event/pbs-sunday-adult-education-class/2025-10-26/
LOCATION:Silverdale Lutheran Church\, 11701 Ridgepoint Dr NW\, Silverdale\, WA\, 98383\, United States
END:VEVENT
BEGIN:VEVENT
DTSTART;TZID=America/Los_Angeles:20251026T110000
DTEND;TZID=America/Los_Angeles:20251026T120000
DTSTAMP:20260422T153534
CREATED:20250916T203317Z
LAST-MODIFIED:20250918T174943Z
UID:10001054-1761476400-1761480000@silverdalelutheran.org
SUMMARY:Sunday Worship - Late Service - 11:00 am
DESCRIPTION:Join us for Sunday Worship.\n11:00 am – Late Service\nSunday School for all ages between services
URL:https://silverdalelutheran.org/event/sunday-worship-1100-am/2025-10-26/
LOCATION:Silverdale Lutheran Church\, 11701 Ridgepoint Dr NW\, Silverdale\, WA\, 98383\, United States
CATEGORIES:Worship
END:VEVENT
BEGIN:VEVENT
DTSTART;TZID=America/Los_Angeles:20251026T180000
DTEND;TZID=America/Los_Angeles:20251026T200000
DTSTAMP:20260422T153534
CREATED:20250929T194233Z
LAST-MODIFIED:20250929T194233Z
UID:10009601-1761501600-1761508800@silverdalelutheran.org
SUMMARY:Confirmation Meeting (HS)
DESCRIPTION:
URL:https://silverdalelutheran.org/event/confirmation-meeting-hs/2025-10-26/
LOCATION:WA
CATEGORIES:High School
END:VEVENT
BEGIN:VEVENT
DTSTART;TZID=America/Los_Angeles:20251026T190000
DTEND;TZID=America/Los_Angeles:20251026T203000
DTSTAMP:20260422T153534
CREATED:20250918T175222Z
LAST-MODIFIED:20250918T175552Z
UID:10004250-1761505200-1761510600@silverdalelutheran.org
SUMMARY:High School Youth Night
DESCRIPTION:SLY is our high school youth group that meets from 7-8:30pm on Sunday nights in the Gathering Place. This group often has additional opportunities to hang out and grow in their faith. Some of these experiences include acts of service\, backpacking\, retreats\, and fun!
URL:https://silverdalelutheran.org/event/high-school-youth-night/2025-10-26/
LOCATION:Silverdale Lutheran – Gathering Place\, 11701 Ridgepoint Dr NW\, Silverdale\, WA\, 98383\, United States
CATEGORIES:High School
ORGANIZER;CN="Jessica Voigt":MAILTO:jvoigt@silverdalelutheran.org
END:VEVENT
BEGIN:VEVENT
DTSTART;TZID=America/Los_Angeles:20251027T083000
DTEND;TZID=America/Los_Angeles:20251028T113000
DTSTAMP:20260422T153534
CREATED:20250929T180033Z
LAST-MODIFIED:20250929T191603Z
UID:10009039-1761553800-1761651000@silverdalelutheran.org
SUMMARY:Bible Study Fellowship (GP\, 21-23\, N)
DESCRIPTION:
URL:https://silverdalelutheran.org/event/bible-study-fellowship-gp-21-23-n-2/2025-10-27/
LOCATION:WA
CATEGORIES:Private Group
END:VEVENT
BEGIN:VEVENT
DTSTART;TZID=America/Los_Angeles:20251027T090000
DTEND;TZID=America/Los_Angeles:20251027T120000
DTSTAMP:20260422T153534
CREATED:20250918T180712Z
LAST-MODIFIED:20250918T181755Z
UID:10004511-1761555600-1761566400@silverdalelutheran.org
SUMMARY:Ties That Bind
DESCRIPTION:A ministry started in 1969\, Silverdale Lutheran Church Quilters gather every Monday morning in the Fellowship Hall to create quilts to share with those in need of warmth. Each year the quilters will sew hundreds of quilts that are shipped to Lutheran World Relief for distribution across the world and additional quilts that are shared within our community. All are welcome to join in this creative work. Silverdale Lutheran Church supports this ministry with monetary and in-kind donations\, along with the helping hands of many volunteers.
URL:https://silverdalelutheran.org/event/ties-that-bind/2025-10-27/
LOCATION:Silverdale Lutheran Church\, 11701 Ridgepoint Dr NW\, Silverdale\, WA\, 98383\, United States
CATEGORIES:Community Event
ATTACH;FMTTYPE=image/jpeg:https://silverdalelutheran.org/wp-content/uploads/2025/09/Ties-That-Bind-1280-x-720-px.jpg
END:VEVENT
BEGIN:VEVENT
DTSTART;TZID=America/Los_Angeles:20251027T170000
DTEND;TZID=America/Los_Angeles:20251027T173000
DTSTAMP:20260422T153534
CREATED:20250929T194347Z
LAST-MODIFIED:20250929T194347Z
UID:10009661-1761584400-1761586200@silverdalelutheran.org
SUMMARY:Mutual Ministry (4)
DESCRIPTION:
URL:https://silverdalelutheran.org/event/mutual-ministry-4/2025-10-27/
LOCATION:WA
CATEGORIES:SLC Business
END:VEVENT
BEGIN:VEVENT
DTSTART;TZID=America/Los_Angeles:20251027T183000
DTEND;TZID=America/Los_Angeles:20251027T200000
DTSTAMP:20260422T153534
CREATED:20250918T184454Z
LAST-MODIFIED:20251222T203944Z
UID:10004833-1761589800-1761595200@silverdalelutheran.org
SUMMARY:Boy Scouts Troop 1541
DESCRIPTION:Boy Scout Troop 1541 Meets on Mondays at 6:30pm \nBoy Scouts of Ameria – A troop includes youth\, typically aged 11-17\, who participate in outdoor activities\, community service\, and leadership development through a patrol-based structure. Led by youth leaders and guided by adult leaders like a Scoutmaster\, each troop operates on the “Patrol Method\,” where small\, tight-knit patrols plan and execute programs to foster character\, citizenship\, and practical skills through a youth-led model. \nFor more information on BSA visit  https://www.scouting.org/programs/scouts-bsa/ \nQuestions? Contact Scoutmaster JJ Story
URL:https://silverdalelutheran.org/event/boy-scouts-troop-1541/2025-10-27/
LOCATION:Silverdale Lutheran – Gathering Place\, 11701 Ridgepoint Dr NW\, Silverdale\, WA\, 98383\, United States
ATTACH;FMTTYPE=image/png:https://silverdalelutheran.org/wp-content/uploads/2025/09/Boy-Scout-event-Logo.png
END:VEVENT
BEGIN:VEVENT
DTSTART;TZID=America/Los_Angeles:20251027T190000
DTEND;TZID=America/Los_Angeles:20251027T203000
DTSTAMP:20260422T153534
CREATED:20250929T194633Z
LAST-MODIFIED:20250929T194633Z
UID:10009721-1761591600-1761597000@silverdalelutheran.org
SUMMARY:Joy Circle (4)
DESCRIPTION:
URL:https://silverdalelutheran.org/event/joy-circle-4/
LOCATION:WA
CATEGORIES:Private Group
END:VEVENT
BEGIN:VEVENT
DTSTART;TZID=America/Los_Angeles:20251028T093000
DTEND;TZID=America/Los_Angeles:20251028T120000
DTSTAMP:20260422T153534
CREATED:20250929T194742Z
LAST-MODIFIED:20250929T194742Z
UID:10009722-1761643800-1761652800@silverdalelutheran.org
SUMMARY:Esther Circle (4)
DESCRIPTION:
URL:https://silverdalelutheran.org/event/esther-circle-4/
LOCATION:WA
CATEGORIES:Private Group
END:VEVENT
BEGIN:VEVENT
DTSTART;TZID=America/Los_Angeles:20251028T100000
DTEND;TZID=America/Los_Angeles:20251028T120000
DTSTAMP:20260422T153534
CREATED:20250929T195027Z
LAST-MODIFIED:20250929T195107Z
UID:10005617-1761645600-1761652800@silverdalelutheran.org
SUMMARY:Weekly Staff Meeting (HS)
DESCRIPTION:
URL:https://silverdalelutheran.org/event/weekly-staff-meeting-4-2/
LOCATION:WA
END:VEVENT
BEGIN:VEVENT
DTSTART;TZID=America/Los_Angeles:20251028T120000
DTEND;TZID=America/Los_Angeles:20251028T130000
DTSTAMP:20260422T153534
CREATED:20250929T180552Z
LAST-MODIFIED:20250929T180552Z
UID:10005878-1761652800-1761656400@silverdalelutheran.org
SUMMARY:Al-Anon (27)
DESCRIPTION:
URL:https://silverdalelutheran.org/event/al-anon-27/2025-10-28/
LOCATION:WA
END:VEVENT
BEGIN:VEVENT
DTSTART;TZID=America/Los_Angeles:20251028T130000
DTEND;TZID=America/Los_Angeles:20251028T143000
DTSTAMP:20260422T153534
CREATED:20250929T181025Z
LAST-MODIFIED:20250929T181025Z
UID:10006139-1761656400-1761661800@silverdalelutheran.org
SUMMARY:Pastor Text Study (4)
DESCRIPTION:
URL:https://silverdalelutheran.org/event/pastor-text-study-4/2025-10-28/
LOCATION:WA
END:VEVENT
BEGIN:VEVENT
DTSTART;TZID=America/Los_Angeles:20251028T180000
DTEND;TZID=America/Los_Angeles:20251028T200000
DTSTAMP:20260422T153534
CREATED:20250929T183535Z
LAST-MODIFIED:20250929T183620Z
UID:10008528-1761674400-1761681600@silverdalelutheran.org
SUMMARY:Antir.org (GP)
DESCRIPTION:
URL:https://silverdalelutheran.org/event/antir-org/2025-10-28/
LOCATION:WA
CATEGORIES:Private Group
END:VEVENT
BEGIN:VEVENT
DTSTART;TZID=America/Los_Angeles:20251028T183000
DTEND;TZID=America/Los_Angeles:20251028T203000
DTSTAMP:20260422T153534
CREATED:20250929T195350Z
LAST-MODIFIED:20250929T195350Z
UID:10009723-1761676200-1761683400@silverdalelutheran.org
SUMMARY:Scout Planning Meeting
DESCRIPTION:
URL:https://silverdalelutheran.org/event/scout-planning-meeting/2025-10-28/
LOCATION:WA
CATEGORIES:Private Group
END:VEVENT
BEGIN:VEVENT
DTSTART;TZID=America/Los_Angeles:20251028T190000
DTEND;TZID=America/Los_Angeles:20251028T203000
DTSTAMP:20260422T153534
CREATED:20250929T181247Z
LAST-MODIFIED:20250929T181247Z
UID:10006400-1761678000-1761683400@silverdalelutheran.org
SUMMARY:Hometown Band
DESCRIPTION:
URL:https://silverdalelutheran.org/event/hometown-band/2025-10-28/
LOCATION:WA
CATEGORIES:Private Group
END:VEVENT
BEGIN:VEVENT
DTSTART;TZID=America/Los_Angeles:20251028T190000
DTEND;TZID=America/Los_Angeles:20251028T203000
DTSTAMP:20260422T153534
CREATED:20250929T195516Z
LAST-MODIFIED:20250929T195516Z
UID:10009783-1761678000-1761683400@silverdalelutheran.org
SUMMARY:Barnabas Book Club (Private residence)
DESCRIPTION:
URL:https://silverdalelutheran.org/event/barnabas-book-club-private-residence/2025-10-28/
LOCATION:WA
CATEGORIES:Private Group
END:VEVENT
BEGIN:VEVENT
DTSTART;TZID=America/Los_Angeles:20251029T103000
DTEND;TZID=America/Los_Angeles:20251029T120000
DTSTAMP:20260422T153534
CREATED:20250917T164917Z
LAST-MODIFIED:20250917T164917Z
UID:10001376-1761733800-1761739200@silverdalelutheran.org
SUMMARY:Manna Bible Study
DESCRIPTION:Manna Bible Study meets on Wednesdays at 10:30am to discuss the texts for the upcoming Sunday Worship Service. \nThis class meets at 10:30am in room 4 (main building) of Silverdale Lutheran Church – you can also join via Zoom. \nClick to view past recordings
URL:https://silverdalelutheran.org/event/manna-bible-study/2025-10-29/
LOCATION:Silverdale Lutheran Church\, 11701 Ridgepoint Dr NW\, Silverdale\, WA\, 98383\, United States
END:VEVENT
BEGIN:VEVENT
DTSTART;TZID=America/Los_Angeles:20251029T120000
DTEND;TZID=America/Los_Angeles:20251029T130000
DTSTAMP:20260422T153534
CREATED:20250917T165143Z
LAST-MODIFIED:20250918T155352Z
UID:10001637-1761739200-1761742800@silverdalelutheran.org
SUMMARY:Hearty Meals
DESCRIPTION:Hearty Meals is a free in-person lunch every Wednesday from noon-1pm every Wednesday.  All are welcome.
URL:https://silverdalelutheran.org/event/hearty-meals/2025-10-29/
LOCATION:Silverdale Lutheran Church\, 11701 Ridgepoint Dr NW\, Silverdale\, WA\, 98383\, United States
CATEGORIES:Community Event
END:VEVENT
BEGIN:VEVENT
DTSTART;TZID=America/Los_Angeles:20251029T133000
DTEND;TZID=America/Los_Angeles:20251029T150000
DTSTAMP:20260422T153534
CREATED:20250929T195839Z
LAST-MODIFIED:20250929T195839Z
UID:10009843-1761744600-1761750000@silverdalelutheran.org
SUMMARY:Historical Group (FH)
DESCRIPTION:
URL:https://silverdalelutheran.org/event/historical-group-fh/
LOCATION:WA
CATEGORIES:Private Group
END:VEVENT
END:VCALENDAR