BEGIN:VCALENDAR
VERSION:2.0
PRODID:-//Silverdale Lutheran Church - ECPv6.15.12.2//NONSGML v1.0//EN
CALSCALE:GREGORIAN
METHOD:PUBLISH
X-ORIGINAL-URL:https://silverdalelutheran.org
X-WR-CALDESC:Events for Silverdale Lutheran Church
REFRESH-INTERVAL;VALUE=DURATION:PT1H
X-Robots-Tag:noindex
X-PUBLISHED-TTL:PT1H
BEGIN:VTIMEZONE
TZID:America/Los_Angeles
BEGIN:DAYLIGHT
TZOFFSETFROM:-0800
TZOFFSETTO:-0700
TZNAME:PDT
DTSTART:20240310T100000
END:DAYLIGHT
BEGIN:STANDARD
TZOFFSETFROM:-0700
TZOFFSETTO:-0800
TZNAME:PST
DTSTART:20241103T090000
END:STANDARD
BEGIN:DAYLIGHT
TZOFFSETFROM:-0800
TZOFFSETTO:-0700
TZNAME:PDT
DTSTART:20250309T100000
END:DAYLIGHT
BEGIN:STANDARD
TZOFFSETFROM:-0700
TZOFFSETTO:-0800
TZNAME:PST
DTSTART:20251102T090000
END:STANDARD
BEGIN:DAYLIGHT
TZOFFSETFROM:-0800
TZOFFSETTO:-0700
TZNAME:PDT
DTSTART:20260308T100000
END:DAYLIGHT
BEGIN:STANDARD
TZOFFSETFROM:-0700
TZOFFSETTO:-0800
TZNAME:PST
DTSTART:20261101T090000
END:STANDARD
END:VTIMEZONE
BEGIN:VEVENT
DTSTART;TZID=America/Los_Angeles:20251114T080000
DTEND;TZID=America/Los_Angeles:20251114T090000
DTSTAMP:20260421T124008
CREATED:20250918T174712Z
LAST-MODIFIED:20250918T174713Z
UID:10003992-1763107200-1763110800@silverdalelutheran.org
SUMMARY:Men's Prayer Breakfast
DESCRIPTION:The Men’s Prayer Breakfast is about being fed with food for the body AND the soul. We pray for those in need\, have a short Bible study and breakfast with fellowship together. We meet every Friday morning at 8am at the Silverdale Bowling Alley. All men are welcome to please join us!
URL:https://silverdalelutheran.org/event/mens-prayer-breakfast/2025-11-14/
LOCATION:Silverdale Bowling Alley\, 10710 Silverdale Way NW\, Silverdale\, WA\, 98383
CATEGORIES:Community Event
END:VEVENT
BEGIN:VEVENT
DTSTART;TZID=America/Los_Angeles:20251116T083000
DTEND;TZID=America/Los_Angeles:20251116T093000
DTSTAMP:20260421T124008
CREATED:20250916T203047Z
LAST-MODIFIED:20250929T182545Z
UID:10007888-1763281800-1763285400@silverdalelutheran.org
SUMMARY:Sunday Worship - Early Service 8:30am
DESCRIPTION:Join us for Sunday Worship.\n8:30 am – Early Service\nSunday School for all ages between services
URL:https://silverdalelutheran.org/event/sunday-worship-830am-2/2025-11-16/
LOCATION:Silverdale Lutheran Church\, 11701 Ridgepoint Dr NW\, Silverdale\, WA\, 98383\, United States
END:VEVENT
BEGIN:VEVENT
DTSTART;TZID=America/Los_Angeles:20251116T094500
DTEND;TZID=America/Los_Angeles:20251116T104500
DTSTAMP:20260421T124008
CREATED:20250929T182919Z
LAST-MODIFIED:20250929T182919Z
UID:10008149-1763286300-1763289900@silverdalelutheran.org
SUMMARY:PB's Sunday Adult Education Class
DESCRIPTION:
URL:https://silverdalelutheran.org/event/pbs-sunday-adult-education-class/2025-11-16/
LOCATION:Silverdale Lutheran Church\, 11701 Ridgepoint Dr NW\, Silverdale\, WA\, 98383\, United States
END:VEVENT
BEGIN:VEVENT
DTSTART;TZID=America/Los_Angeles:20251116T110000
DTEND;TZID=America/Los_Angeles:20251116T120000
DTSTAMP:20260421T124008
CREATED:20250916T203317Z
LAST-MODIFIED:20250918T174943Z
UID:10001057-1763290800-1763294400@silverdalelutheran.org
SUMMARY:Sunday Worship - Late Service - 11:00 am
DESCRIPTION:Join us for Sunday Worship.\n11:00 am – Late Service\nSunday School for all ages between services
URL:https://silverdalelutheran.org/event/sunday-worship-1100-am/2025-11-16/
LOCATION:Silverdale Lutheran Church\, 11701 Ridgepoint Dr NW\, Silverdale\, WA\, 98383\, United States
CATEGORIES:Worship
END:VEVENT
BEGIN:VEVENT
DTSTART;TZID=America/Los_Angeles:20251116T190000
DTEND;TZID=America/Los_Angeles:20251116T203000
DTSTAMP:20260421T124008
CREATED:20250918T175222Z
LAST-MODIFIED:20250918T175552Z
UID:10004253-1763319600-1763325000@silverdalelutheran.org
SUMMARY:High School Youth Night
DESCRIPTION:SLY is our high school youth group that meets from 7-8:30pm on Sunday nights in the Gathering Place. This group often has additional opportunities to hang out and grow in their faith. Some of these experiences include acts of service\, backpacking\, retreats\, and fun!
URL:https://silverdalelutheran.org/event/high-school-youth-night/2025-11-16/
LOCATION:Silverdale Lutheran – Gathering Place\, 11701 Ridgepoint Dr NW\, Silverdale\, WA\, 98383\, United States
CATEGORIES:High School
ORGANIZER;CN="Jessica Voigt":MAILTO:jvoigt@silverdalelutheran.org
END:VEVENT
BEGIN:VEVENT
DTSTART;TZID=America/Los_Angeles:20251117T083000
DTEND;TZID=America/Los_Angeles:20251118T113000
DTSTAMP:20260421T124008
CREATED:20250929T180033Z
LAST-MODIFIED:20250929T191603Z
UID:10009042-1763368200-1763465400@silverdalelutheran.org
SUMMARY:Bible Study Fellowship (GP\, 21-23\, N)
DESCRIPTION:
URL:https://silverdalelutheran.org/event/bible-study-fellowship-gp-21-23-n-2/2025-11-17/
LOCATION:WA
CATEGORIES:Private Group
END:VEVENT
BEGIN:VEVENT
DTSTART;TZID=America/Los_Angeles:20251117T090000
DTEND;TZID=America/Los_Angeles:20251117T120000
DTSTAMP:20260421T124008
CREATED:20250918T180712Z
LAST-MODIFIED:20250918T181755Z
UID:10004514-1763370000-1763380800@silverdalelutheran.org
SUMMARY:Ties That Bind
DESCRIPTION:A ministry started in 1969\, Silverdale Lutheran Church Quilters gather every Monday morning in the Fellowship Hall to create quilts to share with those in need of warmth. Each year the quilters will sew hundreds of quilts that are shipped to Lutheran World Relief for distribution across the world and additional quilts that are shared within our community. All are welcome to join in this creative work. Silverdale Lutheran Church supports this ministry with monetary and in-kind donations\, along with the helping hands of many volunteers.
URL:https://silverdalelutheran.org/event/ties-that-bind/2025-11-17/
LOCATION:Silverdale Lutheran Church\, 11701 Ridgepoint Dr NW\, Silverdale\, WA\, 98383\, United States
CATEGORIES:Community Event
ATTACH;FMTTYPE=image/jpeg:https://silverdalelutheran.org/wp-content/uploads/2025/09/Ties-That-Bind-1280-x-720-px.jpg
END:VEVENT
BEGIN:VEVENT
DTSTART;TZID=America/Los_Angeles:20251117T183000
DTEND;TZID=America/Los_Angeles:20251117T200000
DTSTAMP:20260421T124008
CREATED:20250918T184454Z
LAST-MODIFIED:20251222T203944Z
UID:10004836-1763404200-1763409600@silverdalelutheran.org
SUMMARY:Boy Scouts Troop 1541
DESCRIPTION:Boy Scout Troop 1541 Meets on Mondays at 6:30pm \nBoy Scouts of Ameria – A troop includes youth\, typically aged 11-17\, who participate in outdoor activities\, community service\, and leadership development through a patrol-based structure. Led by youth leaders and guided by adult leaders like a Scoutmaster\, each troop operates on the “Patrol Method\,” where small\, tight-knit patrols plan and execute programs to foster character\, citizenship\, and practical skills through a youth-led model. \nFor more information on BSA visit  https://www.scouting.org/programs/scouts-bsa/ \nQuestions? Contact Scoutmaster JJ Story
URL:https://silverdalelutheran.org/event/boy-scouts-troop-1541/2025-11-17/
LOCATION:Silverdale Lutheran – Gathering Place\, 11701 Ridgepoint Dr NW\, Silverdale\, WA\, 98383\, United States
ATTACH;FMTTYPE=image/png:https://silverdalelutheran.org/wp-content/uploads/2025/09/Boy-Scout-event-Logo.png
END:VEVENT
BEGIN:VEVENT
DTSTART;TZID=America/Los_Angeles:20251117T183000
DTEND;TZID=America/Los_Angeles:20251117T200000
DTSTAMP:20260421T124008
CREATED:20250929T193634Z
LAST-MODIFIED:20250929T193634Z
UID:10009422-1763404200-1763409600@silverdalelutheran.org
SUMMARY:GSWW Leaders Meeting (4)
DESCRIPTION:
URL:https://silverdalelutheran.org/event/gsww-leaders-meeting-4/2025-11-17/
LOCATION:WA
CATEGORIES:Private Group
END:VEVENT
BEGIN:VEVENT
DTSTART;TZID=America/Los_Angeles:20251118T100000
DTEND;TZID=America/Los_Angeles:20251118T120000
DTSTAMP:20260421T124008
CREATED:20250929T180205Z
LAST-MODIFIED:20250929T180233Z
UID:10005620-1763460000-1763467200@silverdalelutheran.org
SUMMARY:Weekly Staff Meeting (4)
DESCRIPTION:
URL:https://silverdalelutheran.org/event/weekly-staff-meeting-4/2025-11-18/
LOCATION:WA
END:VEVENT
BEGIN:VEVENT
DTSTART;TZID=America/Los_Angeles:20251118T120000
DTEND;TZID=America/Los_Angeles:20251118T130000
DTSTAMP:20260421T124008
CREATED:20250929T180552Z
LAST-MODIFIED:20250929T180552Z
UID:10005881-1763467200-1763470800@silverdalelutheran.org
SUMMARY:Al-Anon (27)
DESCRIPTION:
URL:https://silverdalelutheran.org/event/al-anon-27/2025-11-18/
LOCATION:WA
END:VEVENT
BEGIN:VEVENT
DTSTART;TZID=America/Los_Angeles:20251118T130000
DTEND;TZID=America/Los_Angeles:20251118T143000
DTSTAMP:20260421T124008
CREATED:20250929T181025Z
LAST-MODIFIED:20250929T181025Z
UID:10006142-1763470800-1763476200@silverdalelutheran.org
SUMMARY:Pastor Text Study (4)
DESCRIPTION:
URL:https://silverdalelutheran.org/event/pastor-text-study-4/2025-11-18/
LOCATION:WA
END:VEVENT
BEGIN:VEVENT
DTSTART;TZID=America/Los_Angeles:20251118T180000
DTEND;TZID=America/Los_Angeles:20251118T200000
DTSTAMP:20260421T124008
CREATED:20250929T183535Z
LAST-MODIFIED:20250929T183620Z
UID:10008531-1763488800-1763496000@silverdalelutheran.org
SUMMARY:Antir.org (GP)
DESCRIPTION:
URL:https://silverdalelutheran.org/event/antir-org/2025-11-18/
LOCATION:WA
CATEGORIES:Private Group
END:VEVENT
BEGIN:VEVENT
DTSTART;TZID=America/Los_Angeles:20251118T190000
DTEND;TZID=America/Los_Angeles:20251118T203000
DTSTAMP:20260421T124008
CREATED:20250929T181247Z
LAST-MODIFIED:20250929T181247Z
UID:10006403-1763492400-1763497800@silverdalelutheran.org
SUMMARY:Hometown Band
DESCRIPTION:
URL:https://silverdalelutheran.org/event/hometown-band/2025-11-18/
LOCATION:WA
CATEGORIES:Private Group
END:VEVENT
BEGIN:VEVENT
DTSTART;TZID=America/Los_Angeles:20251118T190000
DTEND;TZID=America/Los_Angeles:20251118T210000
DTSTAMP:20260421T124008
CREATED:20250929T193807Z
LAST-MODIFIED:20250929T193852Z
UID:10009482-1763492400-1763499600@silverdalelutheran.org
SUMMARY:Compassionate Friends (4)
DESCRIPTION:
URL:https://silverdalelutheran.org/event/compassionate-friend-4/2025-11-18/
LOCATION:WA
CATEGORIES:Private Group
END:VEVENT
BEGIN:VEVENT
DTSTART;TZID=America/Los_Angeles:20251119T103000
DTEND;TZID=America/Los_Angeles:20251119T120000
DTSTAMP:20260421T124008
CREATED:20250917T164917Z
LAST-MODIFIED:20250917T164917Z
UID:10001379-1763548200-1763553600@silverdalelutheran.org
SUMMARY:Manna Bible Study
DESCRIPTION:Manna Bible Study meets on Wednesdays at 10:30am to discuss the texts for the upcoming Sunday Worship Service. \nThis class meets at 10:30am in room 4 (main building) of Silverdale Lutheran Church – you can also join via Zoom. \nClick to view past recordings
URL:https://silverdalelutheran.org/event/manna-bible-study/2025-11-19/
LOCATION:Silverdale Lutheran Church\, 11701 Ridgepoint Dr NW\, Silverdale\, WA\, 98383\, United States
END:VEVENT
BEGIN:VEVENT
DTSTART;TZID=America/Los_Angeles:20251119T120000
DTEND;TZID=America/Los_Angeles:20251119T130000
DTSTAMP:20260421T124008
CREATED:20250917T165143Z
LAST-MODIFIED:20250918T155352Z
UID:10001640-1763553600-1763557200@silverdalelutheran.org
SUMMARY:Hearty Meals
DESCRIPTION:Hearty Meals is a free in-person lunch every Wednesday from noon-1pm every Wednesday.  All are welcome.
URL:https://silverdalelutheran.org/event/hearty-meals/2025-11-19/
LOCATION:Silverdale Lutheran Church\, 11701 Ridgepoint Dr NW\, Silverdale\, WA\, 98383\, United States
CATEGORIES:Community Event
END:VEVENT
BEGIN:VEVENT
DTSTART;TZID=America/Los_Angeles:20251119T130000
DTEND;TZID=America/Los_Angeles:20251119T140000
DTSTAMP:20260421T124008
CREATED:20250929T192040Z
LAST-MODIFIED:20250929T192040Z
UID:10009359-1763557200-1763560800@silverdalelutheran.org
SUMMARY:Parkinsons group (St)
DESCRIPTION:Monthly on the third Wednesday
URL:https://silverdalelutheran.org/event/parkinsons-group-st/2025-11-19/
LOCATION:Silverdale Lutheran Church\, 11701 Ridgepoint Dr NW\, Silverdale\, WA\, 98383\, United States
CATEGORIES:Private Group
END:VEVENT
BEGIN:VEVENT
DTSTART;TZID=America/Los_Angeles:20251119T160000
DTEND;TZID=America/Los_Angeles:20251119T170000
DTSTAMP:20260421T124008
CREATED:20250929T183733Z
LAST-MODIFIED:20250929T183733Z
UID:10008788-1763568000-1763571600@silverdalelutheran.org
SUMMARY:Bible Study (St)
DESCRIPTION:Every 2 weeks
URL:https://silverdalelutheran.org/event/bible-study-st-2/2025-11-19/
LOCATION:WA
END:VEVENT
BEGIN:VEVENT
DTSTART;TZID=America/Los_Angeles:20251119T183000
DTEND;TZID=America/Los_Angeles:20251119T200000
DTSTAMP:20260421T124008
CREATED:20250916T201057Z
LAST-MODIFIED:20250918T155219Z
UID:10000012-1763577000-1763582400@silverdalelutheran.org
SUMMARY:middle youth night
DESCRIPTION:What: Youth Night\nWho:  6th – 8th grade\nWhen: Every Wednesday night from 6:30pm – 8pm\nWhere:  Gathering Place at SLC\n 
URL:https://silverdalelutheran.org/event/middle-youth-night/2025-11-19/
LOCATION:Silverdale Lutheran – Gathering Place\, 11701 Ridgepoint Dr NW\, Silverdale\, WA\, 98383\, United States
ORGANIZER;CN="Jessica Voigt":MAILTO:jvoigt@silverdalelutheran.org
END:VEVENT
BEGIN:VEVENT
DTSTART;TZID=America/Los_Angeles:20251119T190000
DTEND;TZID=America/Los_Angeles:20251119T200000
DTSTAMP:20260421T124008
CREATED:20250917T165813Z
LAST-MODIFIED:20250918T155059Z
UID:10001901-1763578800-1763582400@silverdalelutheran.org
SUMMARY:Sanctuary Choir Practice
DESCRIPTION:SLC has a rich variety of musical styles in worship. Sanctuary Choir practices in the Sanctuary – one hour a week.  They generally sing for worship once or twice a month. \nFor more information contact Justin Cormier \nMusic Ministries \n  \n 
URL:https://silverdalelutheran.org/event/sanctuary-choir-practice/2025-11-19/
LOCATION:Silverdale Lutheran Church\, 11701 Ridgepoint Dr NW\, Silverdale\, WA\, 98383\, United States
END:VEVENT
BEGIN:VEVENT
DTSTART;TZID=America/Los_Angeles:20251120T083000
DTEND;TZID=America/Los_Angeles:20251120T113000
DTSTAMP:20260421T124008
CREATED:20250929T181743Z
LAST-MODIFIED:20250929T181743Z
UID:10006985-1763627400-1763638200@silverdalelutheran.org
SUMMARY:Bible Study Fellowship (S\, 21-23)
DESCRIPTION:
URL:https://silverdalelutheran.org/event/bible-study-fellowship-s-21-23/2025-11-20/
LOCATION:WA
CATEGORIES:Private Group
END:VEVENT
BEGIN:VEVENT
DTSTART;TZID=America/Los_Angeles:20251120T103000
DTEND;TZID=America/Los_Angeles:20251120T120000
DTSTAMP:20260421T124008
CREATED:20250917T170040Z
LAST-MODIFIED:20250918T155018Z
UID:10002162-1763634600-1763640000@silverdalelutheran.org
SUMMARY:PB's Thursday Bible Study
DESCRIPTION:PB’s Thursday Bible StudyThe Gospel of John\n\n\nThis year PB’s Thursday Bible Study will walk through the Gospel of John.  This Gospel is often said to be a more “theological” Gospel than the synoptic Gospels (Matthew\, Mark\, and Luke).  One way to look at it is this: The Gospel of John is written in such a way that we will now not miss what many did.  It is a well known fact that the Gospel according to John was Luther’s most loved Gospel.  Come and take a deep dive into this amazing Gospel that truly does deliver God’s mercy and grace in Christ Jesus.  We hope to cover about a ½ chapter in each session and finish by the end of next summer! \nThis class meets in Fellowship Hall Thursday mornings.  You can also join in via ZOOM
URL:https://silverdalelutheran.org/event/pbs-thursday-bible-study/2025-11-20/
LOCATION:Silverdale Lutheran Church\, 11701 Ridgepoint Dr NW\, Silverdale\, WA\, 98383\, United States
END:VEVENT
BEGIN:VEVENT
DTSTART;TZID=America/Los_Angeles:20251120T120000
DTEND;TZID=America/Los_Angeles:20251120T130000
DTSTAMP:20260421T124008
CREATED:20250917T170332Z
LAST-MODIFIED:20250918T154936Z
UID:10002423-1763640000-1763643600@silverdalelutheran.org
SUMMARY:Song of the Church
DESCRIPTION:Song of the Church \n\n\nThis group is a bit like “Choir-lite.” We meet weekly Thursdays at noon and do vocal exercises. Then we study and rehearse the upcoming Sunday’s hymns and songs. Song of the Church is a good opportunity to exercise the voice and to dive deeper into the rich musical tradition of the church. No audition or experience is required for this singing\, and there is no performance obligation. \nMeets in the Sanctuary at Silverdale Lutheran Church.  Questions?  Contact Music Director Justin Cormier
URL:https://silverdalelutheran.org/event/song-of-the-church/2025-11-20/
LOCATION:Silverdale Lutheran Church\, 11701 Ridgepoint Dr NW\, Silverdale\, WA\, 98383\, United States
END:VEVENT
BEGIN:VEVENT
DTSTART;TZID=America/Los_Angeles:20251120T130000
DTEND;TZID=America/Los_Angeles:20251120T140000
DTSTAMP:20260421T124008
CREATED:20250917T170554Z
LAST-MODIFIED:20250918T154844Z
UID:10002684-1763643600-1763647200@silverdalelutheran.org
SUMMARY:Our'Chestra
DESCRIPTION:An ensemble of synthesizers and acoustic instruments\, rehearses weekly and plays for worship once per month. We play hymns and classical repertoire. \nMeets in either the Sanctuary or one of the GP Classrooms. \nQuestions?  Contact Music Director Justin Cormier
URL:https://silverdalelutheran.org/event/ourchestra/2025-11-20/
LOCATION:Silverdale Lutheran Church\, 11701 Ridgepoint Dr NW\, Silverdale\, WA\, 98383\, United States
ORGANIZER;CN="Justin Cormier":MAILTO:jcormier@silverdalelutheran.org
END:VEVENT
BEGIN:VEVENT
DTSTART;TZID=America/Los_Angeles:20251120T130000
DTEND;TZID=America/Los_Angeles:20251120T140000
DTSTAMP:20260421T124008
CREATED:20250917T171720Z
LAST-MODIFIED:20250917T171720Z
UID:10003206-1763643600-1763647200@silverdalelutheran.org
SUMMARY:Faith and Fellowship for Older Men (St)
DESCRIPTION:Fellowship and Faith for Older Men  \nThis time of fellowship is offered to older men looking to connect with each other and with God and faith. \nEnrollment:     3 openings \nWhen:              Weekly on Thursdays 1 p.m. to 2:30 p.m. \nWhere:             Library at Silverdale Lutheran Church \nContact:           Doug Hazen at (360) 692 0208 or doughazen1234@gmail.com
URL:https://silverdalelutheran.org/event/faith-and-fellowship-for-older-men-st/2025-11-20/
LOCATION:Silverdale Lutheran Church\, 11701 Ridgepoint Dr NW\, Silverdale\, WA\, 98383\, United States
END:VEVENT
BEGIN:VEVENT
DTSTART;TZID=America/Los_Angeles:20251120T173000
DTEND;TZID=America/Los_Angeles:20251120T183000
DTSTAMP:20260421T124008
CREATED:20250917T171148Z
LAST-MODIFIED:20250918T154753Z
UID:10002945-1763659800-1763663400@silverdalelutheran.org
SUMMARY:SLiCk Pickers
DESCRIPTION:A bluegrass-style band that rehearses weekly and plays worship once a month. \nMeets in the Sanctuary for Practice one hour a week.
URL:https://silverdalelutheran.org/event/slick-pickers/2025-11-20/
LOCATION:Silverdale Lutheran Church\, 11701 Ridgepoint Dr NW\, Silverdale\, WA\, 98383\, United States
ORGANIZER;CN="Justin Cormier":MAILTO:jcormier@silverdalelutheran.org
END:VEVENT
BEGIN:VEVENT
DTSTART;TZID=America/Los_Angeles:20251120T183000
DTEND;TZID=America/Los_Angeles:20251120T193000
DTSTAMP:20260421T124008
CREATED:20250917T171921Z
LAST-MODIFIED:20250918T154719Z
UID:10003467-1763663400-1763667000@silverdalelutheran.org
SUMMARY:Cubscout Den Mtg (GP Classrooms)
DESCRIPTION:Cubscout Den meets in GP every Thursday with exception to 2nd Thursday’s of month. \nFor more information please see:  https://silverdalelutheran.org/scouting/
URL:https://silverdalelutheran.org/event/cubscout-den-mtg-gp-classrooms/2025-11-20/
LOCATION:Silverdale Lutheran – Gathering Place\, 11701 Ridgepoint Dr NW\, Silverdale\, WA\, 98383\, United States
END:VEVENT
BEGIN:VEVENT
DTSTART;TZID=America/Los_Angeles:20251120T184500
DTEND;TZID=America/Los_Angeles:20251120T193000
DTSTAMP:20260421T124008
CREATED:20250917T172054Z
LAST-MODIFIED:20250918T154645Z
UID:10003728-1763664300-1763667000@silverdalelutheran.org
SUMMARY:Alleluia Ringers (S)
DESCRIPTION:Handbell choir rehearses weekly. This ministry is open to anyone Junior High age and older and is an excellent ministry for those who already read music rhythms. If you haven’t played handbells before\, we’ll teach you! \n 
URL:https://silverdalelutheran.org/event/alleluia-ringers-s/2025-11-20/
LOCATION:Silverdale Lutheran Church\, 11701 Ridgepoint Dr NW\, Silverdale\, WA\, 98383\, United States
ORGANIZER;CN="Justin Cormier":MAILTO:jcormier@silverdalelutheran.org
END:VEVENT
BEGIN:VEVENT
DTSTART;TZID=America/Los_Angeles:20251120T190000
DTEND;TZID=America/Los_Angeles:20251120T200000
DTSTAMP:20260421T124008
CREATED:20250929T182215Z
LAST-MODIFIED:20250929T182215Z
UID:10007507-1763665200-1763668800@silverdalelutheran.org
SUMMARY:Venture Scouting (23)
DESCRIPTION:
URL:https://silverdalelutheran.org/event/venture-scouting-23/2025-11-20/
LOCATION:Silverdale Lutheran – Gathering Place\, 11701 Ridgepoint Dr NW\, Silverdale\, WA\, 98383\, United States
END:VEVENT
END:VCALENDAR