BEGIN:VCALENDAR
VERSION:2.0
PRODID:-//Silverdale Lutheran Church - ECPv6.15.12.2//NONSGML v1.0//EN
CALSCALE:GREGORIAN
METHOD:PUBLISH
X-WR-CALNAME:Silverdale Lutheran Church
X-ORIGINAL-URL:https://silverdalelutheran.org
X-WR-CALDESC:Events for Silverdale Lutheran Church
REFRESH-INTERVAL;VALUE=DURATION:PT1H
X-Robots-Tag:noindex
X-PUBLISHED-TTL:PT1H
BEGIN:VTIMEZONE
TZID:America/Los_Angeles
BEGIN:DAYLIGHT
TZOFFSETFROM:-0800
TZOFFSETTO:-0700
TZNAME:PDT
DTSTART:20240310T100000
END:DAYLIGHT
BEGIN:STANDARD
TZOFFSETFROM:-0700
TZOFFSETTO:-0800
TZNAME:PST
DTSTART:20241103T090000
END:STANDARD
BEGIN:DAYLIGHT
TZOFFSETFROM:-0800
TZOFFSETTO:-0700
TZNAME:PDT
DTSTART:20250309T100000
END:DAYLIGHT
BEGIN:STANDARD
TZOFFSETFROM:-0700
TZOFFSETTO:-0800
TZNAME:PST
DTSTART:20251102T090000
END:STANDARD
BEGIN:DAYLIGHT
TZOFFSETFROM:-0800
TZOFFSETTO:-0700
TZNAME:PDT
DTSTART:20260308T100000
END:DAYLIGHT
BEGIN:STANDARD
TZOFFSETFROM:-0700
TZOFFSETTO:-0800
TZNAME:PST
DTSTART:20261101T090000
END:STANDARD
END:VTIMEZONE
BEGIN:VEVENT
DTSTART;TZID=America/Los_Angeles:20251015T183000
DTEND;TZID=America/Los_Angeles:20251015T200000
DTSTAMP:20260422T154428
CREATED:20250916T201057Z
LAST-MODIFIED:20250918T155219Z
UID:10000007-1760553000-1760558400@silverdalelutheran.org
SUMMARY:middle youth night
DESCRIPTION:What: Youth Night\nWho:  6th – 8th grade\nWhen: Every Wednesday night from 6:30pm – 8pm\nWhere:  Gathering Place at SLC\n 
URL:https://silverdalelutheran.org/event/middle-youth-night/2025-10-15/
LOCATION:Silverdale Lutheran – Gathering Place\, 11701 Ridgepoint Dr NW\, Silverdale\, WA\, 98383\, United States
ORGANIZER;CN="Jessica Voigt":MAILTO:jvoigt@silverdalelutheran.org
END:VEVENT
BEGIN:VEVENT
DTSTART;TZID=America/Los_Angeles:20251015T190000
DTEND;TZID=America/Los_Angeles:20251015T200000
DTSTAMP:20260422T154428
CREATED:20250917T165813Z
LAST-MODIFIED:20250918T155059Z
UID:10001896-1760554800-1760558400@silverdalelutheran.org
SUMMARY:Sanctuary Choir Practice
DESCRIPTION:SLC has a rich variety of musical styles in worship. Sanctuary Choir practices in the Sanctuary – one hour a week.  They generally sing for worship once or twice a month. \nFor more information contact Justin Cormier \nMusic Ministries \n  \n 
URL:https://silverdalelutheran.org/event/sanctuary-choir-practice/2025-10-15/
LOCATION:Silverdale Lutheran Church\, 11701 Ridgepoint Dr NW\, Silverdale\, WA\, 98383\, United States
END:VEVENT
BEGIN:VEVENT
DTSTART;TZID=America/Los_Angeles:20251016T083000
DTEND;TZID=America/Los_Angeles:20251016T113000
DTSTAMP:20260422T154428
CREATED:20250929T181743Z
LAST-MODIFIED:20250929T181743Z
UID:10006980-1760603400-1760614200@silverdalelutheran.org
SUMMARY:Bible Study Fellowship (S\, 21-23)
DESCRIPTION:
URL:https://silverdalelutheran.org/event/bible-study-fellowship-s-21-23/2025-10-16/
LOCATION:WA
CATEGORIES:Private Group
END:VEVENT
BEGIN:VEVENT
DTSTART;TZID=America/Los_Angeles:20251016T103000
DTEND;TZID=America/Los_Angeles:20251016T120000
DTSTAMP:20260422T154428
CREATED:20250917T170040Z
LAST-MODIFIED:20250918T155018Z
UID:10002157-1760610600-1760616000@silverdalelutheran.org
SUMMARY:PB's Thursday Bible Study
DESCRIPTION:PB’s Thursday Bible StudyThe Gospel of John\n\n\nThis year PB’s Thursday Bible Study will walk through the Gospel of John.  This Gospel is often said to be a more “theological” Gospel than the synoptic Gospels (Matthew\, Mark\, and Luke).  One way to look at it is this: The Gospel of John is written in such a way that we will now not miss what many did.  It is a well known fact that the Gospel according to John was Luther’s most loved Gospel.  Come and take a deep dive into this amazing Gospel that truly does deliver God’s mercy and grace in Christ Jesus.  We hope to cover about a ½ chapter in each session and finish by the end of next summer! \nThis class meets in Fellowship Hall Thursday mornings.  You can also join in via ZOOM
URL:https://silverdalelutheran.org/event/pbs-thursday-bible-study/2025-10-16/
LOCATION:Silverdale Lutheran Church\, 11701 Ridgepoint Dr NW\, Silverdale\, WA\, 98383\, United States
END:VEVENT
BEGIN:VEVENT
DTSTART;TZID=America/Los_Angeles:20251016T120000
DTEND;TZID=America/Los_Angeles:20251016T130000
DTSTAMP:20260422T154428
CREATED:20250917T170332Z
LAST-MODIFIED:20250918T154936Z
UID:10002418-1760616000-1760619600@silverdalelutheran.org
SUMMARY:Song of the Church
DESCRIPTION:Song of the Church \n\n\nThis group is a bit like “Choir-lite.” We meet weekly Thursdays at noon and do vocal exercises. Then we study and rehearse the upcoming Sunday’s hymns and songs. Song of the Church is a good opportunity to exercise the voice and to dive deeper into the rich musical tradition of the church. No audition or experience is required for this singing\, and there is no performance obligation. \nMeets in the Sanctuary at Silverdale Lutheran Church.  Questions?  Contact Music Director Justin Cormier
URL:https://silverdalelutheran.org/event/song-of-the-church/2025-10-16/
LOCATION:Silverdale Lutheran Church\, 11701 Ridgepoint Dr NW\, Silverdale\, WA\, 98383\, United States
END:VEVENT
BEGIN:VEVENT
DTSTART;TZID=America/Los_Angeles:20251016T130000
DTEND;TZID=America/Los_Angeles:20251016T140000
DTSTAMP:20260422T154428
CREATED:20250917T170554Z
LAST-MODIFIED:20250918T154844Z
UID:10002679-1760619600-1760623200@silverdalelutheran.org
SUMMARY:Our'Chestra
DESCRIPTION:An ensemble of synthesizers and acoustic instruments\, rehearses weekly and plays for worship once per month. We play hymns and classical repertoire. \nMeets in either the Sanctuary or one of the GP Classrooms. \nQuestions?  Contact Music Director Justin Cormier
URL:https://silverdalelutheran.org/event/ourchestra/2025-10-16/
LOCATION:Silverdale Lutheran Church\, 11701 Ridgepoint Dr NW\, Silverdale\, WA\, 98383\, United States
ORGANIZER;CN="Justin Cormier":MAILTO:jcormier@silverdalelutheran.org
END:VEVENT
BEGIN:VEVENT
DTSTART;TZID=America/Los_Angeles:20251016T130000
DTEND;TZID=America/Los_Angeles:20251016T140000
DTSTAMP:20260422T154428
CREATED:20250917T171720Z
LAST-MODIFIED:20250917T171720Z
UID:10003201-1760619600-1760623200@silverdalelutheran.org
SUMMARY:Faith and Fellowship for Older Men (St)
DESCRIPTION:Fellowship and Faith for Older Men  \nThis time of fellowship is offered to older men looking to connect with each other and with God and faith. \nEnrollment:     3 openings \nWhen:              Weekly on Thursdays 1 p.m. to 2:30 p.m. \nWhere:             Library at Silverdale Lutheran Church \nContact:           Doug Hazen at (360) 692 0208 or doughazen1234@gmail.com
URL:https://silverdalelutheran.org/event/faith-and-fellowship-for-older-men-st/2025-10-16/
LOCATION:Silverdale Lutheran Church\, 11701 Ridgepoint Dr NW\, Silverdale\, WA\, 98383\, United States
END:VEVENT
BEGIN:VEVENT
DTSTART;TZID=America/Los_Angeles:20251016T173000
DTEND;TZID=America/Los_Angeles:20251016T183000
DTSTAMP:20260422T154428
CREATED:20250917T171148Z
LAST-MODIFIED:20250918T154753Z
UID:10002940-1760635800-1760639400@silverdalelutheran.org
SUMMARY:SLiCk Pickers
DESCRIPTION:A bluegrass-style band that rehearses weekly and plays worship once a month. \nMeets in the Sanctuary for Practice one hour a week.
URL:https://silverdalelutheran.org/event/slick-pickers/2025-10-16/
LOCATION:Silverdale Lutheran Church\, 11701 Ridgepoint Dr NW\, Silverdale\, WA\, 98383\, United States
ORGANIZER;CN="Justin Cormier":MAILTO:jcormier@silverdalelutheran.org
END:VEVENT
BEGIN:VEVENT
DTSTART;TZID=America/Los_Angeles:20251016T183000
DTEND;TZID=America/Los_Angeles:20251016T193000
DTSTAMP:20260422T154428
CREATED:20250917T171921Z
LAST-MODIFIED:20250918T154719Z
UID:10003462-1760639400-1760643000@silverdalelutheran.org
SUMMARY:Cubscout Den Mtg (GP Classrooms)
DESCRIPTION:Cubscout Den meets in GP every Thursday with exception to 2nd Thursday’s of month. \nFor more information please see:  https://silverdalelutheran.org/scouting/
URL:https://silverdalelutheran.org/event/cubscout-den-mtg-gp-classrooms/2025-10-16/
LOCATION:Silverdale Lutheran – Gathering Place\, 11701 Ridgepoint Dr NW\, Silverdale\, WA\, 98383\, United States
END:VEVENT
BEGIN:VEVENT
DTSTART;TZID=America/Los_Angeles:20251016T184500
DTEND;TZID=America/Los_Angeles:20251016T193000
DTSTAMP:20260422T154428
CREATED:20250917T172054Z
LAST-MODIFIED:20250918T154645Z
UID:10003723-1760640300-1760643000@silverdalelutheran.org
SUMMARY:Alleluia Ringers (S)
DESCRIPTION:Handbell choir rehearses weekly. This ministry is open to anyone Junior High age and older and is an excellent ministry for those who already read music rhythms. If you haven’t played handbells before\, we’ll teach you! \n 
URL:https://silverdalelutheran.org/event/alleluia-ringers-s/2025-10-16/
LOCATION:Silverdale Lutheran Church\, 11701 Ridgepoint Dr NW\, Silverdale\, WA\, 98383\, United States
ORGANIZER;CN="Justin Cormier":MAILTO:jcormier@silverdalelutheran.org
END:VEVENT
BEGIN:VEVENT
DTSTART;TZID=America/Los_Angeles:20251016T190000
DTEND;TZID=America/Los_Angeles:20251016T200000
DTSTAMP:20260422T154428
CREATED:20250929T182215Z
LAST-MODIFIED:20250929T182215Z
UID:10007502-1760641200-1760644800@silverdalelutheran.org
SUMMARY:Venture Scouting (23)
DESCRIPTION:
URL:https://silverdalelutheran.org/event/venture-scouting-23/2025-10-16/
LOCATION:Silverdale Lutheran – Gathering Place\, 11701 Ridgepoint Dr NW\, Silverdale\, WA\, 98383\, United States
END:VEVENT
BEGIN:VEVENT
DTSTART;TZID=America/Los_Angeles:20251017T080000
DTEND;TZID=America/Los_Angeles:20251017T090000
DTSTAMP:20260422T154428
CREATED:20250918T174712Z
LAST-MODIFIED:20250918T174713Z
UID:10003988-1760688000-1760691600@silverdalelutheran.org
SUMMARY:Men's Prayer Breakfast
DESCRIPTION:The Men’s Prayer Breakfast is about being fed with food for the body AND the soul. We pray for those in need\, have a short Bible study and breakfast with fellowship together. We meet every Friday morning at 8am at the Silverdale Bowling Alley. All men are welcome to please join us!
URL:https://silverdalelutheran.org/event/mens-prayer-breakfast/2025-10-17/
LOCATION:Silverdale Bowling Alley\, 10710 Silverdale Way NW\, Silverdale\, WA\, 98383
CATEGORIES:Community Event
END:VEVENT
BEGIN:VEVENT
DTSTART;TZID=America/Los_Angeles:20251017T180000
DTEND;TZID=America/Los_Angeles:20251017T180000
DTSTAMP:20260422T154428
CREATED:20250929T174117Z
LAST-MODIFIED:20250929T193511Z
UID:10001311-1760724000-1760724000@silverdalelutheran.org
SUMMARY:SLC Kids Youth Night
DESCRIPTION:SLC Kids Night meets once a month on the 3rd Friday.\n 
URL:https://silverdalelutheran.org/event/slc-kids-youth-night-2/
LOCATION:Silverdale Lutheran – Gathering Place\, 11701 Ridgepoint Dr NW\, Silverdale\, WA\, 98383\, United States
ATTACH;FMTTYPE=image/jpeg:https://silverdalelutheran.org/wp-content/uploads/2025/09/SLC-KIDS-SLIDES-October-Kids-Night-1.jpg
ORGANIZER;CN="Jessica Voigt":MAILTO:jvoigt@silverdalelutheran.org
END:VEVENT
BEGIN:VEVENT
DTSTART;TZID=America/Los_Angeles:20251017T180000
DTEND;TZID=America/Los_Angeles:20251017T190000
DTSTAMP:20260422T154428
CREATED:20250929T192305Z
LAST-MODIFIED:20250929T193359Z
UID:10009418-1760724000-1760727600@silverdalelutheran.org
SUMMARY:Oktoberfest (FH\,K) - Potluck
DESCRIPTION:We had so much fun last year! Dust off your lederhosen and dirndls. Bring out your beer steins and favorite German recipes. Bring your appetite for fun to join us for SLC’s 2nd Annual Octoberfest. \nWhen? Friday\, October 17th at 6:00. \nWhere? The Fellowship Hall \nWho? You with your family and friends \nWe’ll provide the brats\, buns and condiments. Sign up to bring German sides and desserts to the potluck. \nPerfect Potluck Sign up Link
URL:https://silverdalelutheran.org/event/oktoberfest-fhk-potluck/
LOCATION:Silverdale Lutheran Church\, 11701 Ridgepoint Dr NW\, Silverdale\, WA\, 98383\, United States
CATEGORIES:Community Event
ATTACH;FMTTYPE=image/jpeg:https://silverdalelutheran.org/wp-content/uploads/2025/09/Oktoberfest.jpg
END:VEVENT
BEGIN:VEVENT
DTSTART;TZID=America/Los_Angeles:20251018T103000
DTEND;TZID=America/Los_Angeles:20251018T120000
DTSTAMP:20260422T154428
CREATED:20250929T192532Z
LAST-MODIFIED:20250929T193308Z
UID:10009420-1760783400-1760788800@silverdalelutheran.org
SUMMARY:SLC Littles (GP)
DESCRIPTION:
URL:https://silverdalelutheran.org/event/slc-littles-gp/
LOCATION:Silverdale Lutheran – Gathering Place\, 11701 Ridgepoint Dr NW\, Silverdale\, WA\, 98383\, United States
CATEGORIES:Community Event
END:VEVENT
BEGIN:VEVENT
DTSTART;TZID=America/Los_Angeles:20251019T083000
DTEND;TZID=America/Los_Angeles:20251019T093000
DTSTAMP:20260422T154428
CREATED:20250916T203047Z
LAST-MODIFIED:20250929T182545Z
UID:10007884-1760862600-1760866200@silverdalelutheran.org
SUMMARY:Sunday Worship - Early Service 8:30am
DESCRIPTION:Join us for Sunday Worship.\n8:30 am – Early Service\nSunday School for all ages between services
URL:https://silverdalelutheran.org/event/sunday-worship-830am-2/2025-10-19/
LOCATION:Silverdale Lutheran Church\, 11701 Ridgepoint Dr NW\, Silverdale\, WA\, 98383\, United States
END:VEVENT
BEGIN:VEVENT
DTSTART;TZID=America/Los_Angeles:20251019T094500
DTEND;TZID=America/Los_Angeles:20251019T104500
DTSTAMP:20260422T154428
CREATED:20250929T182919Z
LAST-MODIFIED:20250929T182919Z
UID:10008145-1760867100-1760870700@silverdalelutheran.org
SUMMARY:PB's Sunday Adult Education Class
DESCRIPTION:
URL:https://silverdalelutheran.org/event/pbs-sunday-adult-education-class/2025-10-19/
LOCATION:Silverdale Lutheran Church\, 11701 Ridgepoint Dr NW\, Silverdale\, WA\, 98383\, United States
END:VEVENT
BEGIN:VEVENT
DTSTART;TZID=America/Los_Angeles:20251019T110000
DTEND;TZID=America/Los_Angeles:20251019T120000
DTSTAMP:20260422T154428
CREATED:20250916T203317Z
LAST-MODIFIED:20250918T174943Z
UID:10001053-1760871600-1760875200@silverdalelutheran.org
SUMMARY:Sunday Worship - Late Service - 11:00 am
DESCRIPTION:Join us for Sunday Worship.\n11:00 am – Late Service\nSunday School for all ages between services
URL:https://silverdalelutheran.org/event/sunday-worship-1100-am/2025-10-19/
LOCATION:Silverdale Lutheran Church\, 11701 Ridgepoint Dr NW\, Silverdale\, WA\, 98383\, United States
CATEGORIES:Worship
END:VEVENT
BEGIN:VEVENT
DTSTART;TZID=America/Los_Angeles:20251019T190000
DTEND;TZID=America/Los_Angeles:20251019T203000
DTSTAMP:20260422T154428
CREATED:20250918T175222Z
LAST-MODIFIED:20250918T175552Z
UID:10004249-1760900400-1760905800@silverdalelutheran.org
SUMMARY:High School Youth Night
DESCRIPTION:SLY is our high school youth group that meets from 7-8:30pm on Sunday nights in the Gathering Place. This group often has additional opportunities to hang out and grow in their faith. Some of these experiences include acts of service\, backpacking\, retreats\, and fun!
URL:https://silverdalelutheran.org/event/high-school-youth-night/2025-10-19/
LOCATION:Silverdale Lutheran – Gathering Place\, 11701 Ridgepoint Dr NW\, Silverdale\, WA\, 98383\, United States
CATEGORIES:High School
ORGANIZER;CN="Jessica Voigt":MAILTO:jvoigt@silverdalelutheran.org
END:VEVENT
BEGIN:VEVENT
DTSTART;TZID=America/Los_Angeles:20251020T083000
DTEND;TZID=America/Los_Angeles:20251021T113000
DTSTAMP:20260422T154428
CREATED:20250929T180033Z
LAST-MODIFIED:20250929T191603Z
UID:10009038-1760949000-1761046200@silverdalelutheran.org
SUMMARY:Bible Study Fellowship (GP\, 21-23\, N)
DESCRIPTION:
URL:https://silverdalelutheran.org/event/bible-study-fellowship-gp-21-23-n-2/2025-10-20/
LOCATION:WA
CATEGORIES:Private Group
END:VEVENT
BEGIN:VEVENT
DTSTART;TZID=America/Los_Angeles:20251020T090000
DTEND;TZID=America/Los_Angeles:20251020T120000
DTSTAMP:20260422T154428
CREATED:20250918T180712Z
LAST-MODIFIED:20250918T181755Z
UID:10004510-1760950800-1760961600@silverdalelutheran.org
SUMMARY:Ties That Bind
DESCRIPTION:A ministry started in 1969\, Silverdale Lutheran Church Quilters gather every Monday morning in the Fellowship Hall to create quilts to share with those in need of warmth. Each year the quilters will sew hundreds of quilts that are shipped to Lutheran World Relief for distribution across the world and additional quilts that are shared within our community. All are welcome to join in this creative work. Silverdale Lutheran Church supports this ministry with monetary and in-kind donations\, along with the helping hands of many volunteers.
URL:https://silverdalelutheran.org/event/ties-that-bind/2025-10-20/
LOCATION:Silverdale Lutheran Church\, 11701 Ridgepoint Dr NW\, Silverdale\, WA\, 98383\, United States
CATEGORIES:Community Event
ATTACH;FMTTYPE=image/jpeg:https://silverdalelutheran.org/wp-content/uploads/2025/09/Ties-That-Bind-1280-x-720-px.jpg
END:VEVENT
BEGIN:VEVENT
DTSTART;TZID=America/Los_Angeles:20251020T183000
DTEND;TZID=America/Los_Angeles:20251020T200000
DTSTAMP:20260422T154428
CREATED:20250918T184454Z
LAST-MODIFIED:20251222T203944Z
UID:10004832-1760985000-1760990400@silverdalelutheran.org
SUMMARY:Boy Scouts Troop 1541
DESCRIPTION:Boy Scout Troop 1541 Meets on Mondays at 6:30pm \nBoy Scouts of Ameria – A troop includes youth\, typically aged 11-17\, who participate in outdoor activities\, community service\, and leadership development through a patrol-based structure. Led by youth leaders and guided by adult leaders like a Scoutmaster\, each troop operates on the “Patrol Method\,” where small\, tight-knit patrols plan and execute programs to foster character\, citizenship\, and practical skills through a youth-led model. \nFor more information on BSA visit  https://www.scouting.org/programs/scouts-bsa/ \nQuestions? Contact Scoutmaster JJ Story
URL:https://silverdalelutheran.org/event/boy-scouts-troop-1541/2025-10-20/
LOCATION:Silverdale Lutheran – Gathering Place\, 11701 Ridgepoint Dr NW\, Silverdale\, WA\, 98383\, United States
ATTACH;FMTTYPE=image/png:https://silverdalelutheran.org/wp-content/uploads/2025/09/Boy-Scout-event-Logo.png
END:VEVENT
BEGIN:VEVENT
DTSTART;TZID=America/Los_Angeles:20251020T183000
DTEND;TZID=America/Los_Angeles:20251020T200000
DTSTAMP:20260422T154428
CREATED:20250929T193634Z
LAST-MODIFIED:20250929T193634Z
UID:10009421-1760985000-1760990400@silverdalelutheran.org
SUMMARY:GSWW Leaders Meeting (4)
DESCRIPTION:
URL:https://silverdalelutheran.org/event/gsww-leaders-meeting-4/2025-10-20/
LOCATION:WA
CATEGORIES:Private Group
END:VEVENT
BEGIN:VEVENT
DTSTART;TZID=America/Los_Angeles:20251021T100000
DTEND;TZID=America/Los_Angeles:20251021T120000
DTSTAMP:20260422T154428
CREATED:20250929T180205Z
LAST-MODIFIED:20250929T180233Z
UID:10005616-1761040800-1761048000@silverdalelutheran.org
SUMMARY:Weekly Staff Meeting (4)
DESCRIPTION:
URL:https://silverdalelutheran.org/event/weekly-staff-meeting-4/2025-10-21/
LOCATION:WA
END:VEVENT
BEGIN:VEVENT
DTSTART;TZID=America/Los_Angeles:20251021T120000
DTEND;TZID=America/Los_Angeles:20251021T130000
DTSTAMP:20260422T154428
CREATED:20250929T180552Z
LAST-MODIFIED:20250929T180552Z
UID:10005877-1761048000-1761051600@silverdalelutheran.org
SUMMARY:Al-Anon (27)
DESCRIPTION:
URL:https://silverdalelutheran.org/event/al-anon-27/2025-10-21/
LOCATION:WA
END:VEVENT
BEGIN:VEVENT
DTSTART;TZID=America/Los_Angeles:20251021T130000
DTEND;TZID=America/Los_Angeles:20251021T143000
DTSTAMP:20260422T154428
CREATED:20250929T181025Z
LAST-MODIFIED:20250929T181025Z
UID:10006138-1761051600-1761057000@silverdalelutheran.org
SUMMARY:Pastor Text Study (4)
DESCRIPTION:
URL:https://silverdalelutheran.org/event/pastor-text-study-4/2025-10-21/
LOCATION:WA
END:VEVENT
BEGIN:VEVENT
DTSTART;TZID=America/Los_Angeles:20251021T180000
DTEND;TZID=America/Los_Angeles:20251021T200000
DTSTAMP:20260422T154428
CREATED:20250929T183535Z
LAST-MODIFIED:20250929T183620Z
UID:10008527-1761069600-1761076800@silverdalelutheran.org
SUMMARY:Antir.org (GP)
DESCRIPTION:
URL:https://silverdalelutheran.org/event/antir-org/2025-10-21/
LOCATION:WA
CATEGORIES:Private Group
END:VEVENT
BEGIN:VEVENT
DTSTART;TZID=America/Los_Angeles:20251021T190000
DTEND;TZID=America/Los_Angeles:20251021T203000
DTSTAMP:20260422T154428
CREATED:20250929T181247Z
LAST-MODIFIED:20250929T181247Z
UID:10006399-1761073200-1761078600@silverdalelutheran.org
SUMMARY:Hometown Band
DESCRIPTION:
URL:https://silverdalelutheran.org/event/hometown-band/2025-10-21/
LOCATION:WA
CATEGORIES:Private Group
END:VEVENT
BEGIN:VEVENT
DTSTART;TZID=America/Los_Angeles:20251021T190000
DTEND;TZID=America/Los_Angeles:20251021T210000
DTSTAMP:20260422T154428
CREATED:20250929T193807Z
LAST-MODIFIED:20250929T193852Z
UID:10009481-1761073200-1761080400@silverdalelutheran.org
SUMMARY:Compassionate Friends (4)
DESCRIPTION:
URL:https://silverdalelutheran.org/event/compassionate-friend-4/2025-10-21/
LOCATION:WA
CATEGORIES:Private Group
END:VEVENT
BEGIN:VEVENT
DTSTART;TZID=America/Los_Angeles:20251022T103000
DTEND;TZID=America/Los_Angeles:20251022T120000
DTSTAMP:20260422T154428
CREATED:20250917T164917Z
LAST-MODIFIED:20250917T164917Z
UID:10001375-1761129000-1761134400@silverdalelutheran.org
SUMMARY:Manna Bible Study
DESCRIPTION:Manna Bible Study meets on Wednesdays at 10:30am to discuss the texts for the upcoming Sunday Worship Service. \nThis class meets at 10:30am in room 4 (main building) of Silverdale Lutheran Church – you can also join via Zoom. \nClick to view past recordings
URL:https://silverdalelutheran.org/event/manna-bible-study/2025-10-22/
LOCATION:Silverdale Lutheran Church\, 11701 Ridgepoint Dr NW\, Silverdale\, WA\, 98383\, United States
END:VEVENT
END:VCALENDAR