BEGIN:VCALENDAR
VERSION:2.0
PRODID:-//Silverdale Lutheran Church - ECPv6.15.12.2//NONSGML v1.0//EN
CALSCALE:GREGORIAN
METHOD:PUBLISH
X-ORIGINAL-URL:https://silverdalelutheran.org
X-WR-CALDESC:Events for Silverdale Lutheran Church
REFRESH-INTERVAL;VALUE=DURATION:PT1H
X-Robots-Tag:noindex
X-PUBLISHED-TTL:PT1H
BEGIN:VTIMEZONE
TZID:America/Los_Angeles
BEGIN:DAYLIGHT
TZOFFSETFROM:-0800
TZOFFSETTO:-0700
TZNAME:PDT
DTSTART:20270314T100000
END:DAYLIGHT
BEGIN:STANDARD
TZOFFSETFROM:-0700
TZOFFSETTO:-0800
TZNAME:PST
DTSTART:20271107T090000
END:STANDARD
BEGIN:DAYLIGHT
TZOFFSETFROM:-0800
TZOFFSETTO:-0700
TZNAME:PDT
DTSTART:20280312T100000
END:DAYLIGHT
BEGIN:STANDARD
TZOFFSETFROM:-0700
TZOFFSETTO:-0800
TZNAME:PST
DTSTART:20281105T090000
END:STANDARD
BEGIN:DAYLIGHT
TZOFFSETFROM:-0800
TZOFFSETTO:-0700
TZNAME:PDT
DTSTART:20290311T100000
END:DAYLIGHT
BEGIN:STANDARD
TZOFFSETFROM:-0700
TZOFFSETTO:-0800
TZNAME:PST
DTSTART:20291104T090000
END:STANDARD
END:VTIMEZONE
BEGIN:VEVENT
DTSTART;TZID=America/Los_Angeles:20280207T083000
DTEND;TZID=America/Los_Angeles:20280208T113000
DTSTAMP:20260424T165659
CREATED:20250929T180033Z
LAST-MODIFIED:20250929T191603Z
UID:10009158-1833525000-1833622200@silverdalelutheran.org
SUMMARY:Bible Study Fellowship (GP\, 21-23\, N)
DESCRIPTION:
URL:https://silverdalelutheran.org/event/bible-study-fellowship-gp-21-23-n-2/2028-02-07/
CATEGORIES:Private Group
END:VEVENT
BEGIN:VEVENT
DTSTART;TZID=America/Los_Angeles:20280208T180000
DTEND;TZID=America/Los_Angeles:20280208T200000
DTSTAMP:20260424T165659
CREATED:20250929T183535Z
LAST-MODIFIED:20250929T183620Z
UID:10008647-1833645600-1833652800@silverdalelutheran.org
SUMMARY:Antir.org (GP)
DESCRIPTION:
URL:https://silverdalelutheran.org/event/antir-org/2028-02-08/
CATEGORIES:Private Group
END:VEVENT
BEGIN:VEVENT
DTSTART;TZID=America/Los_Angeles:20280208T190000
DTEND;TZID=America/Los_Angeles:20280208T203000
DTSTAMP:20260424T165659
CREATED:20250929T181247Z
LAST-MODIFIED:20250929T181247Z
UID:10006519-1833649200-1833654600@silverdalelutheran.org
SUMMARY:Hometown Band
DESCRIPTION:
URL:https://silverdalelutheran.org/event/hometown-band/2028-02-08/
CATEGORIES:Private Group
END:VEVENT
BEGIN:VEVENT
DTSTART;TZID=America/Los_Angeles:20280210T083000
DTEND;TZID=America/Los_Angeles:20280210T113000
DTSTAMP:20260424T165659
CREATED:20250929T181743Z
LAST-MODIFIED:20250929T181743Z
UID:10007101-1833784200-1833795000@silverdalelutheran.org
SUMMARY:Bible Study Fellowship (S\, 21-23)
DESCRIPTION:
URL:https://silverdalelutheran.org/event/bible-study-fellowship-s-21-23/2028-02-10/
CATEGORIES:Private Group
END:VEVENT
BEGIN:VEVENT
DTSTART;TZID=America/Los_Angeles:20280214T083000
DTEND;TZID=America/Los_Angeles:20280215T113000
DTSTAMP:20260424T165659
CREATED:20250929T180033Z
LAST-MODIFIED:20250929T191603Z
UID:10009159-1834129800-1834227000@silverdalelutheran.org
SUMMARY:Bible Study Fellowship (GP\, 21-23\, N)
DESCRIPTION:
URL:https://silverdalelutheran.org/event/bible-study-fellowship-gp-21-23-n-2/2028-02-14/
CATEGORIES:Private Group
END:VEVENT
BEGIN:VEVENT
DTSTART;TZID=America/Los_Angeles:20280215T180000
DTEND;TZID=America/Los_Angeles:20280215T200000
DTSTAMP:20260424T165659
CREATED:20250929T183535Z
LAST-MODIFIED:20250929T183620Z
UID:10008648-1834250400-1834257600@silverdalelutheran.org
SUMMARY:Antir.org (GP)
DESCRIPTION:
URL:https://silverdalelutheran.org/event/antir-org/2028-02-15/
CATEGORIES:Private Group
END:VEVENT
BEGIN:VEVENT
DTSTART;TZID=America/Los_Angeles:20280215T190000
DTEND;TZID=America/Los_Angeles:20280215T203000
DTSTAMP:20260424T165659
CREATED:20250929T181247Z
LAST-MODIFIED:20250929T181247Z
UID:10006520-1834254000-1834259400@silverdalelutheran.org
SUMMARY:Hometown Band
DESCRIPTION:
URL:https://silverdalelutheran.org/event/hometown-band/2028-02-15/
CATEGORIES:Private Group
END:VEVENT
BEGIN:VEVENT
DTSTART;TZID=America/Los_Angeles:20280215T190000
DTEND;TZID=America/Los_Angeles:20280215T210000
DTSTAMP:20260424T165659
CREATED:20250929T193807Z
LAST-MODIFIED:20250929T193852Z
UID:10009509-1834254000-1834261200@silverdalelutheran.org
SUMMARY:Compassionate Friends (4)
DESCRIPTION:
URL:https://silverdalelutheran.org/event/compassionate-friend-4/2028-02-15/
CATEGORIES:Private Group
END:VEVENT
BEGIN:VEVENT
DTSTART;TZID=America/Los_Angeles:20280216T130000
DTEND;TZID=America/Los_Angeles:20280216T140000
DTSTAMP:20260424T165659
CREATED:20250929T192040Z
LAST-MODIFIED:20250929T192040Z
UID:10009386-1834318800-1834322400@silverdalelutheran.org
SUMMARY:Parkinsons group (St)
DESCRIPTION:Monthly on the third Wednesday
URL:https://silverdalelutheran.org/event/parkinsons-group-st/2028-02-16/
LOCATION:Silverdale Lutheran Church\, 11701 Ridgepoint Dr NW\, Silverdale\, WA\, 98383\, United States
CATEGORIES:Private Group
END:VEVENT
BEGIN:VEVENT
DTSTART;TZID=America/Los_Angeles:20280217T083000
DTEND;TZID=America/Los_Angeles:20280217T113000
DTSTAMP:20260424T165659
CREATED:20250929T181743Z
LAST-MODIFIED:20250929T181743Z
UID:10007102-1834389000-1834399800@silverdalelutheran.org
SUMMARY:Bible Study Fellowship (S\, 21-23)
DESCRIPTION:
URL:https://silverdalelutheran.org/event/bible-study-fellowship-s-21-23/2028-02-17/
CATEGORIES:Private Group
END:VEVENT
BEGIN:VEVENT
DTSTART;TZID=America/Los_Angeles:20280221T083000
DTEND;TZID=America/Los_Angeles:20280222T113000
DTSTAMP:20260424T165659
CREATED:20250929T180033Z
LAST-MODIFIED:20250929T191603Z
UID:10009160-1834734600-1834831800@silverdalelutheran.org
SUMMARY:Bible Study Fellowship (GP\, 21-23\, N)
DESCRIPTION:
URL:https://silverdalelutheran.org/event/bible-study-fellowship-gp-21-23-n-2/2028-02-21/
CATEGORIES:Private Group
END:VEVENT
BEGIN:VEVENT
DTSTART;TZID=America/Los_Angeles:20280221T183000
DTEND;TZID=America/Los_Angeles:20280221T200000
DTSTAMP:20260424T165659
CREATED:20250929T193634Z
LAST-MODIFIED:20250929T193634Z
UID:10009449-1834770600-1834776000@silverdalelutheran.org
SUMMARY:GSWW Leaders Meeting (4)
DESCRIPTION:
URL:https://silverdalelutheran.org/event/gsww-leaders-meeting-4/2028-02-21/
CATEGORIES:Private Group
END:VEVENT
BEGIN:VEVENT
DTSTART;TZID=America/Los_Angeles:20280222T180000
DTEND;TZID=America/Los_Angeles:20280222T200000
DTSTAMP:20260424T165659
CREATED:20250929T183535Z
LAST-MODIFIED:20250929T183620Z
UID:10008649-1834855200-1834862400@silverdalelutheran.org
SUMMARY:Antir.org (GP)
DESCRIPTION:
URL:https://silverdalelutheran.org/event/antir-org/2028-02-22/
CATEGORIES:Private Group
END:VEVENT
BEGIN:VEVENT
DTSTART;TZID=America/Los_Angeles:20280222T183000
DTEND;TZID=America/Los_Angeles:20280222T203000
DTSTAMP:20260424T165659
CREATED:20250929T195350Z
LAST-MODIFIED:20250929T195350Z
UID:10009751-1834857000-1834864200@silverdalelutheran.org
SUMMARY:Scout Planning Meeting
DESCRIPTION:
URL:https://silverdalelutheran.org/event/scout-planning-meeting/2028-02-22/
CATEGORIES:Private Group
END:VEVENT
BEGIN:VEVENT
DTSTART;TZID=America/Los_Angeles:20280222T190000
DTEND;TZID=America/Los_Angeles:20280222T203000
DTSTAMP:20260424T165659
CREATED:20250929T181247Z
LAST-MODIFIED:20250929T181247Z
UID:10006521-1834858800-1834864200@silverdalelutheran.org
SUMMARY:Hometown Band
DESCRIPTION:
URL:https://silverdalelutheran.org/event/hometown-band/2028-02-22/
CATEGORIES:Private Group
END:VEVENT
BEGIN:VEVENT
DTSTART;TZID=America/Los_Angeles:20280222T190000
DTEND;TZID=America/Los_Angeles:20280222T203000
DTSTAMP:20260424T165659
CREATED:20250929T195516Z
LAST-MODIFIED:20250929T195516Z
UID:10009811-1834858800-1834864200@silverdalelutheran.org
SUMMARY:Barnabas Book Club (Private residence)
DESCRIPTION:
URL:https://silverdalelutheran.org/event/barnabas-book-club-private-residence/2028-02-22/
CATEGORIES:Private Group
END:VEVENT
BEGIN:VEVENT
DTSTART;TZID=America/Los_Angeles:20280224T083000
DTEND;TZID=America/Los_Angeles:20280224T113000
DTSTAMP:20260424T165659
CREATED:20250929T181743Z
LAST-MODIFIED:20250929T181743Z
UID:10007103-1834993800-1835004600@silverdalelutheran.org
SUMMARY:Bible Study Fellowship (S\, 21-23)
DESCRIPTION:
URL:https://silverdalelutheran.org/event/bible-study-fellowship-s-21-23/2028-02-24/
CATEGORIES:Private Group
END:VEVENT
BEGIN:VEVENT
DTSTART;TZID=America/Los_Angeles:20280224T180000
DTEND;TZID=America/Los_Angeles:20280224T200000
DTSTAMP:20260424T165659
CREATED:20250929T194007Z
LAST-MODIFIED:20250929T194007Z
UID:10009569-1835028000-1835035200@silverdalelutheran.org
SUMMARY:Kitsap County Search Dogs (FH)
DESCRIPTION:
URL:https://silverdalelutheran.org/event/kitsap-county-search-dogs-fh/2028-02-24/
CATEGORIES:Private Group
END:VEVENT
BEGIN:VEVENT
DTSTART;TZID=America/Los_Angeles:20280228T083000
DTEND;TZID=America/Los_Angeles:20280229T113000
DTSTAMP:20260424T165659
CREATED:20250929T180033Z
LAST-MODIFIED:20250929T191603Z
UID:10009161-1835339400-1835436600@silverdalelutheran.org
SUMMARY:Bible Study Fellowship (GP\, 21-23\, N)
DESCRIPTION:
URL:https://silverdalelutheran.org/event/bible-study-fellowship-gp-21-23-n-2/2028-02-28/
CATEGORIES:Private Group
END:VEVENT
BEGIN:VEVENT
DTSTART;TZID=America/Los_Angeles:20280229T180000
DTEND;TZID=America/Los_Angeles:20280229T200000
DTSTAMP:20260424T165659
CREATED:20250929T183535Z
LAST-MODIFIED:20250929T183620Z
UID:10008650-1835460000-1835467200@silverdalelutheran.org
SUMMARY:Antir.org (GP)
DESCRIPTION:
URL:https://silverdalelutheran.org/event/antir-org/2028-02-29/
CATEGORIES:Private Group
END:VEVENT
BEGIN:VEVENT
DTSTART;TZID=America/Los_Angeles:20280229T190000
DTEND;TZID=America/Los_Angeles:20280229T203000
DTSTAMP:20260424T165659
CREATED:20250929T181247Z
LAST-MODIFIED:20250929T181247Z
UID:10006522-1835463600-1835469000@silverdalelutheran.org
SUMMARY:Hometown Band
DESCRIPTION:
URL:https://silverdalelutheran.org/event/hometown-band/2028-02-29/
CATEGORIES:Private Group
END:VEVENT
BEGIN:VEVENT
DTSTART;TZID=America/Los_Angeles:20280302T083000
DTEND;TZID=America/Los_Angeles:20280302T113000
DTSTAMP:20260424T165659
CREATED:20250929T181743Z
LAST-MODIFIED:20250929T181743Z
UID:10007104-1835598600-1835609400@silverdalelutheran.org
SUMMARY:Bible Study Fellowship (S\, 21-23)
DESCRIPTION:
URL:https://silverdalelutheran.org/event/bible-study-fellowship-s-21-23/2028-03-02/
CATEGORIES:Private Group
END:VEVENT
BEGIN:VEVENT
DTSTART;TZID=America/Los_Angeles:20280304T100000
DTEND;TZID=America/Los_Angeles:20280304T120000
DTSTAMP:20260424T165659
CREATED:20250929T182332Z
LAST-MODIFIED:20250929T182422Z
UID:10007850-1835776800-1835784000@silverdalelutheran.org
SUMMARY:League of Women Voters (4)
DESCRIPTION:
URL:https://silverdalelutheran.org/event/league-of-women-voters-4/2028-03-04/
LOCATION:Silverdale Lutheran Church\, 11701 Ridgepoint Dr NW\, Silverdale\, WA\, 98383\, United States
CATEGORIES:Private Group
END:VEVENT
BEGIN:VEVENT
DTSTART;TZID=America/Los_Angeles:20280306T083000
DTEND;TZID=America/Los_Angeles:20280307T113000
DTSTAMP:20260424T165659
CREATED:20250929T180033Z
LAST-MODIFIED:20250929T191603Z
UID:10009162-1835944200-1836041400@silverdalelutheran.org
SUMMARY:Bible Study Fellowship (GP\, 21-23\, N)
DESCRIPTION:
URL:https://silverdalelutheran.org/event/bible-study-fellowship-gp-21-23-n-2/2028-03-06/
CATEGORIES:Private Group
END:VEVENT
BEGIN:VEVENT
DTSTART;TZID=America/Los_Angeles:20280307T180000
DTEND;TZID=America/Los_Angeles:20280307T200000
DTSTAMP:20260424T165659
CREATED:20250929T183535Z
LAST-MODIFIED:20250929T183620Z
UID:10008651-1836064800-1836072000@silverdalelutheran.org
SUMMARY:Antir.org (GP)
DESCRIPTION:
URL:https://silverdalelutheran.org/event/antir-org/2028-03-07/
CATEGORIES:Private Group
END:VEVENT
BEGIN:VEVENT
DTSTART;TZID=America/Los_Angeles:20280307T190000
DTEND;TZID=America/Los_Angeles:20280307T203000
DTSTAMP:20260424T165659
CREATED:20250929T181247Z
LAST-MODIFIED:20250929T181247Z
UID:10006523-1836068400-1836073800@silverdalelutheran.org
SUMMARY:Hometown Band
DESCRIPTION:
URL:https://silverdalelutheran.org/event/hometown-band/2028-03-07/
CATEGORIES:Private Group
END:VEVENT
BEGIN:VEVENT
DTSTART;TZID=America/Los_Angeles:20280309T083000
DTEND;TZID=America/Los_Angeles:20280309T113000
DTSTAMP:20260424T165659
CREATED:20250929T181743Z
LAST-MODIFIED:20250929T181743Z
UID:10007105-1836203400-1836214200@silverdalelutheran.org
SUMMARY:Bible Study Fellowship (S\, 21-23)
DESCRIPTION:
URL:https://silverdalelutheran.org/event/bible-study-fellowship-s-21-23/2028-03-09/
CATEGORIES:Private Group
END:VEVENT
BEGIN:VEVENT
DTSTART;TZID=America/Los_Angeles:20280313T083000
DTEND;TZID=America/Los_Angeles:20280314T113000
DTSTAMP:20260424T165659
CREATED:20250929T180033Z
LAST-MODIFIED:20250929T191603Z
UID:10009163-1836549000-1836646200@silverdalelutheran.org
SUMMARY:Bible Study Fellowship (GP\, 21-23\, N)
DESCRIPTION:
URL:https://silverdalelutheran.org/event/bible-study-fellowship-gp-21-23-n-2/2028-03-13/
CATEGORIES:Private Group
END:VEVENT
BEGIN:VEVENT
DTSTART;TZID=America/Los_Angeles:20280314T180000
DTEND;TZID=America/Los_Angeles:20280314T200000
DTSTAMP:20260424T165659
CREATED:20250929T183535Z
LAST-MODIFIED:20250929T183620Z
UID:10008652-1836669600-1836676800@silverdalelutheran.org
SUMMARY:Antir.org (GP)
DESCRIPTION:
URL:https://silverdalelutheran.org/event/antir-org/2028-03-14/
CATEGORIES:Private Group
END:VEVENT
BEGIN:VEVENT
DTSTART;TZID=America/Los_Angeles:20280314T190000
DTEND;TZID=America/Los_Angeles:20280314T203000
DTSTAMP:20260424T165659
CREATED:20250929T181247Z
LAST-MODIFIED:20250929T181247Z
UID:10006524-1836673200-1836678600@silverdalelutheran.org
SUMMARY:Hometown Band
DESCRIPTION:
URL:https://silverdalelutheran.org/event/hometown-band/2028-03-14/
CATEGORIES:Private Group
END:VEVENT
END:VCALENDAR