BEGIN:VCALENDAR
VERSION:2.0
PRODID:-//Silverdale Lutheran Church - ECPv6.15.12.2//NONSGML v1.0//EN
CALSCALE:GREGORIAN
METHOD:PUBLISH
X-WR-CALNAME:Silverdale Lutheran Church
X-ORIGINAL-URL:https://silverdalelutheran.org
X-WR-CALDESC:Events for Silverdale Lutheran Church
REFRESH-INTERVAL;VALUE=DURATION:PT1H
X-Robots-Tag:noindex
X-PUBLISHED-TTL:PT1H
BEGIN:VTIMEZONE
TZID:America/Los_Angeles
BEGIN:DAYLIGHT
TZOFFSETFROM:-0800
TZOFFSETTO:-0700
TZNAME:PDT
DTSTART:20270314T100000
END:DAYLIGHT
BEGIN:STANDARD
TZOFFSETFROM:-0700
TZOFFSETTO:-0800
TZNAME:PST
DTSTART:20271107T090000
END:STANDARD
BEGIN:DAYLIGHT
TZOFFSETFROM:-0800
TZOFFSETTO:-0700
TZNAME:PDT
DTSTART:20280312T100000
END:DAYLIGHT
BEGIN:STANDARD
TZOFFSETFROM:-0700
TZOFFSETTO:-0800
TZNAME:PST
DTSTART:20281105T090000
END:STANDARD
BEGIN:DAYLIGHT
TZOFFSETFROM:-0800
TZOFFSETTO:-0700
TZNAME:PDT
DTSTART:20290311T100000
END:DAYLIGHT
BEGIN:STANDARD
TZOFFSETFROM:-0700
TZOFFSETTO:-0800
TZNAME:PST
DTSTART:20291104T090000
END:STANDARD
END:VTIMEZONE
BEGIN:VEVENT
DTSTART;TZID=America/Los_Angeles:20280113T083000
DTEND;TZID=America/Los_Angeles:20280113T113000
DTSTAMP:20260424T142413
CREATED:20250929T181743Z
LAST-MODIFIED:20250929T181743Z
UID:10007097-1831365000-1831375800@silverdalelutheran.org
SUMMARY:Bible Study Fellowship (S\, 21-23)
DESCRIPTION:
URL:https://silverdalelutheran.org/event/bible-study-fellowship-s-21-23/2028-01-13/
CATEGORIES:Private Group
END:VEVENT
BEGIN:VEVENT
DTSTART;TZID=America/Los_Angeles:20280117T083000
DTEND;TZID=America/Los_Angeles:20280118T113000
DTSTAMP:20260424T142413
CREATED:20250929T180033Z
LAST-MODIFIED:20250929T191603Z
UID:10009155-1831710600-1831807800@silverdalelutheran.org
SUMMARY:Bible Study Fellowship (GP\, 21-23\, N)
DESCRIPTION:
URL:https://silverdalelutheran.org/event/bible-study-fellowship-gp-21-23-n-2/2028-01-17/
CATEGORIES:Private Group
END:VEVENT
BEGIN:VEVENT
DTSTART;TZID=America/Los_Angeles:20280117T183000
DTEND;TZID=America/Los_Angeles:20280117T200000
DTSTAMP:20260424T142413
CREATED:20250929T193634Z
LAST-MODIFIED:20250929T193634Z
UID:10009448-1831746600-1831752000@silverdalelutheran.org
SUMMARY:GSWW Leaders Meeting (4)
DESCRIPTION:
URL:https://silverdalelutheran.org/event/gsww-leaders-meeting-4/2028-01-17/
CATEGORIES:Private Group
END:VEVENT
BEGIN:VEVENT
DTSTART;TZID=America/Los_Angeles:20280118T180000
DTEND;TZID=America/Los_Angeles:20280118T200000
DTSTAMP:20260424T142413
CREATED:20250929T183535Z
LAST-MODIFIED:20250929T183620Z
UID:10008644-1831831200-1831838400@silverdalelutheran.org
SUMMARY:Antir.org (GP)
DESCRIPTION:
URL:https://silverdalelutheran.org/event/antir-org/2028-01-18/
CATEGORIES:Private Group
END:VEVENT
BEGIN:VEVENT
DTSTART;TZID=America/Los_Angeles:20280118T190000
DTEND;TZID=America/Los_Angeles:20280118T203000
DTSTAMP:20260424T142413
CREATED:20250929T181247Z
LAST-MODIFIED:20250929T181247Z
UID:10006516-1831834800-1831840200@silverdalelutheran.org
SUMMARY:Hometown Band
DESCRIPTION:
URL:https://silverdalelutheran.org/event/hometown-band/2028-01-18/
CATEGORIES:Private Group
END:VEVENT
BEGIN:VEVENT
DTSTART;TZID=America/Los_Angeles:20280118T190000
DTEND;TZID=America/Los_Angeles:20280118T210000
DTSTAMP:20260424T142413
CREATED:20250929T193807Z
LAST-MODIFIED:20250929T193852Z
UID:10009508-1831834800-1831842000@silverdalelutheran.org
SUMMARY:Compassionate Friends (4)
DESCRIPTION:
URL:https://silverdalelutheran.org/event/compassionate-friend-4/2028-01-18/
CATEGORIES:Private Group
END:VEVENT
BEGIN:VEVENT
DTSTART;TZID=America/Los_Angeles:20280119T130000
DTEND;TZID=America/Los_Angeles:20280119T140000
DTSTAMP:20260424T142413
CREATED:20250929T192040Z
LAST-MODIFIED:20250929T192040Z
UID:10009385-1831899600-1831903200@silverdalelutheran.org
SUMMARY:Parkinsons group (St)
DESCRIPTION:Monthly on the third Wednesday
URL:https://silverdalelutheran.org/event/parkinsons-group-st/2028-01-19/
LOCATION:Silverdale Lutheran Church\, 11701 Ridgepoint Dr NW\, Silverdale\, WA\, 98383\, United States
CATEGORIES:Private Group
END:VEVENT
BEGIN:VEVENT
DTSTART;TZID=America/Los_Angeles:20280120T083000
DTEND;TZID=America/Los_Angeles:20280120T113000
DTSTAMP:20260424T142413
CREATED:20250929T181743Z
LAST-MODIFIED:20250929T181743Z
UID:10007098-1831969800-1831980600@silverdalelutheran.org
SUMMARY:Bible Study Fellowship (S\, 21-23)
DESCRIPTION:
URL:https://silverdalelutheran.org/event/bible-study-fellowship-s-21-23/2028-01-20/
CATEGORIES:Private Group
END:VEVENT
BEGIN:VEVENT
DTSTART;TZID=America/Los_Angeles:20280124T083000
DTEND;TZID=America/Los_Angeles:20280125T113000
DTSTAMP:20260424T142413
CREATED:20250929T180033Z
LAST-MODIFIED:20250929T191603Z
UID:10009156-1832315400-1832412600@silverdalelutheran.org
SUMMARY:Bible Study Fellowship (GP\, 21-23\, N)
DESCRIPTION:
URL:https://silverdalelutheran.org/event/bible-study-fellowship-gp-21-23-n-2/2028-01-24/
CATEGORIES:Private Group
END:VEVENT
BEGIN:VEVENT
DTSTART;TZID=America/Los_Angeles:20280125T180000
DTEND;TZID=America/Los_Angeles:20280125T200000
DTSTAMP:20260424T142413
CREATED:20250929T183535Z
LAST-MODIFIED:20250929T183620Z
UID:10008645-1832436000-1832443200@silverdalelutheran.org
SUMMARY:Antir.org (GP)
DESCRIPTION:
URL:https://silverdalelutheran.org/event/antir-org/2028-01-25/
CATEGORIES:Private Group
END:VEVENT
BEGIN:VEVENT
DTSTART;TZID=America/Los_Angeles:20280125T183000
DTEND;TZID=America/Los_Angeles:20280125T203000
DTSTAMP:20260424T142413
CREATED:20250929T195350Z
LAST-MODIFIED:20250929T195350Z
UID:10009750-1832437800-1832445000@silverdalelutheran.org
SUMMARY:Scout Planning Meeting
DESCRIPTION:
URL:https://silverdalelutheran.org/event/scout-planning-meeting/2028-01-25/
CATEGORIES:Private Group
END:VEVENT
BEGIN:VEVENT
DTSTART;TZID=America/Los_Angeles:20280125T190000
DTEND;TZID=America/Los_Angeles:20280125T203000
DTSTAMP:20260424T142413
CREATED:20250929T181247Z
LAST-MODIFIED:20250929T181247Z
UID:10006517-1832439600-1832445000@silverdalelutheran.org
SUMMARY:Hometown Band
DESCRIPTION:
URL:https://silverdalelutheran.org/event/hometown-band/2028-01-25/
CATEGORIES:Private Group
END:VEVENT
BEGIN:VEVENT
DTSTART;TZID=America/Los_Angeles:20280125T190000
DTEND;TZID=America/Los_Angeles:20280125T203000
DTSTAMP:20260424T142413
CREATED:20250929T195516Z
LAST-MODIFIED:20250929T195516Z
UID:10009810-1832439600-1832445000@silverdalelutheran.org
SUMMARY:Barnabas Book Club (Private residence)
DESCRIPTION:
URL:https://silverdalelutheran.org/event/barnabas-book-club-private-residence/2028-01-25/
CATEGORIES:Private Group
END:VEVENT
BEGIN:VEVENT
DTSTART;TZID=America/Los_Angeles:20280127T083000
DTEND;TZID=America/Los_Angeles:20280127T113000
DTSTAMP:20260424T142413
CREATED:20250929T181743Z
LAST-MODIFIED:20250929T181743Z
UID:10007099-1832574600-1832585400@silverdalelutheran.org
SUMMARY:Bible Study Fellowship (S\, 21-23)
DESCRIPTION:
URL:https://silverdalelutheran.org/event/bible-study-fellowship-s-21-23/2028-01-27/
CATEGORIES:Private Group
END:VEVENT
BEGIN:VEVENT
DTSTART;TZID=America/Los_Angeles:20280127T180000
DTEND;TZID=America/Los_Angeles:20280127T200000
DTSTAMP:20260424T142413
CREATED:20250929T194007Z
LAST-MODIFIED:20250929T194007Z
UID:10009568-1832608800-1832616000@silverdalelutheran.org
SUMMARY:Kitsap County Search Dogs (FH)
DESCRIPTION:
URL:https://silverdalelutheran.org/event/kitsap-county-search-dogs-fh/2028-01-27/
CATEGORIES:Private Group
END:VEVENT
BEGIN:VEVENT
DTSTART;TZID=America/Los_Angeles:20280131T083000
DTEND;TZID=America/Los_Angeles:20280201T113000
DTSTAMP:20260424T142413
CREATED:20250929T180033Z
LAST-MODIFIED:20250929T191603Z
UID:10009157-1832920200-1833017400@silverdalelutheran.org
SUMMARY:Bible Study Fellowship (GP\, 21-23\, N)
DESCRIPTION:
URL:https://silverdalelutheran.org/event/bible-study-fellowship-gp-21-23-n-2/2028-01-31/
CATEGORIES:Private Group
END:VEVENT
BEGIN:VEVENT
DTSTART;TZID=America/Los_Angeles:20280201T180000
DTEND;TZID=America/Los_Angeles:20280201T200000
DTSTAMP:20260424T142413
CREATED:20250929T183535Z
LAST-MODIFIED:20250929T183620Z
UID:10008646-1833040800-1833048000@silverdalelutheran.org
SUMMARY:Antir.org (GP)
DESCRIPTION:
URL:https://silverdalelutheran.org/event/antir-org/2028-02-01/
CATEGORIES:Private Group
END:VEVENT
BEGIN:VEVENT
DTSTART;TZID=America/Los_Angeles:20280201T190000
DTEND;TZID=America/Los_Angeles:20280201T203000
DTSTAMP:20260424T142413
CREATED:20250929T181247Z
LAST-MODIFIED:20250929T181247Z
UID:10006518-1833044400-1833049800@silverdalelutheran.org
SUMMARY:Hometown Band
DESCRIPTION:
URL:https://silverdalelutheran.org/event/hometown-band/2028-02-01/
CATEGORIES:Private Group
END:VEVENT
BEGIN:VEVENT
DTSTART;TZID=America/Los_Angeles:20280203T083000
DTEND;TZID=America/Los_Angeles:20280203T113000
DTSTAMP:20260424T142413
CREATED:20250929T181743Z
LAST-MODIFIED:20250929T181743Z
UID:10007100-1833179400-1833190200@silverdalelutheran.org
SUMMARY:Bible Study Fellowship (S\, 21-23)
DESCRIPTION:
URL:https://silverdalelutheran.org/event/bible-study-fellowship-s-21-23/2028-02-03/
CATEGORIES:Private Group
END:VEVENT
BEGIN:VEVENT
DTSTART;TZID=America/Los_Angeles:20280205T100000
DTEND;TZID=America/Los_Angeles:20280205T120000
DTSTAMP:20260424T142413
CREATED:20250929T182332Z
LAST-MODIFIED:20250929T182422Z
UID:10007849-1833357600-1833364800@silverdalelutheran.org
SUMMARY:League of Women Voters (4)
DESCRIPTION:
URL:https://silverdalelutheran.org/event/league-of-women-voters-4/2028-02-05/
LOCATION:Silverdale Lutheran Church\, 11701 Ridgepoint Dr NW\, Silverdale\, WA\, 98383\, United States
CATEGORIES:Private Group
END:VEVENT
BEGIN:VEVENT
DTSTART;TZID=America/Los_Angeles:20280207T083000
DTEND;TZID=America/Los_Angeles:20280208T113000
DTSTAMP:20260424T142413
CREATED:20250929T180033Z
LAST-MODIFIED:20250929T191603Z
UID:10009158-1833525000-1833622200@silverdalelutheran.org
SUMMARY:Bible Study Fellowship (GP\, 21-23\, N)
DESCRIPTION:
URL:https://silverdalelutheran.org/event/bible-study-fellowship-gp-21-23-n-2/2028-02-07/
CATEGORIES:Private Group
END:VEVENT
BEGIN:VEVENT
DTSTART;TZID=America/Los_Angeles:20280208T180000
DTEND;TZID=America/Los_Angeles:20280208T200000
DTSTAMP:20260424T142413
CREATED:20250929T183535Z
LAST-MODIFIED:20250929T183620Z
UID:10008647-1833645600-1833652800@silverdalelutheran.org
SUMMARY:Antir.org (GP)
DESCRIPTION:
URL:https://silverdalelutheran.org/event/antir-org/2028-02-08/
CATEGORIES:Private Group
END:VEVENT
BEGIN:VEVENT
DTSTART;TZID=America/Los_Angeles:20280208T190000
DTEND;TZID=America/Los_Angeles:20280208T203000
DTSTAMP:20260424T142413
CREATED:20250929T181247Z
LAST-MODIFIED:20250929T181247Z
UID:10006519-1833649200-1833654600@silverdalelutheran.org
SUMMARY:Hometown Band
DESCRIPTION:
URL:https://silverdalelutheran.org/event/hometown-band/2028-02-08/
CATEGORIES:Private Group
END:VEVENT
BEGIN:VEVENT
DTSTART;TZID=America/Los_Angeles:20280210T083000
DTEND;TZID=America/Los_Angeles:20280210T113000
DTSTAMP:20260424T142413
CREATED:20250929T181743Z
LAST-MODIFIED:20250929T181743Z
UID:10007101-1833784200-1833795000@silverdalelutheran.org
SUMMARY:Bible Study Fellowship (S\, 21-23)
DESCRIPTION:
URL:https://silverdalelutheran.org/event/bible-study-fellowship-s-21-23/2028-02-10/
CATEGORIES:Private Group
END:VEVENT
BEGIN:VEVENT
DTSTART;TZID=America/Los_Angeles:20280214T083000
DTEND;TZID=America/Los_Angeles:20280215T113000
DTSTAMP:20260424T142413
CREATED:20250929T180033Z
LAST-MODIFIED:20250929T191603Z
UID:10009159-1834129800-1834227000@silverdalelutheran.org
SUMMARY:Bible Study Fellowship (GP\, 21-23\, N)
DESCRIPTION:
URL:https://silverdalelutheran.org/event/bible-study-fellowship-gp-21-23-n-2/2028-02-14/
CATEGORIES:Private Group
END:VEVENT
BEGIN:VEVENT
DTSTART;TZID=America/Los_Angeles:20280215T180000
DTEND;TZID=America/Los_Angeles:20280215T200000
DTSTAMP:20260424T142413
CREATED:20250929T183535Z
LAST-MODIFIED:20250929T183620Z
UID:10008648-1834250400-1834257600@silverdalelutheran.org
SUMMARY:Antir.org (GP)
DESCRIPTION:
URL:https://silverdalelutheran.org/event/antir-org/2028-02-15/
CATEGORIES:Private Group
END:VEVENT
BEGIN:VEVENT
DTSTART;TZID=America/Los_Angeles:20280215T190000
DTEND;TZID=America/Los_Angeles:20280215T203000
DTSTAMP:20260424T142413
CREATED:20250929T181247Z
LAST-MODIFIED:20250929T181247Z
UID:10006520-1834254000-1834259400@silverdalelutheran.org
SUMMARY:Hometown Band
DESCRIPTION:
URL:https://silverdalelutheran.org/event/hometown-band/2028-02-15/
CATEGORIES:Private Group
END:VEVENT
BEGIN:VEVENT
DTSTART;TZID=America/Los_Angeles:20280215T190000
DTEND;TZID=America/Los_Angeles:20280215T210000
DTSTAMP:20260424T142413
CREATED:20250929T193807Z
LAST-MODIFIED:20250929T193852Z
UID:10009509-1834254000-1834261200@silverdalelutheran.org
SUMMARY:Compassionate Friends (4)
DESCRIPTION:
URL:https://silverdalelutheran.org/event/compassionate-friend-4/2028-02-15/
CATEGORIES:Private Group
END:VEVENT
BEGIN:VEVENT
DTSTART;TZID=America/Los_Angeles:20280216T130000
DTEND;TZID=America/Los_Angeles:20280216T140000
DTSTAMP:20260424T142413
CREATED:20250929T192040Z
LAST-MODIFIED:20250929T192040Z
UID:10009386-1834318800-1834322400@silverdalelutheran.org
SUMMARY:Parkinsons group (St)
DESCRIPTION:Monthly on the third Wednesday
URL:https://silverdalelutheran.org/event/parkinsons-group-st/2028-02-16/
LOCATION:Silverdale Lutheran Church\, 11701 Ridgepoint Dr NW\, Silverdale\, WA\, 98383\, United States
CATEGORIES:Private Group
END:VEVENT
BEGIN:VEVENT
DTSTART;TZID=America/Los_Angeles:20280217T083000
DTEND;TZID=America/Los_Angeles:20280217T113000
DTSTAMP:20260424T142413
CREATED:20250929T181743Z
LAST-MODIFIED:20250929T181743Z
UID:10007102-1834389000-1834399800@silverdalelutheran.org
SUMMARY:Bible Study Fellowship (S\, 21-23)
DESCRIPTION:
URL:https://silverdalelutheran.org/event/bible-study-fellowship-s-21-23/2028-02-17/
CATEGORIES:Private Group
END:VEVENT
END:VCALENDAR