BEGIN:VCALENDAR
VERSION:2.0
PRODID:-//Silverdale Lutheran Church - ECPv6.15.12.2//NONSGML v1.0//EN
CALSCALE:GREGORIAN
METHOD:PUBLISH
X-WR-CALNAME:Silverdale Lutheran Church
X-ORIGINAL-URL:https://silverdalelutheran.org
X-WR-CALDESC:Events for Silverdale Lutheran Church
REFRESH-INTERVAL;VALUE=DURATION:PT1H
X-Robots-Tag:noindex
X-PUBLISHED-TTL:PT1H
BEGIN:VTIMEZONE
TZID:America/Los_Angeles
BEGIN:DAYLIGHT
TZOFFSETFROM:-0800
TZOFFSETTO:-0700
TZNAME:PDT
DTSTART:20260308T100000
END:DAYLIGHT
BEGIN:STANDARD
TZOFFSETFROM:-0700
TZOFFSETTO:-0800
TZNAME:PST
DTSTART:20261101T090000
END:STANDARD
BEGIN:DAYLIGHT
TZOFFSETFROM:-0800
TZOFFSETTO:-0700
TZNAME:PDT
DTSTART:20270314T100000
END:DAYLIGHT
BEGIN:STANDARD
TZOFFSETFROM:-0700
TZOFFSETTO:-0800
TZNAME:PST
DTSTART:20271107T090000
END:STANDARD
BEGIN:DAYLIGHT
TZOFFSETFROM:-0800
TZOFFSETTO:-0700
TZNAME:PDT
DTSTART:20280312T100000
END:DAYLIGHT
BEGIN:STANDARD
TZOFFSETFROM:-0700
TZOFFSETTO:-0800
TZNAME:PST
DTSTART:20281105T090000
END:STANDARD
BEGIN:DAYLIGHT
TZOFFSETFROM:-0800
TZOFFSETTO:-0700
TZNAME:PDT
DTSTART:20290311T100000
END:DAYLIGHT
BEGIN:STANDARD
TZOFFSETFROM:-0700
TZOFFSETTO:-0800
TZNAME:PST
DTSTART:20291104T090000
END:STANDARD
END:VTIMEZONE
BEGIN:VEVENT
DTSTART;TZID=America/Los_Angeles:20271221T180000
DTEND;TZID=America/Los_Angeles:20271221T200000
DTSTAMP:20260424T112735
CREATED:20250929T183535Z
LAST-MODIFIED:20250929T183620Z
UID:10008640-1829412000-1829419200@silverdalelutheran.org
SUMMARY:Antir.org (GP)
DESCRIPTION:
URL:https://silverdalelutheran.org/event/antir-org/2027-12-21/
CATEGORIES:Private Group
END:VEVENT
BEGIN:VEVENT
DTSTART;TZID=America/Los_Angeles:20271221T190000
DTEND;TZID=America/Los_Angeles:20271221T203000
DTSTAMP:20260424T112735
CREATED:20250929T181247Z
LAST-MODIFIED:20250929T181247Z
UID:10006512-1829415600-1829421000@silverdalelutheran.org
SUMMARY:Hometown Band
DESCRIPTION:
URL:https://silverdalelutheran.org/event/hometown-band/2027-12-21/
CATEGORIES:Private Group
END:VEVENT
BEGIN:VEVENT
DTSTART;TZID=America/Los_Angeles:20271221T190000
DTEND;TZID=America/Los_Angeles:20271221T210000
DTSTAMP:20260424T112735
CREATED:20250929T193807Z
LAST-MODIFIED:20250929T193852Z
UID:10009507-1829415600-1829422800@silverdalelutheran.org
SUMMARY:Compassionate Friends (4)
DESCRIPTION:
URL:https://silverdalelutheran.org/event/compassionate-friend-4/2027-12-21/
CATEGORIES:Private Group
END:VEVENT
BEGIN:VEVENT
DTSTART;TZID=America/Los_Angeles:20271223T083000
DTEND;TZID=America/Los_Angeles:20271223T113000
DTSTAMP:20260424T112735
CREATED:20250929T181743Z
LAST-MODIFIED:20250929T181743Z
UID:10007094-1829550600-1829561400@silverdalelutheran.org
SUMMARY:Bible Study Fellowship (S\, 21-23)
DESCRIPTION:
URL:https://silverdalelutheran.org/event/bible-study-fellowship-s-21-23/2027-12-23/
CATEGORIES:Private Group
END:VEVENT
BEGIN:VEVENT
DTSTART;TZID=America/Los_Angeles:20271223T180000
DTEND;TZID=America/Los_Angeles:20271223T200000
DTSTAMP:20260424T112735
CREATED:20250929T194007Z
LAST-MODIFIED:20250929T194007Z
UID:10009567-1829584800-1829592000@silverdalelutheran.org
SUMMARY:Kitsap County Search Dogs (FH)
DESCRIPTION:
URL:https://silverdalelutheran.org/event/kitsap-county-search-dogs-fh/2027-12-23/
CATEGORIES:Private Group
END:VEVENT
BEGIN:VEVENT
DTSTART;TZID=America/Los_Angeles:20271227T083000
DTEND;TZID=America/Los_Angeles:20271228T113000
DTSTAMP:20260424T112735
CREATED:20250929T180033Z
LAST-MODIFIED:20250929T191603Z
UID:10009152-1829896200-1829993400@silverdalelutheran.org
SUMMARY:Bible Study Fellowship (GP\, 21-23\, N)
DESCRIPTION:
URL:https://silverdalelutheran.org/event/bible-study-fellowship-gp-21-23-n-2/2027-12-27/
CATEGORIES:Private Group
END:VEVENT
BEGIN:VEVENT
DTSTART;TZID=America/Los_Angeles:20271228T180000
DTEND;TZID=America/Los_Angeles:20271228T200000
DTSTAMP:20260424T112735
CREATED:20250929T183535Z
LAST-MODIFIED:20250929T183620Z
UID:10008641-1830016800-1830024000@silverdalelutheran.org
SUMMARY:Antir.org (GP)
DESCRIPTION:
URL:https://silverdalelutheran.org/event/antir-org/2027-12-28/
CATEGORIES:Private Group
END:VEVENT
BEGIN:VEVENT
DTSTART;TZID=America/Los_Angeles:20271228T183000
DTEND;TZID=America/Los_Angeles:20271228T203000
DTSTAMP:20260424T112735
CREATED:20250929T195350Z
LAST-MODIFIED:20250929T195350Z
UID:10009749-1830018600-1830025800@silverdalelutheran.org
SUMMARY:Scout Planning Meeting
DESCRIPTION:
URL:https://silverdalelutheran.org/event/scout-planning-meeting/2027-12-28/
CATEGORIES:Private Group
END:VEVENT
BEGIN:VEVENT
DTSTART;TZID=America/Los_Angeles:20271228T190000
DTEND;TZID=America/Los_Angeles:20271228T203000
DTSTAMP:20260424T112735
CREATED:20250929T181247Z
LAST-MODIFIED:20250929T181247Z
UID:10006513-1830020400-1830025800@silverdalelutheran.org
SUMMARY:Hometown Band
DESCRIPTION:
URL:https://silverdalelutheran.org/event/hometown-band/2027-12-28/
CATEGORIES:Private Group
END:VEVENT
BEGIN:VEVENT
DTSTART;TZID=America/Los_Angeles:20271228T190000
DTEND;TZID=America/Los_Angeles:20271228T203000
DTSTAMP:20260424T112735
CREATED:20250929T195516Z
LAST-MODIFIED:20250929T195516Z
UID:10009809-1830020400-1830025800@silverdalelutheran.org
SUMMARY:Barnabas Book Club (Private residence)
DESCRIPTION:
URL:https://silverdalelutheran.org/event/barnabas-book-club-private-residence/2027-12-28/
CATEGORIES:Private Group
END:VEVENT
BEGIN:VEVENT
DTSTART;TZID=America/Los_Angeles:20271230T083000
DTEND;TZID=America/Los_Angeles:20271230T113000
DTSTAMP:20260424T112735
CREATED:20250929T181743Z
LAST-MODIFIED:20250929T181743Z
UID:10007095-1830155400-1830166200@silverdalelutheran.org
SUMMARY:Bible Study Fellowship (S\, 21-23)
DESCRIPTION:
URL:https://silverdalelutheran.org/event/bible-study-fellowship-s-21-23/2027-12-30/
CATEGORIES:Private Group
END:VEVENT
BEGIN:VEVENT
DTSTART;TZID=America/Los_Angeles:20271230T183000
DTEND;TZID=America/Los_Angeles:20271230T201500
DTSTAMP:20260424T112735
CREATED:20250929T200004Z
LAST-MODIFIED:20250929T200004Z
UID:10009853-1830191400-1830197700@silverdalelutheran.org
SUMMARY:Lutherhaven Bd Mtg (4)
DESCRIPTION:
URL:https://silverdalelutheran.org/event/lutherhaven-bd-mtg-4/2027-12-30/
CATEGORIES:Private Group
END:VEVENT
BEGIN:VEVENT
DTSTART;TZID=America/Los_Angeles:20280101T100000
DTEND;TZID=America/Los_Angeles:20280101T120000
DTSTAMP:20260424T112735
CREATED:20250929T182332Z
LAST-MODIFIED:20250929T182422Z
UID:10007848-1830333600-1830340800@silverdalelutheran.org
SUMMARY:League of Women Voters (4)
DESCRIPTION:
URL:https://silverdalelutheran.org/event/league-of-women-voters-4/2028-01-01/
LOCATION:Silverdale Lutheran Church\, 11701 Ridgepoint Dr NW\, Silverdale\, WA\, 98383\, United States
CATEGORIES:Private Group
END:VEVENT
BEGIN:VEVENT
DTSTART;TZID=America/Los_Angeles:20280103T083000
DTEND;TZID=America/Los_Angeles:20280104T113000
DTSTAMP:20260424T112735
CREATED:20250929T180033Z
LAST-MODIFIED:20250929T191603Z
UID:10009153-1830501000-1830598200@silverdalelutheran.org
SUMMARY:Bible Study Fellowship (GP\, 21-23\, N)
DESCRIPTION:
URL:https://silverdalelutheran.org/event/bible-study-fellowship-gp-21-23-n-2/2028-01-03/
CATEGORIES:Private Group
END:VEVENT
BEGIN:VEVENT
DTSTART;TZID=America/Los_Angeles:20280104T180000
DTEND;TZID=America/Los_Angeles:20280104T200000
DTSTAMP:20260424T112735
CREATED:20250929T183535Z
LAST-MODIFIED:20250929T183620Z
UID:10008642-1830621600-1830628800@silverdalelutheran.org
SUMMARY:Antir.org (GP)
DESCRIPTION:
URL:https://silverdalelutheran.org/event/antir-org/2028-01-04/
CATEGORIES:Private Group
END:VEVENT
BEGIN:VEVENT
DTSTART;TZID=America/Los_Angeles:20280104T190000
DTEND;TZID=America/Los_Angeles:20280104T203000
DTSTAMP:20260424T112735
CREATED:20250929T181247Z
LAST-MODIFIED:20250929T181247Z
UID:10006514-1830625200-1830630600@silverdalelutheran.org
SUMMARY:Hometown Band
DESCRIPTION:
URL:https://silverdalelutheran.org/event/hometown-band/2028-01-04/
CATEGORIES:Private Group
END:VEVENT
BEGIN:VEVENT
DTSTART;TZID=America/Los_Angeles:20280106T083000
DTEND;TZID=America/Los_Angeles:20280106T113000
DTSTAMP:20260424T112735
CREATED:20250929T181743Z
LAST-MODIFIED:20250929T181743Z
UID:10007096-1830760200-1830771000@silverdalelutheran.org
SUMMARY:Bible Study Fellowship (S\, 21-23)
DESCRIPTION:
URL:https://silverdalelutheran.org/event/bible-study-fellowship-s-21-23/2028-01-06/
CATEGORIES:Private Group
END:VEVENT
BEGIN:VEVENT
DTSTART;TZID=America/Los_Angeles:20280110T083000
DTEND;TZID=America/Los_Angeles:20280111T113000
DTSTAMP:20260424T112735
CREATED:20250929T180033Z
LAST-MODIFIED:20250929T191603Z
UID:10009154-1831105800-1831203000@silverdalelutheran.org
SUMMARY:Bible Study Fellowship (GP\, 21-23\, N)
DESCRIPTION:
URL:https://silverdalelutheran.org/event/bible-study-fellowship-gp-21-23-n-2/2028-01-10/
CATEGORIES:Private Group
END:VEVENT
BEGIN:VEVENT
DTSTART;TZID=America/Los_Angeles:20280111T180000
DTEND;TZID=America/Los_Angeles:20280111T200000
DTSTAMP:20260424T112735
CREATED:20250929T183535Z
LAST-MODIFIED:20250929T183620Z
UID:10008643-1831226400-1831233600@silverdalelutheran.org
SUMMARY:Antir.org (GP)
DESCRIPTION:
URL:https://silverdalelutheran.org/event/antir-org/2028-01-11/
CATEGORIES:Private Group
END:VEVENT
BEGIN:VEVENT
DTSTART;TZID=America/Los_Angeles:20280111T190000
DTEND;TZID=America/Los_Angeles:20280111T203000
DTSTAMP:20260424T112735
CREATED:20250929T181247Z
LAST-MODIFIED:20250929T181247Z
UID:10006515-1831230000-1831235400@silverdalelutheran.org
SUMMARY:Hometown Band
DESCRIPTION:
URL:https://silverdalelutheran.org/event/hometown-band/2028-01-11/
CATEGORIES:Private Group
END:VEVENT
BEGIN:VEVENT
DTSTART;TZID=America/Los_Angeles:20280113T083000
DTEND;TZID=America/Los_Angeles:20280113T113000
DTSTAMP:20260424T112735
CREATED:20250929T181743Z
LAST-MODIFIED:20250929T181743Z
UID:10007097-1831365000-1831375800@silverdalelutheran.org
SUMMARY:Bible Study Fellowship (S\, 21-23)
DESCRIPTION:
URL:https://silverdalelutheran.org/event/bible-study-fellowship-s-21-23/2028-01-13/
CATEGORIES:Private Group
END:VEVENT
BEGIN:VEVENT
DTSTART;TZID=America/Los_Angeles:20280117T083000
DTEND;TZID=America/Los_Angeles:20280118T113000
DTSTAMP:20260424T112735
CREATED:20250929T180033Z
LAST-MODIFIED:20250929T191603Z
UID:10009155-1831710600-1831807800@silverdalelutheran.org
SUMMARY:Bible Study Fellowship (GP\, 21-23\, N)
DESCRIPTION:
URL:https://silverdalelutheran.org/event/bible-study-fellowship-gp-21-23-n-2/2028-01-17/
CATEGORIES:Private Group
END:VEVENT
BEGIN:VEVENT
DTSTART;TZID=America/Los_Angeles:20280117T183000
DTEND;TZID=America/Los_Angeles:20280117T200000
DTSTAMP:20260424T112735
CREATED:20250929T193634Z
LAST-MODIFIED:20250929T193634Z
UID:10009448-1831746600-1831752000@silverdalelutheran.org
SUMMARY:GSWW Leaders Meeting (4)
DESCRIPTION:
URL:https://silverdalelutheran.org/event/gsww-leaders-meeting-4/2028-01-17/
CATEGORIES:Private Group
END:VEVENT
BEGIN:VEVENT
DTSTART;TZID=America/Los_Angeles:20280118T180000
DTEND;TZID=America/Los_Angeles:20280118T200000
DTSTAMP:20260424T112735
CREATED:20250929T183535Z
LAST-MODIFIED:20250929T183620Z
UID:10008644-1831831200-1831838400@silverdalelutheran.org
SUMMARY:Antir.org (GP)
DESCRIPTION:
URL:https://silverdalelutheran.org/event/antir-org/2028-01-18/
CATEGORIES:Private Group
END:VEVENT
BEGIN:VEVENT
DTSTART;TZID=America/Los_Angeles:20280118T190000
DTEND;TZID=America/Los_Angeles:20280118T203000
DTSTAMP:20260424T112735
CREATED:20250929T181247Z
LAST-MODIFIED:20250929T181247Z
UID:10006516-1831834800-1831840200@silverdalelutheran.org
SUMMARY:Hometown Band
DESCRIPTION:
URL:https://silverdalelutheran.org/event/hometown-band/2028-01-18/
CATEGORIES:Private Group
END:VEVENT
BEGIN:VEVENT
DTSTART;TZID=America/Los_Angeles:20280118T190000
DTEND;TZID=America/Los_Angeles:20280118T210000
DTSTAMP:20260424T112735
CREATED:20250929T193807Z
LAST-MODIFIED:20250929T193852Z
UID:10009508-1831834800-1831842000@silverdalelutheran.org
SUMMARY:Compassionate Friends (4)
DESCRIPTION:
URL:https://silverdalelutheran.org/event/compassionate-friend-4/2028-01-18/
CATEGORIES:Private Group
END:VEVENT
BEGIN:VEVENT
DTSTART;TZID=America/Los_Angeles:20280119T130000
DTEND;TZID=America/Los_Angeles:20280119T140000
DTSTAMP:20260424T112735
CREATED:20250929T192040Z
LAST-MODIFIED:20250929T192040Z
UID:10009385-1831899600-1831903200@silverdalelutheran.org
SUMMARY:Parkinsons group (St)
DESCRIPTION:Monthly on the third Wednesday
URL:https://silverdalelutheran.org/event/parkinsons-group-st/2028-01-19/
LOCATION:Silverdale Lutheran Church\, 11701 Ridgepoint Dr NW\, Silverdale\, WA\, 98383\, United States
CATEGORIES:Private Group
END:VEVENT
BEGIN:VEVENT
DTSTART;TZID=America/Los_Angeles:20280120T083000
DTEND;TZID=America/Los_Angeles:20280120T113000
DTSTAMP:20260424T112735
CREATED:20250929T181743Z
LAST-MODIFIED:20250929T181743Z
UID:10007098-1831969800-1831980600@silverdalelutheran.org
SUMMARY:Bible Study Fellowship (S\, 21-23)
DESCRIPTION:
URL:https://silverdalelutheran.org/event/bible-study-fellowship-s-21-23/2028-01-20/
CATEGORIES:Private Group
END:VEVENT
BEGIN:VEVENT
DTSTART;TZID=America/Los_Angeles:20280124T083000
DTEND;TZID=America/Los_Angeles:20280125T113000
DTSTAMP:20260424T112735
CREATED:20250929T180033Z
LAST-MODIFIED:20250929T191603Z
UID:10009156-1832315400-1832412600@silverdalelutheran.org
SUMMARY:Bible Study Fellowship (GP\, 21-23\, N)
DESCRIPTION:
URL:https://silverdalelutheran.org/event/bible-study-fellowship-gp-21-23-n-2/2028-01-24/
CATEGORIES:Private Group
END:VEVENT
BEGIN:VEVENT
DTSTART;TZID=America/Los_Angeles:20280125T180000
DTEND;TZID=America/Los_Angeles:20280125T200000
DTSTAMP:20260424T112735
CREATED:20250929T183535Z
LAST-MODIFIED:20250929T183620Z
UID:10008645-1832436000-1832443200@silverdalelutheran.org
SUMMARY:Antir.org (GP)
DESCRIPTION:
URL:https://silverdalelutheran.org/event/antir-org/2028-01-25/
CATEGORIES:Private Group
END:VEVENT
END:VCALENDAR