BEGIN:VCALENDAR
VERSION:2.0
PRODID:-//Silverdale Lutheran Church - ECPv6.15.12.2//NONSGML v1.0//EN
CALSCALE:GREGORIAN
METHOD:PUBLISH
X-WR-CALNAME:Silverdale Lutheran Church
X-ORIGINAL-URL:https://silverdalelutheran.org
X-WR-CALDESC:Events for Silverdale Lutheran Church
REFRESH-INTERVAL;VALUE=DURATION:PT1H
X-Robots-Tag:noindex
X-PUBLISHED-TTL:PT1H
BEGIN:VTIMEZONE
TZID:America/Los_Angeles
BEGIN:DAYLIGHT
TZOFFSETFROM:-0800
TZOFFSETTO:-0700
TZNAME:PDT
DTSTART:20260308T100000
END:DAYLIGHT
BEGIN:STANDARD
TZOFFSETFROM:-0700
TZOFFSETTO:-0800
TZNAME:PST
DTSTART:20261101T090000
END:STANDARD
BEGIN:DAYLIGHT
TZOFFSETFROM:-0800
TZOFFSETTO:-0700
TZNAME:PDT
DTSTART:20270314T100000
END:DAYLIGHT
BEGIN:STANDARD
TZOFFSETFROM:-0700
TZOFFSETTO:-0800
TZNAME:PST
DTSTART:20271107T090000
END:STANDARD
BEGIN:DAYLIGHT
TZOFFSETFROM:-0800
TZOFFSETTO:-0700
TZNAME:PDT
DTSTART:20280312T100000
END:DAYLIGHT
BEGIN:STANDARD
TZOFFSETFROM:-0700
TZOFFSETTO:-0800
TZNAME:PST
DTSTART:20281105T090000
END:STANDARD
END:VTIMEZONE
BEGIN:VEVENT
DTSTART;TZID=America/Los_Angeles:20271115T083000
DTEND;TZID=America/Los_Angeles:20271116T113000
DTSTAMP:20260424T073518
CREATED:20250929T180033Z
LAST-MODIFIED:20250929T191603Z
UID:10009146-1826267400-1826364600@silverdalelutheran.org
SUMMARY:Bible Study Fellowship (GP\, 21-23\, N)
DESCRIPTION:
URL:https://silverdalelutheran.org/event/bible-study-fellowship-gp-21-23-n-2/2027-11-15/
CATEGORIES:Private Group
END:VEVENT
BEGIN:VEVENT
DTSTART;TZID=America/Los_Angeles:20271115T183000
DTEND;TZID=America/Los_Angeles:20271115T200000
DTSTAMP:20260424T073518
CREATED:20250929T193634Z
LAST-MODIFIED:20250929T193634Z
UID:10009446-1826303400-1826308800@silverdalelutheran.org
SUMMARY:GSWW Leaders Meeting (4)
DESCRIPTION:
URL:https://silverdalelutheran.org/event/gsww-leaders-meeting-4/2027-11-15/
CATEGORIES:Private Group
END:VEVENT
BEGIN:VEVENT
DTSTART;TZID=America/Los_Angeles:20271116T180000
DTEND;TZID=America/Los_Angeles:20271116T200000
DTSTAMP:20260424T073518
CREATED:20250929T183535Z
LAST-MODIFIED:20250929T183620Z
UID:10008635-1826388000-1826395200@silverdalelutheran.org
SUMMARY:Antir.org (GP)
DESCRIPTION:
URL:https://silverdalelutheran.org/event/antir-org/2027-11-16/
CATEGORIES:Private Group
END:VEVENT
BEGIN:VEVENT
DTSTART;TZID=America/Los_Angeles:20271116T190000
DTEND;TZID=America/Los_Angeles:20271116T203000
DTSTAMP:20260424T073518
CREATED:20250929T181247Z
LAST-MODIFIED:20250929T181247Z
UID:10006507-1826391600-1826397000@silverdalelutheran.org
SUMMARY:Hometown Band
DESCRIPTION:
URL:https://silverdalelutheran.org/event/hometown-band/2027-11-16/
CATEGORIES:Private Group
END:VEVENT
BEGIN:VEVENT
DTSTART;TZID=America/Los_Angeles:20271116T190000
DTEND;TZID=America/Los_Angeles:20271116T210000
DTSTAMP:20260424T073518
CREATED:20250929T193807Z
LAST-MODIFIED:20250929T193852Z
UID:10009506-1826391600-1826398800@silverdalelutheran.org
SUMMARY:Compassionate Friends (4)
DESCRIPTION:
URL:https://silverdalelutheran.org/event/compassionate-friend-4/2027-11-16/
CATEGORIES:Private Group
END:VEVENT
BEGIN:VEVENT
DTSTART;TZID=America/Los_Angeles:20271117T130000
DTEND;TZID=America/Los_Angeles:20271117T140000
DTSTAMP:20260424T073518
CREATED:20250929T192040Z
LAST-MODIFIED:20250929T192040Z
UID:10009383-1826456400-1826460000@silverdalelutheran.org
SUMMARY:Parkinsons group (St)
DESCRIPTION:Monthly on the third Wednesday
URL:https://silverdalelutheran.org/event/parkinsons-group-st/2027-11-17/
LOCATION:Silverdale Lutheran Church\, 11701 Ridgepoint Dr NW\, Silverdale\, WA\, 98383\, United States
CATEGORIES:Private Group
END:VEVENT
BEGIN:VEVENT
DTSTART;TZID=America/Los_Angeles:20271118T083000
DTEND;TZID=America/Los_Angeles:20271118T113000
DTSTAMP:20260424T073518
CREATED:20250929T181743Z
LAST-MODIFIED:20250929T181743Z
UID:10007089-1826526600-1826537400@silverdalelutheran.org
SUMMARY:Bible Study Fellowship (S\, 21-23)
DESCRIPTION:
URL:https://silverdalelutheran.org/event/bible-study-fellowship-s-21-23/2027-11-18/
CATEGORIES:Private Group
END:VEVENT
BEGIN:VEVENT
DTSTART;TZID=America/Los_Angeles:20271122T083000
DTEND;TZID=America/Los_Angeles:20271123T113000
DTSTAMP:20260424T073518
CREATED:20250929T180033Z
LAST-MODIFIED:20250929T191603Z
UID:10009147-1826872200-1826969400@silverdalelutheran.org
SUMMARY:Bible Study Fellowship (GP\, 21-23\, N)
DESCRIPTION:
URL:https://silverdalelutheran.org/event/bible-study-fellowship-gp-21-23-n-2/2027-11-22/
CATEGORIES:Private Group
END:VEVENT
BEGIN:VEVENT
DTSTART;TZID=America/Los_Angeles:20271123T180000
DTEND;TZID=America/Los_Angeles:20271123T200000
DTSTAMP:20260424T073518
CREATED:20250929T183535Z
LAST-MODIFIED:20250929T183620Z
UID:10008636-1826992800-1827000000@silverdalelutheran.org
SUMMARY:Antir.org (GP)
DESCRIPTION:
URL:https://silverdalelutheran.org/event/antir-org/2027-11-23/
CATEGORIES:Private Group
END:VEVENT
BEGIN:VEVENT
DTSTART;TZID=America/Los_Angeles:20271123T183000
DTEND;TZID=America/Los_Angeles:20271123T203000
DTSTAMP:20260424T073518
CREATED:20250929T195350Z
LAST-MODIFIED:20250929T195350Z
UID:10009748-1826994600-1827001800@silverdalelutheran.org
SUMMARY:Scout Planning Meeting
DESCRIPTION:
URL:https://silverdalelutheran.org/event/scout-planning-meeting/2027-11-23/
CATEGORIES:Private Group
END:VEVENT
BEGIN:VEVENT
DTSTART;TZID=America/Los_Angeles:20271123T190000
DTEND;TZID=America/Los_Angeles:20271123T203000
DTSTAMP:20260424T073518
CREATED:20250929T181247Z
LAST-MODIFIED:20250929T181247Z
UID:10006508-1826996400-1827001800@silverdalelutheran.org
SUMMARY:Hometown Band
DESCRIPTION:
URL:https://silverdalelutheran.org/event/hometown-band/2027-11-23/
CATEGORIES:Private Group
END:VEVENT
BEGIN:VEVENT
DTSTART;TZID=America/Los_Angeles:20271123T190000
DTEND;TZID=America/Los_Angeles:20271123T203000
DTSTAMP:20260424T073518
CREATED:20250929T195516Z
LAST-MODIFIED:20250929T195516Z
UID:10009808-1826996400-1827001800@silverdalelutheran.org
SUMMARY:Barnabas Book Club (Private residence)
DESCRIPTION:
URL:https://silverdalelutheran.org/event/barnabas-book-club-private-residence/2027-11-23/
CATEGORIES:Private Group
END:VEVENT
BEGIN:VEVENT
DTSTART;TZID=America/Los_Angeles:20271125T083000
DTEND;TZID=America/Los_Angeles:20271125T113000
DTSTAMP:20260424T073518
CREATED:20250929T181743Z
LAST-MODIFIED:20250929T181743Z
UID:10007090-1827131400-1827142200@silverdalelutheran.org
SUMMARY:Bible Study Fellowship (S\, 21-23)
DESCRIPTION:
URL:https://silverdalelutheran.org/event/bible-study-fellowship-s-21-23/2027-11-25/
CATEGORIES:Private Group
END:VEVENT
BEGIN:VEVENT
DTSTART;TZID=America/Los_Angeles:20271125T180000
DTEND;TZID=America/Los_Angeles:20271125T200000
DTSTAMP:20260424T073518
CREATED:20250929T194007Z
LAST-MODIFIED:20250929T194007Z
UID:10009566-1827165600-1827172800@silverdalelutheran.org
SUMMARY:Kitsap County Search Dogs (FH)
DESCRIPTION:
URL:https://silverdalelutheran.org/event/kitsap-county-search-dogs-fh/2027-11-25/
CATEGORIES:Private Group
END:VEVENT
BEGIN:VEVENT
DTSTART;TZID=America/Los_Angeles:20271129T083000
DTEND;TZID=America/Los_Angeles:20271130T113000
DTSTAMP:20260424T073518
CREATED:20250929T180033Z
LAST-MODIFIED:20250929T191603Z
UID:10009148-1827477000-1827574200@silverdalelutheran.org
SUMMARY:Bible Study Fellowship (GP\, 21-23\, N)
DESCRIPTION:
URL:https://silverdalelutheran.org/event/bible-study-fellowship-gp-21-23-n-2/2027-11-29/
CATEGORIES:Private Group
END:VEVENT
BEGIN:VEVENT
DTSTART;TZID=America/Los_Angeles:20271130T180000
DTEND;TZID=America/Los_Angeles:20271130T200000
DTSTAMP:20260424T073518
CREATED:20250929T183535Z
LAST-MODIFIED:20250929T183620Z
UID:10008637-1827597600-1827604800@silverdalelutheran.org
SUMMARY:Antir.org (GP)
DESCRIPTION:
URL:https://silverdalelutheran.org/event/antir-org/2027-11-30/
CATEGORIES:Private Group
END:VEVENT
BEGIN:VEVENT
DTSTART;TZID=America/Los_Angeles:20271130T190000
DTEND;TZID=America/Los_Angeles:20271130T203000
DTSTAMP:20260424T073518
CREATED:20250929T181247Z
LAST-MODIFIED:20250929T181247Z
UID:10006509-1827601200-1827606600@silverdalelutheran.org
SUMMARY:Hometown Band
DESCRIPTION:
URL:https://silverdalelutheran.org/event/hometown-band/2027-11-30/
CATEGORIES:Private Group
END:VEVENT
BEGIN:VEVENT
DTSTART;TZID=America/Los_Angeles:20271202T083000
DTEND;TZID=America/Los_Angeles:20271202T113000
DTSTAMP:20260424T073518
CREATED:20250929T181743Z
LAST-MODIFIED:20250929T181743Z
UID:10007091-1827736200-1827747000@silverdalelutheran.org
SUMMARY:Bible Study Fellowship (S\, 21-23)
DESCRIPTION:
URL:https://silverdalelutheran.org/event/bible-study-fellowship-s-21-23/2027-12-02/
CATEGORIES:Private Group
END:VEVENT
BEGIN:VEVENT
DTSTART;TZID=America/Los_Angeles:20271204T100000
DTEND;TZID=America/Los_Angeles:20271204T120000
DTSTAMP:20260424T073518
CREATED:20250929T182332Z
LAST-MODIFIED:20250929T182422Z
UID:10007847-1827914400-1827921600@silverdalelutheran.org
SUMMARY:League of Women Voters (4)
DESCRIPTION:
URL:https://silverdalelutheran.org/event/league-of-women-voters-4/2027-12-04/
LOCATION:Silverdale Lutheran Church\, 11701 Ridgepoint Dr NW\, Silverdale\, WA\, 98383\, United States
CATEGORIES:Private Group
END:VEVENT
BEGIN:VEVENT
DTSTART;TZID=America/Los_Angeles:20271206T083000
DTEND;TZID=America/Los_Angeles:20271207T113000
DTSTAMP:20260424T073518
CREATED:20250929T180033Z
LAST-MODIFIED:20250929T191603Z
UID:10009149-1828081800-1828179000@silverdalelutheran.org
SUMMARY:Bible Study Fellowship (GP\, 21-23\, N)
DESCRIPTION:
URL:https://silverdalelutheran.org/event/bible-study-fellowship-gp-21-23-n-2/2027-12-06/
CATEGORIES:Private Group
END:VEVENT
BEGIN:VEVENT
DTSTART;TZID=America/Los_Angeles:20271207T180000
DTEND;TZID=America/Los_Angeles:20271207T200000
DTSTAMP:20260424T073518
CREATED:20250929T183535Z
LAST-MODIFIED:20250929T183620Z
UID:10008638-1828202400-1828209600@silverdalelutheran.org
SUMMARY:Antir.org (GP)
DESCRIPTION:
URL:https://silverdalelutheran.org/event/antir-org/2027-12-07/
CATEGORIES:Private Group
END:VEVENT
BEGIN:VEVENT
DTSTART;TZID=America/Los_Angeles:20271207T190000
DTEND;TZID=America/Los_Angeles:20271207T203000
DTSTAMP:20260424T073518
CREATED:20250929T181247Z
LAST-MODIFIED:20250929T181247Z
UID:10006510-1828206000-1828211400@silverdalelutheran.org
SUMMARY:Hometown Band
DESCRIPTION:
URL:https://silverdalelutheran.org/event/hometown-band/2027-12-07/
CATEGORIES:Private Group
END:VEVENT
BEGIN:VEVENT
DTSTART;TZID=America/Los_Angeles:20271209T083000
DTEND;TZID=America/Los_Angeles:20271209T113000
DTSTAMP:20260424T073518
CREATED:20250929T181743Z
LAST-MODIFIED:20250929T181743Z
UID:10007092-1828341000-1828351800@silverdalelutheran.org
SUMMARY:Bible Study Fellowship (S\, 21-23)
DESCRIPTION:
URL:https://silverdalelutheran.org/event/bible-study-fellowship-s-21-23/2027-12-09/
CATEGORIES:Private Group
END:VEVENT
BEGIN:VEVENT
DTSTART;TZID=America/Los_Angeles:20271213T083000
DTEND;TZID=America/Los_Angeles:20271214T113000
DTSTAMP:20260424T073518
CREATED:20250929T180033Z
LAST-MODIFIED:20250929T191603Z
UID:10009150-1828686600-1828783800@silverdalelutheran.org
SUMMARY:Bible Study Fellowship (GP\, 21-23\, N)
DESCRIPTION:
URL:https://silverdalelutheran.org/event/bible-study-fellowship-gp-21-23-n-2/2027-12-13/
CATEGORIES:Private Group
END:VEVENT
BEGIN:VEVENT
DTSTART;TZID=America/Los_Angeles:20271214T180000
DTEND;TZID=America/Los_Angeles:20271214T200000
DTSTAMP:20260424T073518
CREATED:20250929T183535Z
LAST-MODIFIED:20250929T183620Z
UID:10008639-1828807200-1828814400@silverdalelutheran.org
SUMMARY:Antir.org (GP)
DESCRIPTION:
URL:https://silverdalelutheran.org/event/antir-org/2027-12-14/
CATEGORIES:Private Group
END:VEVENT
BEGIN:VEVENT
DTSTART;TZID=America/Los_Angeles:20271214T190000
DTEND;TZID=America/Los_Angeles:20271214T203000
DTSTAMP:20260424T073518
CREATED:20250929T181247Z
LAST-MODIFIED:20250929T181247Z
UID:10006511-1828810800-1828816200@silverdalelutheran.org
SUMMARY:Hometown Band
DESCRIPTION:
URL:https://silverdalelutheran.org/event/hometown-band/2027-12-14/
CATEGORIES:Private Group
END:VEVENT
BEGIN:VEVENT
DTSTART;TZID=America/Los_Angeles:20271215T130000
DTEND;TZID=America/Los_Angeles:20271215T140000
DTSTAMP:20260424T073518
CREATED:20250929T192040Z
LAST-MODIFIED:20250929T192040Z
UID:10009384-1828875600-1828879200@silverdalelutheran.org
SUMMARY:Parkinsons group (St)
DESCRIPTION:Monthly on the third Wednesday
URL:https://silverdalelutheran.org/event/parkinsons-group-st/2027-12-15/
LOCATION:Silverdale Lutheran Church\, 11701 Ridgepoint Dr NW\, Silverdale\, WA\, 98383\, United States
CATEGORIES:Private Group
END:VEVENT
BEGIN:VEVENT
DTSTART;TZID=America/Los_Angeles:20271216T083000
DTEND;TZID=America/Los_Angeles:20271216T113000
DTSTAMP:20260424T073518
CREATED:20250929T181743Z
LAST-MODIFIED:20250929T181743Z
UID:10007093-1828945800-1828956600@silverdalelutheran.org
SUMMARY:Bible Study Fellowship (S\, 21-23)
DESCRIPTION:
URL:https://silverdalelutheran.org/event/bible-study-fellowship-s-21-23/2027-12-16/
CATEGORIES:Private Group
END:VEVENT
BEGIN:VEVENT
DTSTART;TZID=America/Los_Angeles:20271220T083000
DTEND;TZID=America/Los_Angeles:20271221T113000
DTSTAMP:20260424T073518
CREATED:20250929T180033Z
LAST-MODIFIED:20250929T191603Z
UID:10009151-1829291400-1829388600@silverdalelutheran.org
SUMMARY:Bible Study Fellowship (GP\, 21-23\, N)
DESCRIPTION:
URL:https://silverdalelutheran.org/event/bible-study-fellowship-gp-21-23-n-2/2027-12-20/
CATEGORIES:Private Group
END:VEVENT
BEGIN:VEVENT
DTSTART;TZID=America/Los_Angeles:20271220T183000
DTEND;TZID=America/Los_Angeles:20271220T200000
DTSTAMP:20260424T073518
CREATED:20250929T193634Z
LAST-MODIFIED:20250929T193634Z
UID:10009447-1829327400-1829332800@silverdalelutheran.org
SUMMARY:GSWW Leaders Meeting (4)
DESCRIPTION:
URL:https://silverdalelutheran.org/event/gsww-leaders-meeting-4/2027-12-20/
CATEGORIES:Private Group
END:VEVENT
END:VCALENDAR