BEGIN:VCALENDAR
VERSION:2.0
PRODID:-//Silverdale Lutheran Church - ECPv6.15.12.2//NONSGML v1.0//EN
CALSCALE:GREGORIAN
METHOD:PUBLISH
X-WR-CALNAME:Silverdale Lutheran Church
X-ORIGINAL-URL:https://silverdalelutheran.org
X-WR-CALDESC:Events for Silverdale Lutheran Church
REFRESH-INTERVAL;VALUE=DURATION:PT1H
X-Robots-Tag:noindex
X-PUBLISHED-TTL:PT1H
BEGIN:VTIMEZONE
TZID:America/Los_Angeles
BEGIN:DAYLIGHT
TZOFFSETFROM:-0800
TZOFFSETTO:-0700
TZNAME:PDT
DTSTART:20260308T100000
END:DAYLIGHT
BEGIN:STANDARD
TZOFFSETFROM:-0700
TZOFFSETTO:-0800
TZNAME:PST
DTSTART:20261101T090000
END:STANDARD
BEGIN:DAYLIGHT
TZOFFSETFROM:-0800
TZOFFSETTO:-0700
TZNAME:PDT
DTSTART:20270314T100000
END:DAYLIGHT
BEGIN:STANDARD
TZOFFSETFROM:-0700
TZOFFSETTO:-0800
TZNAME:PST
DTSTART:20271107T090000
END:STANDARD
BEGIN:DAYLIGHT
TZOFFSETFROM:-0800
TZOFFSETTO:-0700
TZNAME:PDT
DTSTART:20280312T100000
END:DAYLIGHT
BEGIN:STANDARD
TZOFFSETFROM:-0700
TZOFFSETTO:-0800
TZNAME:PST
DTSTART:20281105T090000
END:STANDARD
END:VTIMEZONE
BEGIN:VEVENT
DTSTART;TZID=America/Los_Angeles:20270923T180000
DTEND;TZID=America/Los_Angeles:20270923T200000
DTSTAMP:20260424T023602
CREATED:20250929T194007Z
LAST-MODIFIED:20250929T194007Z
UID:10009564-1821722400-1821729600@silverdalelutheran.org
SUMMARY:Kitsap County Search Dogs (FH)
DESCRIPTION:
URL:https://silverdalelutheran.org/event/kitsap-county-search-dogs-fh/2027-09-23/
CATEGORIES:Private Group
END:VEVENT
BEGIN:VEVENT
DTSTART;TZID=America/Los_Angeles:20270927T083000
DTEND;TZID=America/Los_Angeles:20270928T113000
DTSTAMP:20260424T023602
CREATED:20250929T180033Z
LAST-MODIFIED:20250929T191603Z
UID:10009139-1822033800-1822131000@silverdalelutheran.org
SUMMARY:Bible Study Fellowship (GP\, 21-23\, N)
DESCRIPTION:
URL:https://silverdalelutheran.org/event/bible-study-fellowship-gp-21-23-n-2/2027-09-27/
CATEGORIES:Private Group
END:VEVENT
BEGIN:VEVENT
DTSTART;TZID=America/Los_Angeles:20270928T180000
DTEND;TZID=America/Los_Angeles:20270928T200000
DTSTAMP:20260424T023602
CREATED:20250929T183535Z
LAST-MODIFIED:20250929T183620Z
UID:10008628-1822154400-1822161600@silverdalelutheran.org
SUMMARY:Antir.org (GP)
DESCRIPTION:
URL:https://silverdalelutheran.org/event/antir-org/2027-09-28/
CATEGORIES:Private Group
END:VEVENT
BEGIN:VEVENT
DTSTART;TZID=America/Los_Angeles:20270928T183000
DTEND;TZID=America/Los_Angeles:20270928T203000
DTSTAMP:20260424T023602
CREATED:20250929T195350Z
LAST-MODIFIED:20250929T195350Z
UID:10009746-1822156200-1822163400@silverdalelutheran.org
SUMMARY:Scout Planning Meeting
DESCRIPTION:
URL:https://silverdalelutheran.org/event/scout-planning-meeting/2027-09-28/
CATEGORIES:Private Group
END:VEVENT
BEGIN:VEVENT
DTSTART;TZID=America/Los_Angeles:20270928T190000
DTEND;TZID=America/Los_Angeles:20270928T203000
DTSTAMP:20260424T023602
CREATED:20250929T181247Z
LAST-MODIFIED:20250929T181247Z
UID:10006500-1822158000-1822163400@silverdalelutheran.org
SUMMARY:Hometown Band
DESCRIPTION:
URL:https://silverdalelutheran.org/event/hometown-band/2027-09-28/
CATEGORIES:Private Group
END:VEVENT
BEGIN:VEVENT
DTSTART;TZID=America/Los_Angeles:20270928T190000
DTEND;TZID=America/Los_Angeles:20270928T203000
DTSTAMP:20260424T023602
CREATED:20250929T195516Z
LAST-MODIFIED:20250929T195516Z
UID:10009806-1822158000-1822163400@silverdalelutheran.org
SUMMARY:Barnabas Book Club (Private residence)
DESCRIPTION:
URL:https://silverdalelutheran.org/event/barnabas-book-club-private-residence/2027-09-28/
CATEGORIES:Private Group
END:VEVENT
BEGIN:VEVENT
DTSTART;TZID=America/Los_Angeles:20270930T083000
DTEND;TZID=America/Los_Angeles:20270930T113000
DTSTAMP:20260424T023602
CREATED:20250929T181743Z
LAST-MODIFIED:20250929T181743Z
UID:10007082-1822293000-1822303800@silverdalelutheran.org
SUMMARY:Bible Study Fellowship (S\, 21-23)
DESCRIPTION:
URL:https://silverdalelutheran.org/event/bible-study-fellowship-s-21-23/2027-09-30/
CATEGORIES:Private Group
END:VEVENT
BEGIN:VEVENT
DTSTART;TZID=America/Los_Angeles:20270930T183000
DTEND;TZID=America/Los_Angeles:20270930T201500
DTSTAMP:20260424T023602
CREATED:20250929T200004Z
LAST-MODIFIED:20250929T200004Z
UID:10009852-1822329000-1822335300@silverdalelutheran.org
SUMMARY:Lutherhaven Bd Mtg (4)
DESCRIPTION:
URL:https://silverdalelutheran.org/event/lutherhaven-bd-mtg-4/2027-09-30/
CATEGORIES:Private Group
END:VEVENT
BEGIN:VEVENT
DTSTART;TZID=America/Los_Angeles:20271002T100000
DTEND;TZID=America/Los_Angeles:20271002T120000
DTSTAMP:20260424T023602
CREATED:20250929T182332Z
LAST-MODIFIED:20250929T182422Z
UID:10007845-1822471200-1822478400@silverdalelutheran.org
SUMMARY:League of Women Voters (4)
DESCRIPTION:
URL:https://silverdalelutheran.org/event/league-of-women-voters-4/2027-10-02/
LOCATION:Silverdale Lutheran Church\, 11701 Ridgepoint Dr NW\, Silverdale\, WA\, 98383\, United States
CATEGORIES:Private Group
END:VEVENT
BEGIN:VEVENT
DTSTART;TZID=America/Los_Angeles:20271004T083000
DTEND;TZID=America/Los_Angeles:20271005T113000
DTSTAMP:20260424T023602
CREATED:20250929T180033Z
LAST-MODIFIED:20250929T191603Z
UID:10009140-1822638600-1822735800@silverdalelutheran.org
SUMMARY:Bible Study Fellowship (GP\, 21-23\, N)
DESCRIPTION:
URL:https://silverdalelutheran.org/event/bible-study-fellowship-gp-21-23-n-2/2027-10-04/
CATEGORIES:Private Group
END:VEVENT
BEGIN:VEVENT
DTSTART;TZID=America/Los_Angeles:20271005T180000
DTEND;TZID=America/Los_Angeles:20271005T200000
DTSTAMP:20260424T023603
CREATED:20250929T183535Z
LAST-MODIFIED:20250929T183620Z
UID:10008629-1822759200-1822766400@silverdalelutheran.org
SUMMARY:Antir.org (GP)
DESCRIPTION:
URL:https://silverdalelutheran.org/event/antir-org/2027-10-05/
CATEGORIES:Private Group
END:VEVENT
BEGIN:VEVENT
DTSTART;TZID=America/Los_Angeles:20271005T190000
DTEND;TZID=America/Los_Angeles:20271005T203000
DTSTAMP:20260424T023603
CREATED:20250929T181247Z
LAST-MODIFIED:20250929T181247Z
UID:10006501-1822762800-1822768200@silverdalelutheran.org
SUMMARY:Hometown Band
DESCRIPTION:
URL:https://silverdalelutheran.org/event/hometown-band/2027-10-05/
CATEGORIES:Private Group
END:VEVENT
BEGIN:VEVENT
DTSTART;TZID=America/Los_Angeles:20271007T083000
DTEND;TZID=America/Los_Angeles:20271007T113000
DTSTAMP:20260424T023603
CREATED:20250929T181743Z
LAST-MODIFIED:20250929T181743Z
UID:10007083-1822897800-1822908600@silverdalelutheran.org
SUMMARY:Bible Study Fellowship (S\, 21-23)
DESCRIPTION:
URL:https://silverdalelutheran.org/event/bible-study-fellowship-s-21-23/2027-10-07/
CATEGORIES:Private Group
END:VEVENT
BEGIN:VEVENT
DTSTART;TZID=America/Los_Angeles:20271011T083000
DTEND;TZID=America/Los_Angeles:20271012T113000
DTSTAMP:20260424T023603
CREATED:20250929T180033Z
LAST-MODIFIED:20250929T191603Z
UID:10009141-1823243400-1823340600@silverdalelutheran.org
SUMMARY:Bible Study Fellowship (GP\, 21-23\, N)
DESCRIPTION:
URL:https://silverdalelutheran.org/event/bible-study-fellowship-gp-21-23-n-2/2027-10-11/
CATEGORIES:Private Group
END:VEVENT
BEGIN:VEVENT
DTSTART;TZID=America/Los_Angeles:20271012T180000
DTEND;TZID=America/Los_Angeles:20271012T200000
DTSTAMP:20260424T023603
CREATED:20250929T183535Z
LAST-MODIFIED:20250929T183620Z
UID:10008630-1823364000-1823371200@silverdalelutheran.org
SUMMARY:Antir.org (GP)
DESCRIPTION:
URL:https://silverdalelutheran.org/event/antir-org/2027-10-12/
CATEGORIES:Private Group
END:VEVENT
BEGIN:VEVENT
DTSTART;TZID=America/Los_Angeles:20271012T190000
DTEND;TZID=America/Los_Angeles:20271012T203000
DTSTAMP:20260424T023603
CREATED:20250929T181247Z
LAST-MODIFIED:20250929T181247Z
UID:10006502-1823367600-1823373000@silverdalelutheran.org
SUMMARY:Hometown Band
DESCRIPTION:
URL:https://silverdalelutheran.org/event/hometown-band/2027-10-12/
CATEGORIES:Private Group
END:VEVENT
BEGIN:VEVENT
DTSTART;TZID=America/Los_Angeles:20271014T083000
DTEND;TZID=America/Los_Angeles:20271014T113000
DTSTAMP:20260424T023603
CREATED:20250929T181743Z
LAST-MODIFIED:20250929T181743Z
UID:10007084-1823502600-1823513400@silverdalelutheran.org
SUMMARY:Bible Study Fellowship (S\, 21-23)
DESCRIPTION:
URL:https://silverdalelutheran.org/event/bible-study-fellowship-s-21-23/2027-10-14/
CATEGORIES:Private Group
END:VEVENT
BEGIN:VEVENT
DTSTART;TZID=America/Los_Angeles:20271018T083000
DTEND;TZID=America/Los_Angeles:20271019T113000
DTSTAMP:20260424T023603
CREATED:20250929T180033Z
LAST-MODIFIED:20250929T191603Z
UID:10009142-1823848200-1823945400@silverdalelutheran.org
SUMMARY:Bible Study Fellowship (GP\, 21-23\, N)
DESCRIPTION:
URL:https://silverdalelutheran.org/event/bible-study-fellowship-gp-21-23-n-2/2027-10-18/
CATEGORIES:Private Group
END:VEVENT
BEGIN:VEVENT
DTSTART;TZID=America/Los_Angeles:20271018T183000
DTEND;TZID=America/Los_Angeles:20271018T200000
DTSTAMP:20260424T023603
CREATED:20250929T193634Z
LAST-MODIFIED:20250929T193634Z
UID:10009445-1823884200-1823889600@silverdalelutheran.org
SUMMARY:GSWW Leaders Meeting (4)
DESCRIPTION:
URL:https://silverdalelutheran.org/event/gsww-leaders-meeting-4/2027-10-18/
CATEGORIES:Private Group
END:VEVENT
BEGIN:VEVENT
DTSTART;TZID=America/Los_Angeles:20271019T180000
DTEND;TZID=America/Los_Angeles:20271019T200000
DTSTAMP:20260424T023603
CREATED:20250929T183535Z
LAST-MODIFIED:20250929T183620Z
UID:10008631-1823968800-1823976000@silverdalelutheran.org
SUMMARY:Antir.org (GP)
DESCRIPTION:
URL:https://silverdalelutheran.org/event/antir-org/2027-10-19/
CATEGORIES:Private Group
END:VEVENT
BEGIN:VEVENT
DTSTART;TZID=America/Los_Angeles:20271019T190000
DTEND;TZID=America/Los_Angeles:20271019T203000
DTSTAMP:20260424T023603
CREATED:20250929T181247Z
LAST-MODIFIED:20250929T181247Z
UID:10006503-1823972400-1823977800@silverdalelutheran.org
SUMMARY:Hometown Band
DESCRIPTION:
URL:https://silverdalelutheran.org/event/hometown-band/2027-10-19/
CATEGORIES:Private Group
END:VEVENT
BEGIN:VEVENT
DTSTART;TZID=America/Los_Angeles:20271019T190000
DTEND;TZID=America/Los_Angeles:20271019T210000
DTSTAMP:20260424T023603
CREATED:20250929T193807Z
LAST-MODIFIED:20250929T193852Z
UID:10009505-1823972400-1823979600@silverdalelutheran.org
SUMMARY:Compassionate Friends (4)
DESCRIPTION:
URL:https://silverdalelutheran.org/event/compassionate-friend-4/2027-10-19/
CATEGORIES:Private Group
END:VEVENT
BEGIN:VEVENT
DTSTART;TZID=America/Los_Angeles:20271020T130000
DTEND;TZID=America/Los_Angeles:20271020T140000
DTSTAMP:20260424T023603
CREATED:20250929T192040Z
LAST-MODIFIED:20250929T192040Z
UID:10009382-1824037200-1824040800@silverdalelutheran.org
SUMMARY:Parkinsons group (St)
DESCRIPTION:Monthly on the third Wednesday
URL:https://silverdalelutheran.org/event/parkinsons-group-st/2027-10-20/
LOCATION:Silverdale Lutheran Church\, 11701 Ridgepoint Dr NW\, Silverdale\, WA\, 98383\, United States
CATEGORIES:Private Group
END:VEVENT
BEGIN:VEVENT
DTSTART;TZID=America/Los_Angeles:20271021T083000
DTEND;TZID=America/Los_Angeles:20271021T113000
DTSTAMP:20260424T023603
CREATED:20250929T181743Z
LAST-MODIFIED:20250929T181743Z
UID:10007085-1824107400-1824118200@silverdalelutheran.org
SUMMARY:Bible Study Fellowship (S\, 21-23)
DESCRIPTION:
URL:https://silverdalelutheran.org/event/bible-study-fellowship-s-21-23/2027-10-21/
CATEGORIES:Private Group
END:VEVENT
BEGIN:VEVENT
DTSTART;TZID=America/Los_Angeles:20271025T083000
DTEND;TZID=America/Los_Angeles:20271026T113000
DTSTAMP:20260424T023603
CREATED:20250929T180033Z
LAST-MODIFIED:20250929T191603Z
UID:10009143-1824453000-1824550200@silverdalelutheran.org
SUMMARY:Bible Study Fellowship (GP\, 21-23\, N)
DESCRIPTION:
URL:https://silverdalelutheran.org/event/bible-study-fellowship-gp-21-23-n-2/2027-10-25/
CATEGORIES:Private Group
END:VEVENT
BEGIN:VEVENT
DTSTART;TZID=America/Los_Angeles:20271026T180000
DTEND;TZID=America/Los_Angeles:20271026T200000
DTSTAMP:20260424T023603
CREATED:20250929T183535Z
LAST-MODIFIED:20250929T183620Z
UID:10008632-1824573600-1824580800@silverdalelutheran.org
SUMMARY:Antir.org (GP)
DESCRIPTION:
URL:https://silverdalelutheran.org/event/antir-org/2027-10-26/
CATEGORIES:Private Group
END:VEVENT
BEGIN:VEVENT
DTSTART;TZID=America/Los_Angeles:20271026T183000
DTEND;TZID=America/Los_Angeles:20271026T203000
DTSTAMP:20260424T023603
CREATED:20250929T195350Z
LAST-MODIFIED:20250929T195350Z
UID:10009747-1824575400-1824582600@silverdalelutheran.org
SUMMARY:Scout Planning Meeting
DESCRIPTION:
URL:https://silverdalelutheran.org/event/scout-planning-meeting/2027-10-26/
CATEGORIES:Private Group
END:VEVENT
BEGIN:VEVENT
DTSTART;TZID=America/Los_Angeles:20271026T190000
DTEND;TZID=America/Los_Angeles:20271026T203000
DTSTAMP:20260424T023603
CREATED:20250929T181247Z
LAST-MODIFIED:20250929T181247Z
UID:10006504-1824577200-1824582600@silverdalelutheran.org
SUMMARY:Hometown Band
DESCRIPTION:
URL:https://silverdalelutheran.org/event/hometown-band/2027-10-26/
CATEGORIES:Private Group
END:VEVENT
BEGIN:VEVENT
DTSTART;TZID=America/Los_Angeles:20271026T190000
DTEND;TZID=America/Los_Angeles:20271026T203000
DTSTAMP:20260424T023603
CREATED:20250929T195516Z
LAST-MODIFIED:20250929T195516Z
UID:10009807-1824577200-1824582600@silverdalelutheran.org
SUMMARY:Barnabas Book Club (Private residence)
DESCRIPTION:
URL:https://silverdalelutheran.org/event/barnabas-book-club-private-residence/2027-10-26/
CATEGORIES:Private Group
END:VEVENT
BEGIN:VEVENT
DTSTART;TZID=America/Los_Angeles:20271028T083000
DTEND;TZID=America/Los_Angeles:20271028T113000
DTSTAMP:20260424T023603
CREATED:20250929T181743Z
LAST-MODIFIED:20250929T181743Z
UID:10007086-1824712200-1824723000@silverdalelutheran.org
SUMMARY:Bible Study Fellowship (S\, 21-23)
DESCRIPTION:
URL:https://silverdalelutheran.org/event/bible-study-fellowship-s-21-23/2027-10-28/
CATEGORIES:Private Group
END:VEVENT
END:VCALENDAR