BEGIN:VCALENDAR
VERSION:2.0
PRODID:-//Silverdale Lutheran Church - ECPv6.15.12.2//NONSGML v1.0//EN
CALSCALE:GREGORIAN
METHOD:PUBLISH
X-WR-CALNAME:Silverdale Lutheran Church
X-ORIGINAL-URL:https://silverdalelutheran.org
X-WR-CALDESC:Events for Silverdale Lutheran Church
REFRESH-INTERVAL;VALUE=DURATION:PT1H
X-Robots-Tag:noindex
X-PUBLISHED-TTL:PT1H
BEGIN:VTIMEZONE
TZID:America/Los_Angeles
BEGIN:DAYLIGHT
TZOFFSETFROM:-0800
TZOFFSETTO:-0700
TZNAME:PDT
DTSTART:20260308T100000
END:DAYLIGHT
BEGIN:STANDARD
TZOFFSETFROM:-0700
TZOFFSETTO:-0800
TZNAME:PST
DTSTART:20261101T090000
END:STANDARD
BEGIN:DAYLIGHT
TZOFFSETFROM:-0800
TZOFFSETTO:-0700
TZNAME:PDT
DTSTART:20270314T100000
END:DAYLIGHT
BEGIN:STANDARD
TZOFFSETFROM:-0700
TZOFFSETTO:-0800
TZNAME:PST
DTSTART:20271107T090000
END:STANDARD
BEGIN:DAYLIGHT
TZOFFSETFROM:-0800
TZOFFSETTO:-0700
TZNAME:PDT
DTSTART:20280312T100000
END:DAYLIGHT
BEGIN:STANDARD
TZOFFSETFROM:-0700
TZOFFSETTO:-0800
TZNAME:PST
DTSTART:20281105T090000
END:STANDARD
END:VTIMEZONE
BEGIN:VEVENT
DTSTART;TZID=America/Los_Angeles:20270817T190000
DTEND;TZID=America/Los_Angeles:20270817T210000
DTSTAMP:20260423T225534
CREATED:20250929T193807Z
LAST-MODIFIED:20250929T193852Z
UID:10009503-1818529200-1818536400@silverdalelutheran.org
SUMMARY:Compassionate Friends (4)
DESCRIPTION:
URL:https://silverdalelutheran.org/event/compassionate-friend-4/2027-08-17/
CATEGORIES:Private Group
END:VEVENT
BEGIN:VEVENT
DTSTART;TZID=America/Los_Angeles:20270818T130000
DTEND;TZID=America/Los_Angeles:20270818T140000
DTSTAMP:20260423T225534
CREATED:20250929T192040Z
LAST-MODIFIED:20250929T192040Z
UID:10009380-1818594000-1818597600@silverdalelutheran.org
SUMMARY:Parkinsons group (St)
DESCRIPTION:Monthly on the third Wednesday
URL:https://silverdalelutheran.org/event/parkinsons-group-st/2027-08-18/
LOCATION:Silverdale Lutheran Church\, 11701 Ridgepoint Dr NW\, Silverdale\, WA\, 98383\, United States
CATEGORIES:Private Group
END:VEVENT
BEGIN:VEVENT
DTSTART;TZID=America/Los_Angeles:20270819T083000
DTEND;TZID=America/Los_Angeles:20270819T113000
DTSTAMP:20260423T225534
CREATED:20250929T181743Z
LAST-MODIFIED:20250929T181743Z
UID:10007076-1818664200-1818675000@silverdalelutheran.org
SUMMARY:Bible Study Fellowship (S\, 21-23)
DESCRIPTION:
URL:https://silverdalelutheran.org/event/bible-study-fellowship-s-21-23/2027-08-19/
CATEGORIES:Private Group
END:VEVENT
BEGIN:VEVENT
DTSTART;TZID=America/Los_Angeles:20270823T083000
DTEND;TZID=America/Los_Angeles:20270824T113000
DTSTAMP:20260423T225534
CREATED:20250929T180033Z
LAST-MODIFIED:20250929T191603Z
UID:10009134-1819009800-1819107000@silverdalelutheran.org
SUMMARY:Bible Study Fellowship (GP\, 21-23\, N)
DESCRIPTION:
URL:https://silverdalelutheran.org/event/bible-study-fellowship-gp-21-23-n-2/2027-08-23/
CATEGORIES:Private Group
END:VEVENT
BEGIN:VEVENT
DTSTART;TZID=America/Los_Angeles:20270824T180000
DTEND;TZID=America/Los_Angeles:20270824T200000
DTSTAMP:20260423T225534
CREATED:20250929T183535Z
LAST-MODIFIED:20250929T183620Z
UID:10008623-1819130400-1819137600@silverdalelutheran.org
SUMMARY:Antir.org (GP)
DESCRIPTION:
URL:https://silverdalelutheran.org/event/antir-org/2027-08-24/
CATEGORIES:Private Group
END:VEVENT
BEGIN:VEVENT
DTSTART;TZID=America/Los_Angeles:20270824T183000
DTEND;TZID=America/Los_Angeles:20270824T203000
DTSTAMP:20260423T225534
CREATED:20250929T195350Z
LAST-MODIFIED:20250929T195350Z
UID:10009745-1819132200-1819139400@silverdalelutheran.org
SUMMARY:Scout Planning Meeting
DESCRIPTION:
URL:https://silverdalelutheran.org/event/scout-planning-meeting/2027-08-24/
CATEGORIES:Private Group
END:VEVENT
BEGIN:VEVENT
DTSTART;TZID=America/Los_Angeles:20270824T190000
DTEND;TZID=America/Los_Angeles:20270824T203000
DTSTAMP:20260423T225534
CREATED:20250929T181247Z
LAST-MODIFIED:20250929T181247Z
UID:10006495-1819134000-1819139400@silverdalelutheran.org
SUMMARY:Hometown Band
DESCRIPTION:
URL:https://silverdalelutheran.org/event/hometown-band/2027-08-24/
CATEGORIES:Private Group
END:VEVENT
BEGIN:VEVENT
DTSTART;TZID=America/Los_Angeles:20270824T190000
DTEND;TZID=America/Los_Angeles:20270824T203000
DTSTAMP:20260423T225534
CREATED:20250929T195516Z
LAST-MODIFIED:20250929T195516Z
UID:10009805-1819134000-1819139400@silverdalelutheran.org
SUMMARY:Barnabas Book Club (Private residence)
DESCRIPTION:
URL:https://silverdalelutheran.org/event/barnabas-book-club-private-residence/2027-08-24/
CATEGORIES:Private Group
END:VEVENT
BEGIN:VEVENT
DTSTART;TZID=America/Los_Angeles:20270826T083000
DTEND;TZID=America/Los_Angeles:20270826T113000
DTSTAMP:20260423T225534
CREATED:20250929T181743Z
LAST-MODIFIED:20250929T181743Z
UID:10007077-1819269000-1819279800@silverdalelutheran.org
SUMMARY:Bible Study Fellowship (S\, 21-23)
DESCRIPTION:
URL:https://silverdalelutheran.org/event/bible-study-fellowship-s-21-23/2027-08-26/
CATEGORIES:Private Group
END:VEVENT
BEGIN:VEVENT
DTSTART;TZID=America/Los_Angeles:20270826T180000
DTEND;TZID=America/Los_Angeles:20270826T200000
DTSTAMP:20260423T225534
CREATED:20250929T194007Z
LAST-MODIFIED:20250929T194007Z
UID:10009563-1819303200-1819310400@silverdalelutheran.org
SUMMARY:Kitsap County Search Dogs (FH)
DESCRIPTION:
URL:https://silverdalelutheran.org/event/kitsap-county-search-dogs-fh/2027-08-26/
CATEGORIES:Private Group
END:VEVENT
BEGIN:VEVENT
DTSTART;TZID=America/Los_Angeles:20270830T083000
DTEND;TZID=America/Los_Angeles:20270831T113000
DTSTAMP:20260423T225534
CREATED:20250929T180033Z
LAST-MODIFIED:20250929T191603Z
UID:10009135-1819614600-1819711800@silverdalelutheran.org
SUMMARY:Bible Study Fellowship (GP\, 21-23\, N)
DESCRIPTION:
URL:https://silverdalelutheran.org/event/bible-study-fellowship-gp-21-23-n-2/2027-08-30/
CATEGORIES:Private Group
END:VEVENT
BEGIN:VEVENT
DTSTART;TZID=America/Los_Angeles:20270831T180000
DTEND;TZID=America/Los_Angeles:20270831T200000
DTSTAMP:20260423T225534
CREATED:20250929T183535Z
LAST-MODIFIED:20250929T183620Z
UID:10008624-1819735200-1819742400@silverdalelutheran.org
SUMMARY:Antir.org (GP)
DESCRIPTION:
URL:https://silverdalelutheran.org/event/antir-org/2027-08-31/
CATEGORIES:Private Group
END:VEVENT
BEGIN:VEVENT
DTSTART;TZID=America/Los_Angeles:20270831T190000
DTEND;TZID=America/Los_Angeles:20270831T203000
DTSTAMP:20260423T225534
CREATED:20250929T181247Z
LAST-MODIFIED:20250929T181247Z
UID:10006496-1819738800-1819744200@silverdalelutheran.org
SUMMARY:Hometown Band
DESCRIPTION:
URL:https://silverdalelutheran.org/event/hometown-band/2027-08-31/
CATEGORIES:Private Group
END:VEVENT
BEGIN:VEVENT
DTSTART;TZID=America/Los_Angeles:20270902T083000
DTEND;TZID=America/Los_Angeles:20270902T113000
DTSTAMP:20260423T225534
CREATED:20250929T181743Z
LAST-MODIFIED:20250929T181743Z
UID:10007078-1819873800-1819884600@silverdalelutheran.org
SUMMARY:Bible Study Fellowship (S\, 21-23)
DESCRIPTION:
URL:https://silverdalelutheran.org/event/bible-study-fellowship-s-21-23/2027-09-02/
CATEGORIES:Private Group
END:VEVENT
BEGIN:VEVENT
DTSTART;TZID=America/Los_Angeles:20270904T100000
DTEND;TZID=America/Los_Angeles:20270904T120000
DTSTAMP:20260423T225534
CREATED:20250929T182332Z
LAST-MODIFIED:20250929T182422Z
UID:10007844-1820052000-1820059200@silverdalelutheran.org
SUMMARY:League of Women Voters (4)
DESCRIPTION:
URL:https://silverdalelutheran.org/event/league-of-women-voters-4/2027-09-04/
LOCATION:Silverdale Lutheran Church\, 11701 Ridgepoint Dr NW\, Silverdale\, WA\, 98383\, United States
CATEGORIES:Private Group
END:VEVENT
BEGIN:VEVENT
DTSTART;TZID=America/Los_Angeles:20270906T083000
DTEND;TZID=America/Los_Angeles:20270907T113000
DTSTAMP:20260423T225534
CREATED:20250929T180033Z
LAST-MODIFIED:20250929T191603Z
UID:10009136-1820219400-1820316600@silverdalelutheran.org
SUMMARY:Bible Study Fellowship (GP\, 21-23\, N)
DESCRIPTION:
URL:https://silverdalelutheran.org/event/bible-study-fellowship-gp-21-23-n-2/2027-09-06/
CATEGORIES:Private Group
END:VEVENT
BEGIN:VEVENT
DTSTART;TZID=America/Los_Angeles:20270907T180000
DTEND;TZID=America/Los_Angeles:20270907T200000
DTSTAMP:20260423T225534
CREATED:20250929T183535Z
LAST-MODIFIED:20250929T183620Z
UID:10008625-1820340000-1820347200@silverdalelutheran.org
SUMMARY:Antir.org (GP)
DESCRIPTION:
URL:https://silverdalelutheran.org/event/antir-org/2027-09-07/
CATEGORIES:Private Group
END:VEVENT
BEGIN:VEVENT
DTSTART;TZID=America/Los_Angeles:20270907T190000
DTEND;TZID=America/Los_Angeles:20270907T203000
DTSTAMP:20260423T225534
CREATED:20250929T181247Z
LAST-MODIFIED:20250929T181247Z
UID:10006497-1820343600-1820349000@silverdalelutheran.org
SUMMARY:Hometown Band
DESCRIPTION:
URL:https://silverdalelutheran.org/event/hometown-band/2027-09-07/
CATEGORIES:Private Group
END:VEVENT
BEGIN:VEVENT
DTSTART;TZID=America/Los_Angeles:20270909T083000
DTEND;TZID=America/Los_Angeles:20270909T113000
DTSTAMP:20260423T225534
CREATED:20250929T181743Z
LAST-MODIFIED:20250929T181743Z
UID:10007079-1820478600-1820489400@silverdalelutheran.org
SUMMARY:Bible Study Fellowship (S\, 21-23)
DESCRIPTION:
URL:https://silverdalelutheran.org/event/bible-study-fellowship-s-21-23/2027-09-09/
CATEGORIES:Private Group
END:VEVENT
BEGIN:VEVENT
DTSTART;TZID=America/Los_Angeles:20270913T083000
DTEND;TZID=America/Los_Angeles:20270914T113000
DTSTAMP:20260423T225534
CREATED:20250929T180033Z
LAST-MODIFIED:20250929T191603Z
UID:10009137-1820824200-1820921400@silverdalelutheran.org
SUMMARY:Bible Study Fellowship (GP\, 21-23\, N)
DESCRIPTION:
URL:https://silverdalelutheran.org/event/bible-study-fellowship-gp-21-23-n-2/2027-09-13/
CATEGORIES:Private Group
END:VEVENT
BEGIN:VEVENT
DTSTART;TZID=America/Los_Angeles:20270914T180000
DTEND;TZID=America/Los_Angeles:20270914T200000
DTSTAMP:20260423T225534
CREATED:20250929T183535Z
LAST-MODIFIED:20250929T183620Z
UID:10008626-1820944800-1820952000@silverdalelutheran.org
SUMMARY:Antir.org (GP)
DESCRIPTION:
URL:https://silverdalelutheran.org/event/antir-org/2027-09-14/
CATEGORIES:Private Group
END:VEVENT
BEGIN:VEVENT
DTSTART;TZID=America/Los_Angeles:20270914T190000
DTEND;TZID=America/Los_Angeles:20270914T203000
DTSTAMP:20260423T225534
CREATED:20250929T181247Z
LAST-MODIFIED:20250929T181247Z
UID:10006498-1820948400-1820953800@silverdalelutheran.org
SUMMARY:Hometown Band
DESCRIPTION:
URL:https://silverdalelutheran.org/event/hometown-band/2027-09-14/
CATEGORIES:Private Group
END:VEVENT
BEGIN:VEVENT
DTSTART;TZID=America/Los_Angeles:20270915T130000
DTEND;TZID=America/Los_Angeles:20270915T140000
DTSTAMP:20260423T225534
CREATED:20250929T192040Z
LAST-MODIFIED:20250929T192040Z
UID:10009381-1821013200-1821016800@silverdalelutheran.org
SUMMARY:Parkinsons group (St)
DESCRIPTION:Monthly on the third Wednesday
URL:https://silverdalelutheran.org/event/parkinsons-group-st/2027-09-15/
LOCATION:Silverdale Lutheran Church\, 11701 Ridgepoint Dr NW\, Silverdale\, WA\, 98383\, United States
CATEGORIES:Private Group
END:VEVENT
BEGIN:VEVENT
DTSTART;TZID=America/Los_Angeles:20270916T083000
DTEND;TZID=America/Los_Angeles:20270916T113000
DTSTAMP:20260423T225534
CREATED:20250929T181743Z
LAST-MODIFIED:20250929T181743Z
UID:10007080-1821083400-1821094200@silverdalelutheran.org
SUMMARY:Bible Study Fellowship (S\, 21-23)
DESCRIPTION:
URL:https://silverdalelutheran.org/event/bible-study-fellowship-s-21-23/2027-09-16/
CATEGORIES:Private Group
END:VEVENT
BEGIN:VEVENT
DTSTART;TZID=America/Los_Angeles:20270920T083000
DTEND;TZID=America/Los_Angeles:20270921T113000
DTSTAMP:20260423T225534
CREATED:20250929T180033Z
LAST-MODIFIED:20250929T191603Z
UID:10009138-1821429000-1821526200@silverdalelutheran.org
SUMMARY:Bible Study Fellowship (GP\, 21-23\, N)
DESCRIPTION:
URL:https://silverdalelutheran.org/event/bible-study-fellowship-gp-21-23-n-2/2027-09-20/
CATEGORIES:Private Group
END:VEVENT
BEGIN:VEVENT
DTSTART;TZID=America/Los_Angeles:20270920T183000
DTEND;TZID=America/Los_Angeles:20270920T200000
DTSTAMP:20260423T225534
CREATED:20250929T193634Z
LAST-MODIFIED:20250929T193634Z
UID:10009444-1821465000-1821470400@silverdalelutheran.org
SUMMARY:GSWW Leaders Meeting (4)
DESCRIPTION:
URL:https://silverdalelutheran.org/event/gsww-leaders-meeting-4/2027-09-20/
CATEGORIES:Private Group
END:VEVENT
BEGIN:VEVENT
DTSTART;TZID=America/Los_Angeles:20270921T180000
DTEND;TZID=America/Los_Angeles:20270921T200000
DTSTAMP:20260423T225534
CREATED:20250929T183535Z
LAST-MODIFIED:20250929T183620Z
UID:10008627-1821549600-1821556800@silverdalelutheran.org
SUMMARY:Antir.org (GP)
DESCRIPTION:
URL:https://silverdalelutheran.org/event/antir-org/2027-09-21/
CATEGORIES:Private Group
END:VEVENT
BEGIN:VEVENT
DTSTART;TZID=America/Los_Angeles:20270921T190000
DTEND;TZID=America/Los_Angeles:20270921T203000
DTSTAMP:20260423T225534
CREATED:20250929T181247Z
LAST-MODIFIED:20250929T181247Z
UID:10006499-1821553200-1821558600@silverdalelutheran.org
SUMMARY:Hometown Band
DESCRIPTION:
URL:https://silverdalelutheran.org/event/hometown-band/2027-09-21/
CATEGORIES:Private Group
END:VEVENT
BEGIN:VEVENT
DTSTART;TZID=America/Los_Angeles:20270921T190000
DTEND;TZID=America/Los_Angeles:20270921T210000
DTSTAMP:20260423T225534
CREATED:20250929T193807Z
LAST-MODIFIED:20250929T193852Z
UID:10009504-1821553200-1821560400@silverdalelutheran.org
SUMMARY:Compassionate Friends (4)
DESCRIPTION:
URL:https://silverdalelutheran.org/event/compassionate-friend-4/2027-09-21/
CATEGORIES:Private Group
END:VEVENT
BEGIN:VEVENT
DTSTART;TZID=America/Los_Angeles:20270923T083000
DTEND;TZID=America/Los_Angeles:20270923T113000
DTSTAMP:20260423T225534
CREATED:20250929T181743Z
LAST-MODIFIED:20250929T181743Z
UID:10007081-1821688200-1821699000@silverdalelutheran.org
SUMMARY:Bible Study Fellowship (S\, 21-23)
DESCRIPTION:
URL:https://silverdalelutheran.org/event/bible-study-fellowship-s-21-23/2027-09-23/
CATEGORIES:Private Group
END:VEVENT
END:VCALENDAR