BEGIN:VCALENDAR
VERSION:2.0
PRODID:-//Silverdale Lutheran Church - ECPv6.15.12.2//NONSGML v1.0//EN
CALSCALE:GREGORIAN
METHOD:PUBLISH
X-ORIGINAL-URL:https://silverdalelutheran.org
X-WR-CALDESC:Events for Silverdale Lutheran Church
REFRESH-INTERVAL;VALUE=DURATION:PT1H
X-Robots-Tag:noindex
X-PUBLISHED-TTL:PT1H
BEGIN:VTIMEZONE
TZID:America/Los_Angeles
BEGIN:DAYLIGHT
TZOFFSETFROM:-0800
TZOFFSETTO:-0700
TZNAME:PDT
DTSTART:20260308T100000
END:DAYLIGHT
BEGIN:STANDARD
TZOFFSETFROM:-0700
TZOFFSETTO:-0800
TZNAME:PST
DTSTART:20261101T090000
END:STANDARD
BEGIN:DAYLIGHT
TZOFFSETFROM:-0800
TZOFFSETTO:-0700
TZNAME:PDT
DTSTART:20270314T100000
END:DAYLIGHT
BEGIN:STANDARD
TZOFFSETFROM:-0700
TZOFFSETTO:-0800
TZNAME:PST
DTSTART:20271107T090000
END:STANDARD
BEGIN:DAYLIGHT
TZOFFSETFROM:-0800
TZOFFSETTO:-0700
TZNAME:PDT
DTSTART:20280312T100000
END:DAYLIGHT
BEGIN:STANDARD
TZOFFSETFROM:-0700
TZOFFSETTO:-0800
TZNAME:PST
DTSTART:20281105T090000
END:STANDARD
END:VTIMEZONE
BEGIN:VEVENT
DTSTART;TZID=America/Los_Angeles:20270713T180000
DTEND;TZID=America/Los_Angeles:20270713T200000
DTSTAMP:20260423T185933
CREATED:20250929T183535Z
LAST-MODIFIED:20250929T183620Z
UID:10008617-1815501600-1815508800@silverdalelutheran.org
SUMMARY:Antir.org (GP)
DESCRIPTION:
URL:https://silverdalelutheran.org/event/antir-org/2027-07-13/
LOCATION:WA
CATEGORIES:Private Group
END:VEVENT
BEGIN:VEVENT
DTSTART;TZID=America/Los_Angeles:20270713T190000
DTEND;TZID=America/Los_Angeles:20270713T203000
DTSTAMP:20260423T185933
CREATED:20250929T181247Z
LAST-MODIFIED:20250929T181247Z
UID:10006489-1815505200-1815510600@silverdalelutheran.org
SUMMARY:Hometown Band
DESCRIPTION:
URL:https://silverdalelutheran.org/event/hometown-band/2027-07-13/
LOCATION:WA
CATEGORIES:Private Group
END:VEVENT
BEGIN:VEVENT
DTSTART;TZID=America/Los_Angeles:20270715T083000
DTEND;TZID=America/Los_Angeles:20270715T113000
DTSTAMP:20260423T185933
CREATED:20250929T181743Z
LAST-MODIFIED:20250929T181743Z
UID:10007071-1815640200-1815651000@silverdalelutheran.org
SUMMARY:Bible Study Fellowship (S\, 21-23)
DESCRIPTION:
URL:https://silverdalelutheran.org/event/bible-study-fellowship-s-21-23/2027-07-15/
LOCATION:WA
CATEGORIES:Private Group
END:VEVENT
BEGIN:VEVENT
DTSTART;TZID=America/Los_Angeles:20270719T083000
DTEND;TZID=America/Los_Angeles:20270720T113000
DTSTAMP:20260423T185933
CREATED:20250929T180033Z
LAST-MODIFIED:20250929T191603Z
UID:10009129-1815985800-1816083000@silverdalelutheran.org
SUMMARY:Bible Study Fellowship (GP\, 21-23\, N)
DESCRIPTION:
URL:https://silverdalelutheran.org/event/bible-study-fellowship-gp-21-23-n-2/2027-07-19/
LOCATION:WA
CATEGORIES:Private Group
END:VEVENT
BEGIN:VEVENT
DTSTART;TZID=America/Los_Angeles:20270719T183000
DTEND;TZID=America/Los_Angeles:20270719T200000
DTSTAMP:20260423T185933
CREATED:20250929T193634Z
LAST-MODIFIED:20250929T193634Z
UID:10009442-1816021800-1816027200@silverdalelutheran.org
SUMMARY:GSWW Leaders Meeting (4)
DESCRIPTION:
URL:https://silverdalelutheran.org/event/gsww-leaders-meeting-4/2027-07-19/
LOCATION:WA
CATEGORIES:Private Group
END:VEVENT
BEGIN:VEVENT
DTSTART;TZID=America/Los_Angeles:20270720T180000
DTEND;TZID=America/Los_Angeles:20270720T200000
DTSTAMP:20260423T185933
CREATED:20250929T183535Z
LAST-MODIFIED:20250929T183620Z
UID:10008618-1816106400-1816113600@silverdalelutheran.org
SUMMARY:Antir.org (GP)
DESCRIPTION:
URL:https://silverdalelutheran.org/event/antir-org/2027-07-20/
LOCATION:WA
CATEGORIES:Private Group
END:VEVENT
BEGIN:VEVENT
DTSTART;TZID=America/Los_Angeles:20270720T190000
DTEND;TZID=America/Los_Angeles:20270720T203000
DTSTAMP:20260423T185933
CREATED:20250929T181247Z
LAST-MODIFIED:20250929T181247Z
UID:10006490-1816110000-1816115400@silverdalelutheran.org
SUMMARY:Hometown Band
DESCRIPTION:
URL:https://silverdalelutheran.org/event/hometown-band/2027-07-20/
LOCATION:WA
CATEGORIES:Private Group
END:VEVENT
BEGIN:VEVENT
DTSTART;TZID=America/Los_Angeles:20270720T190000
DTEND;TZID=America/Los_Angeles:20270720T210000
DTSTAMP:20260423T185933
CREATED:20250929T193807Z
LAST-MODIFIED:20250929T193852Z
UID:10009502-1816110000-1816117200@silverdalelutheran.org
SUMMARY:Compassionate Friends (4)
DESCRIPTION:
URL:https://silverdalelutheran.org/event/compassionate-friend-4/2027-07-20/
LOCATION:WA
CATEGORIES:Private Group
END:VEVENT
BEGIN:VEVENT
DTSTART;TZID=America/Los_Angeles:20270721T130000
DTEND;TZID=America/Los_Angeles:20270721T140000
DTSTAMP:20260423T185933
CREATED:20250929T192040Z
LAST-MODIFIED:20250929T192040Z
UID:10009379-1816174800-1816178400@silverdalelutheran.org
SUMMARY:Parkinsons group (St)
DESCRIPTION:Monthly on the third Wednesday
URL:https://silverdalelutheran.org/event/parkinsons-group-st/2027-07-21/
LOCATION:Silverdale Lutheran Church\, 11701 Ridgepoint Dr NW\, Silverdale\, WA\, 98383\, United States
CATEGORIES:Private Group
END:VEVENT
BEGIN:VEVENT
DTSTART;TZID=America/Los_Angeles:20270722T083000
DTEND;TZID=America/Los_Angeles:20270722T113000
DTSTAMP:20260423T185933
CREATED:20250929T181743Z
LAST-MODIFIED:20250929T181743Z
UID:10007072-1816245000-1816255800@silverdalelutheran.org
SUMMARY:Bible Study Fellowship (S\, 21-23)
DESCRIPTION:
URL:https://silverdalelutheran.org/event/bible-study-fellowship-s-21-23/2027-07-22/
LOCATION:WA
CATEGORIES:Private Group
END:VEVENT
BEGIN:VEVENT
DTSTART;TZID=America/Los_Angeles:20270722T180000
DTEND;TZID=America/Los_Angeles:20270722T200000
DTSTAMP:20260423T185933
CREATED:20250929T194007Z
LAST-MODIFIED:20250929T194007Z
UID:10009562-1816279200-1816286400@silverdalelutheran.org
SUMMARY:Kitsap County Search Dogs (FH)
DESCRIPTION:
URL:https://silverdalelutheran.org/event/kitsap-county-search-dogs-fh/2027-07-22/
LOCATION:WA
CATEGORIES:Private Group
END:VEVENT
BEGIN:VEVENT
DTSTART;TZID=America/Los_Angeles:20270726T083000
DTEND;TZID=America/Los_Angeles:20270727T113000
DTSTAMP:20260423T185933
CREATED:20250929T180033Z
LAST-MODIFIED:20250929T191603Z
UID:10009130-1816590600-1816687800@silverdalelutheran.org
SUMMARY:Bible Study Fellowship (GP\, 21-23\, N)
DESCRIPTION:
URL:https://silverdalelutheran.org/event/bible-study-fellowship-gp-21-23-n-2/2027-07-26/
LOCATION:WA
CATEGORIES:Private Group
END:VEVENT
BEGIN:VEVENT
DTSTART;TZID=America/Los_Angeles:20270727T180000
DTEND;TZID=America/Los_Angeles:20270727T200000
DTSTAMP:20260423T185933
CREATED:20250929T183535Z
LAST-MODIFIED:20250929T183620Z
UID:10008619-1816711200-1816718400@silverdalelutheran.org
SUMMARY:Antir.org (GP)
DESCRIPTION:
URL:https://silverdalelutheran.org/event/antir-org/2027-07-27/
LOCATION:WA
CATEGORIES:Private Group
END:VEVENT
BEGIN:VEVENT
DTSTART;TZID=America/Los_Angeles:20270727T183000
DTEND;TZID=America/Los_Angeles:20270727T203000
DTSTAMP:20260423T185933
CREATED:20250929T195350Z
LAST-MODIFIED:20250929T195350Z
UID:10009744-1816713000-1816720200@silverdalelutheran.org
SUMMARY:Scout Planning Meeting
DESCRIPTION:
URL:https://silverdalelutheran.org/event/scout-planning-meeting/2027-07-27/
LOCATION:WA
CATEGORIES:Private Group
END:VEVENT
BEGIN:VEVENT
DTSTART;TZID=America/Los_Angeles:20270727T190000
DTEND;TZID=America/Los_Angeles:20270727T203000
DTSTAMP:20260423T185933
CREATED:20250929T181247Z
LAST-MODIFIED:20250929T181247Z
UID:10006491-1816714800-1816720200@silverdalelutheran.org
SUMMARY:Hometown Band
DESCRIPTION:
URL:https://silverdalelutheran.org/event/hometown-band/2027-07-27/
LOCATION:WA
CATEGORIES:Private Group
END:VEVENT
BEGIN:VEVENT
DTSTART;TZID=America/Los_Angeles:20270727T190000
DTEND;TZID=America/Los_Angeles:20270727T203000
DTSTAMP:20260423T185933
CREATED:20250929T195516Z
LAST-MODIFIED:20250929T195516Z
UID:10009804-1816714800-1816720200@silverdalelutheran.org
SUMMARY:Barnabas Book Club (Private residence)
DESCRIPTION:
URL:https://silverdalelutheran.org/event/barnabas-book-club-private-residence/2027-07-27/
LOCATION:WA
CATEGORIES:Private Group
END:VEVENT
BEGIN:VEVENT
DTSTART;TZID=America/Los_Angeles:20270729T083000
DTEND;TZID=America/Los_Angeles:20270729T113000
DTSTAMP:20260423T185933
CREATED:20250929T181743Z
LAST-MODIFIED:20250929T181743Z
UID:10007073-1816849800-1816860600@silverdalelutheran.org
SUMMARY:Bible Study Fellowship (S\, 21-23)
DESCRIPTION:
URL:https://silverdalelutheran.org/event/bible-study-fellowship-s-21-23/2027-07-29/
LOCATION:WA
CATEGORIES:Private Group
END:VEVENT
BEGIN:VEVENT
DTSTART;TZID=America/Los_Angeles:20270729T183000
DTEND;TZID=America/Los_Angeles:20270729T201500
DTSTAMP:20260423T185933
CREATED:20250929T200004Z
LAST-MODIFIED:20250929T200004Z
UID:10009851-1816885800-1816892100@silverdalelutheran.org
SUMMARY:Lutherhaven Bd Mtg (4)
DESCRIPTION:
URL:https://silverdalelutheran.org/event/lutherhaven-bd-mtg-4/2027-07-29/
LOCATION:WA
CATEGORIES:Private Group
END:VEVENT
BEGIN:VEVENT
DTSTART;TZID=America/Los_Angeles:20270802T083000
DTEND;TZID=America/Los_Angeles:20270803T113000
DTSTAMP:20260423T185933
CREATED:20250929T180033Z
LAST-MODIFIED:20250929T191603Z
UID:10009131-1817195400-1817292600@silverdalelutheran.org
SUMMARY:Bible Study Fellowship (GP\, 21-23\, N)
DESCRIPTION:
URL:https://silverdalelutheran.org/event/bible-study-fellowship-gp-21-23-n-2/2027-08-02/
LOCATION:WA
CATEGORIES:Private Group
END:VEVENT
BEGIN:VEVENT
DTSTART;TZID=America/Los_Angeles:20270803T180000
DTEND;TZID=America/Los_Angeles:20270803T200000
DTSTAMP:20260423T185933
CREATED:20250929T183535Z
LAST-MODIFIED:20250929T183620Z
UID:10008620-1817316000-1817323200@silverdalelutheran.org
SUMMARY:Antir.org (GP)
DESCRIPTION:
URL:https://silverdalelutheran.org/event/antir-org/2027-08-03/
LOCATION:WA
CATEGORIES:Private Group
END:VEVENT
BEGIN:VEVENT
DTSTART;TZID=America/Los_Angeles:20270803T190000
DTEND;TZID=America/Los_Angeles:20270803T203000
DTSTAMP:20260423T185933
CREATED:20250929T181247Z
LAST-MODIFIED:20250929T181247Z
UID:10006492-1817319600-1817325000@silverdalelutheran.org
SUMMARY:Hometown Band
DESCRIPTION:
URL:https://silverdalelutheran.org/event/hometown-band/2027-08-03/
LOCATION:WA
CATEGORIES:Private Group
END:VEVENT
BEGIN:VEVENT
DTSTART;TZID=America/Los_Angeles:20270805T083000
DTEND;TZID=America/Los_Angeles:20270805T113000
DTSTAMP:20260423T185933
CREATED:20250929T181743Z
LAST-MODIFIED:20250929T181743Z
UID:10007074-1817454600-1817465400@silverdalelutheran.org
SUMMARY:Bible Study Fellowship (S\, 21-23)
DESCRIPTION:
URL:https://silverdalelutheran.org/event/bible-study-fellowship-s-21-23/2027-08-05/
LOCATION:WA
CATEGORIES:Private Group
END:VEVENT
BEGIN:VEVENT
DTSTART;TZID=America/Los_Angeles:20270807T100000
DTEND;TZID=America/Los_Angeles:20270807T120000
DTSTAMP:20260423T185933
CREATED:20250929T182332Z
LAST-MODIFIED:20250929T182422Z
UID:10007843-1817632800-1817640000@silverdalelutheran.org
SUMMARY:League of Women Voters (4)
DESCRIPTION:
URL:https://silverdalelutheran.org/event/league-of-women-voters-4/2027-08-07/
LOCATION:Silverdale Lutheran Church\, 11701 Ridgepoint Dr NW\, Silverdale\, WA\, 98383\, United States
CATEGORIES:Private Group
END:VEVENT
BEGIN:VEVENT
DTSTART;TZID=America/Los_Angeles:20270809T083000
DTEND;TZID=America/Los_Angeles:20270810T113000
DTSTAMP:20260423T185933
CREATED:20250929T180033Z
LAST-MODIFIED:20250929T191603Z
UID:10009132-1817800200-1817897400@silverdalelutheran.org
SUMMARY:Bible Study Fellowship (GP\, 21-23\, N)
DESCRIPTION:
URL:https://silverdalelutheran.org/event/bible-study-fellowship-gp-21-23-n-2/2027-08-09/
LOCATION:WA
CATEGORIES:Private Group
END:VEVENT
BEGIN:VEVENT
DTSTART;TZID=America/Los_Angeles:20270810T180000
DTEND;TZID=America/Los_Angeles:20270810T200000
DTSTAMP:20260423T185933
CREATED:20250929T183535Z
LAST-MODIFIED:20250929T183620Z
UID:10008621-1817920800-1817928000@silverdalelutheran.org
SUMMARY:Antir.org (GP)
DESCRIPTION:
URL:https://silverdalelutheran.org/event/antir-org/2027-08-10/
LOCATION:WA
CATEGORIES:Private Group
END:VEVENT
BEGIN:VEVENT
DTSTART;TZID=America/Los_Angeles:20270810T190000
DTEND;TZID=America/Los_Angeles:20270810T203000
DTSTAMP:20260423T185933
CREATED:20250929T181247Z
LAST-MODIFIED:20250929T181247Z
UID:10006493-1817924400-1817929800@silverdalelutheran.org
SUMMARY:Hometown Band
DESCRIPTION:
URL:https://silverdalelutheran.org/event/hometown-band/2027-08-10/
LOCATION:WA
CATEGORIES:Private Group
END:VEVENT
BEGIN:VEVENT
DTSTART;TZID=America/Los_Angeles:20270812T083000
DTEND;TZID=America/Los_Angeles:20270812T113000
DTSTAMP:20260423T185933
CREATED:20250929T181743Z
LAST-MODIFIED:20250929T181743Z
UID:10007075-1818059400-1818070200@silverdalelutheran.org
SUMMARY:Bible Study Fellowship (S\, 21-23)
DESCRIPTION:
URL:https://silverdalelutheran.org/event/bible-study-fellowship-s-21-23/2027-08-12/
LOCATION:WA
CATEGORIES:Private Group
END:VEVENT
BEGIN:VEVENT
DTSTART;TZID=America/Los_Angeles:20270816T083000
DTEND;TZID=America/Los_Angeles:20270817T113000
DTSTAMP:20260423T185933
CREATED:20250929T180033Z
LAST-MODIFIED:20250929T191603Z
UID:10009133-1818405000-1818502200@silverdalelutheran.org
SUMMARY:Bible Study Fellowship (GP\, 21-23\, N)
DESCRIPTION:
URL:https://silverdalelutheran.org/event/bible-study-fellowship-gp-21-23-n-2/2027-08-16/
LOCATION:WA
CATEGORIES:Private Group
END:VEVENT
BEGIN:VEVENT
DTSTART;TZID=America/Los_Angeles:20270816T183000
DTEND;TZID=America/Los_Angeles:20270816T200000
DTSTAMP:20260423T185933
CREATED:20250929T193634Z
LAST-MODIFIED:20250929T193634Z
UID:10009443-1818441000-1818446400@silverdalelutheran.org
SUMMARY:GSWW Leaders Meeting (4)
DESCRIPTION:
URL:https://silverdalelutheran.org/event/gsww-leaders-meeting-4/2027-08-16/
LOCATION:WA
CATEGORIES:Private Group
END:VEVENT
BEGIN:VEVENT
DTSTART;TZID=America/Los_Angeles:20270817T180000
DTEND;TZID=America/Los_Angeles:20270817T200000
DTSTAMP:20260423T185933
CREATED:20250929T183535Z
LAST-MODIFIED:20250929T183620Z
UID:10008622-1818525600-1818532800@silverdalelutheran.org
SUMMARY:Antir.org (GP)
DESCRIPTION:
URL:https://silverdalelutheran.org/event/antir-org/2027-08-17/
LOCATION:WA
CATEGORIES:Private Group
END:VEVENT
END:VCALENDAR