BEGIN:VCALENDAR
VERSION:2.0
PRODID:-//Silverdale Lutheran Church - ECPv6.15.12.2//NONSGML v1.0//EN
CALSCALE:GREGORIAN
METHOD:PUBLISH
X-ORIGINAL-URL:https://silverdalelutheran.org
X-WR-CALDESC:Events for Silverdale Lutheran Church
REFRESH-INTERVAL;VALUE=DURATION:PT1H
X-Robots-Tag:noindex
X-PUBLISHED-TTL:PT1H
BEGIN:VTIMEZONE
TZID:America/Los_Angeles
BEGIN:DAYLIGHT
TZOFFSETFROM:-0800
TZOFFSETTO:-0700
TZNAME:PDT
DTSTART:20260308T100000
END:DAYLIGHT
BEGIN:STANDARD
TZOFFSETFROM:-0700
TZOFFSETTO:-0800
TZNAME:PST
DTSTART:20261101T090000
END:STANDARD
BEGIN:DAYLIGHT
TZOFFSETFROM:-0800
TZOFFSETTO:-0700
TZNAME:PDT
DTSTART:20270314T100000
END:DAYLIGHT
BEGIN:STANDARD
TZOFFSETFROM:-0700
TZOFFSETTO:-0800
TZNAME:PST
DTSTART:20271107T090000
END:STANDARD
BEGIN:DAYLIGHT
TZOFFSETFROM:-0800
TZOFFSETTO:-0700
TZNAME:PDT
DTSTART:20280312T100000
END:DAYLIGHT
BEGIN:STANDARD
TZOFFSETFROM:-0700
TZOFFSETTO:-0800
TZNAME:PST
DTSTART:20281105T090000
END:STANDARD
END:VTIMEZONE
BEGIN:VEVENT
DTSTART;TZID=America/Los_Angeles:20270419T083000
DTEND;TZID=America/Los_Angeles:20270420T113000
DTSTAMP:20260423T090113
CREATED:20250929T180033Z
LAST-MODIFIED:20250929T191603Z
UID:10009116-1808123400-1808220600@silverdalelutheran.org
SUMMARY:Bible Study Fellowship (GP\, 21-23\, N)
DESCRIPTION:
URL:https://silverdalelutheran.org/event/bible-study-fellowship-gp-21-23-n-2/2027-04-19/
CATEGORIES:Private Group
END:VEVENT
BEGIN:VEVENT
DTSTART;TZID=America/Los_Angeles:20270419T183000
DTEND;TZID=America/Los_Angeles:20270419T200000
DTSTAMP:20260423T090113
CREATED:20250929T193634Z
LAST-MODIFIED:20250929T193634Z
UID:10009439-1808159400-1808164800@silverdalelutheran.org
SUMMARY:GSWW Leaders Meeting (4)
DESCRIPTION:
URL:https://silverdalelutheran.org/event/gsww-leaders-meeting-4/2027-04-19/
CATEGORIES:Private Group
END:VEVENT
BEGIN:VEVENT
DTSTART;TZID=America/Los_Angeles:20270420T180000
DTEND;TZID=America/Los_Angeles:20270420T200000
DTSTAMP:20260423T090113
CREATED:20250929T183535Z
LAST-MODIFIED:20250929T183620Z
UID:10008605-1808244000-1808251200@silverdalelutheran.org
SUMMARY:Antir.org (GP)
DESCRIPTION:
URL:https://silverdalelutheran.org/event/antir-org/2027-04-20/
CATEGORIES:Private Group
END:VEVENT
BEGIN:VEVENT
DTSTART;TZID=America/Los_Angeles:20270420T190000
DTEND;TZID=America/Los_Angeles:20270420T203000
DTSTAMP:20260423T090114
CREATED:20250929T181247Z
LAST-MODIFIED:20250929T181247Z
UID:10006477-1808247600-1808253000@silverdalelutheran.org
SUMMARY:Hometown Band
DESCRIPTION:
URL:https://silverdalelutheran.org/event/hometown-band/2027-04-20/
CATEGORIES:Private Group
END:VEVENT
BEGIN:VEVENT
DTSTART;TZID=America/Los_Angeles:20270420T190000
DTEND;TZID=America/Los_Angeles:20270420T210000
DTSTAMP:20260423T090114
CREATED:20250929T193807Z
LAST-MODIFIED:20250929T193852Z
UID:10009499-1808247600-1808254800@silverdalelutheran.org
SUMMARY:Compassionate Friends (4)
DESCRIPTION:
URL:https://silverdalelutheran.org/event/compassionate-friend-4/2027-04-20/
CATEGORIES:Private Group
END:VEVENT
BEGIN:VEVENT
DTSTART;TZID=America/Los_Angeles:20270421T130000
DTEND;TZID=America/Los_Angeles:20270421T140000
DTSTAMP:20260423T090114
CREATED:20250929T192040Z
LAST-MODIFIED:20250929T192040Z
UID:10009376-1808312400-1808316000@silverdalelutheran.org
SUMMARY:Parkinsons group (St)
DESCRIPTION:Monthly on the third Wednesday
URL:https://silverdalelutheran.org/event/parkinsons-group-st/2027-04-21/
LOCATION:Silverdale Lutheran Church\, 11701 Ridgepoint Dr NW\, Silverdale\, WA\, 98383\, United States
CATEGORIES:Private Group
END:VEVENT
BEGIN:VEVENT
DTSTART;TZID=America/Los_Angeles:20270422T083000
DTEND;TZID=America/Los_Angeles:20270422T113000
DTSTAMP:20260423T090114
CREATED:20250929T181743Z
LAST-MODIFIED:20250929T181743Z
UID:10007059-1808382600-1808393400@silverdalelutheran.org
SUMMARY:Bible Study Fellowship (S\, 21-23)
DESCRIPTION:
URL:https://silverdalelutheran.org/event/bible-study-fellowship-s-21-23/2027-04-22/
CATEGORIES:Private Group
END:VEVENT
BEGIN:VEVENT
DTSTART;TZID=America/Los_Angeles:20270422T180000
DTEND;TZID=America/Los_Angeles:20270422T200000
DTSTAMP:20260423T090114
CREATED:20250929T194007Z
LAST-MODIFIED:20250929T194007Z
UID:10009559-1808416800-1808424000@silverdalelutheran.org
SUMMARY:Kitsap County Search Dogs (FH)
DESCRIPTION:
URL:https://silverdalelutheran.org/event/kitsap-county-search-dogs-fh/2027-04-22/
CATEGORIES:Private Group
END:VEVENT
BEGIN:VEVENT
DTSTART;TZID=America/Los_Angeles:20270426T083000
DTEND;TZID=America/Los_Angeles:20270427T113000
DTSTAMP:20260423T090114
CREATED:20250929T180033Z
LAST-MODIFIED:20250929T191603Z
UID:10009117-1808728200-1808825400@silverdalelutheran.org
SUMMARY:Bible Study Fellowship (GP\, 21-23\, N)
DESCRIPTION:
URL:https://silverdalelutheran.org/event/bible-study-fellowship-gp-21-23-n-2/2027-04-26/
CATEGORIES:Private Group
END:VEVENT
BEGIN:VEVENT
DTSTART;TZID=America/Los_Angeles:20270427T180000
DTEND;TZID=America/Los_Angeles:20270427T200000
DTSTAMP:20260423T090114
CREATED:20250929T183535Z
LAST-MODIFIED:20250929T183620Z
UID:10008606-1808848800-1808856000@silverdalelutheran.org
SUMMARY:Antir.org (GP)
DESCRIPTION:
URL:https://silverdalelutheran.org/event/antir-org/2027-04-27/
CATEGORIES:Private Group
END:VEVENT
BEGIN:VEVENT
DTSTART;TZID=America/Los_Angeles:20270427T183000
DTEND;TZID=America/Los_Angeles:20270427T203000
DTSTAMP:20260423T090114
CREATED:20250929T195350Z
LAST-MODIFIED:20250929T195350Z
UID:10009741-1808850600-1808857800@silverdalelutheran.org
SUMMARY:Scout Planning Meeting
DESCRIPTION:
URL:https://silverdalelutheran.org/event/scout-planning-meeting/2027-04-27/
CATEGORIES:Private Group
END:VEVENT
BEGIN:VEVENT
DTSTART;TZID=America/Los_Angeles:20270427T190000
DTEND;TZID=America/Los_Angeles:20270427T203000
DTSTAMP:20260423T090114
CREATED:20250929T181247Z
LAST-MODIFIED:20250929T181247Z
UID:10006478-1808852400-1808857800@silverdalelutheran.org
SUMMARY:Hometown Band
DESCRIPTION:
URL:https://silverdalelutheran.org/event/hometown-band/2027-04-27/
CATEGORIES:Private Group
END:VEVENT
BEGIN:VEVENT
DTSTART;TZID=America/Los_Angeles:20270427T190000
DTEND;TZID=America/Los_Angeles:20270427T203000
DTSTAMP:20260423T090114
CREATED:20250929T195516Z
LAST-MODIFIED:20250929T195516Z
UID:10009801-1808852400-1808857800@silverdalelutheran.org
SUMMARY:Barnabas Book Club (Private residence)
DESCRIPTION:
URL:https://silverdalelutheran.org/event/barnabas-book-club-private-residence/2027-04-27/
CATEGORIES:Private Group
END:VEVENT
BEGIN:VEVENT
DTSTART;TZID=America/Los_Angeles:20270429T083000
DTEND;TZID=America/Los_Angeles:20270429T113000
DTSTAMP:20260423T090114
CREATED:20250929T181743Z
LAST-MODIFIED:20250929T181743Z
UID:10007060-1808987400-1808998200@silverdalelutheran.org
SUMMARY:Bible Study Fellowship (S\, 21-23)
DESCRIPTION:
URL:https://silverdalelutheran.org/event/bible-study-fellowship-s-21-23/2027-04-29/
CATEGORIES:Private Group
END:VEVENT
BEGIN:VEVENT
DTSTART;TZID=America/Los_Angeles:20270429T183000
DTEND;TZID=America/Los_Angeles:20270429T201500
DTSTAMP:20260423T090114
CREATED:20250929T200004Z
LAST-MODIFIED:20250929T200004Z
UID:10009850-1809023400-1809029700@silverdalelutheran.org
SUMMARY:Lutherhaven Bd Mtg (4)
DESCRIPTION:
URL:https://silverdalelutheran.org/event/lutherhaven-bd-mtg-4/2027-04-29/
CATEGORIES:Private Group
END:VEVENT
BEGIN:VEVENT
DTSTART;TZID=America/Los_Angeles:20270501T100000
DTEND;TZID=America/Los_Angeles:20270501T120000
DTSTAMP:20260423T090114
CREATED:20250929T182332Z
LAST-MODIFIED:20250929T182422Z
UID:10007840-1809165600-1809172800@silverdalelutheran.org
SUMMARY:League of Women Voters (4)
DESCRIPTION:
URL:https://silverdalelutheran.org/event/league-of-women-voters-4/2027-05-01/
LOCATION:Silverdale Lutheran Church\, 11701 Ridgepoint Dr NW\, Silverdale\, WA\, 98383\, United States
CATEGORIES:Private Group
END:VEVENT
BEGIN:VEVENT
DTSTART;TZID=America/Los_Angeles:20270503T083000
DTEND;TZID=America/Los_Angeles:20270504T113000
DTSTAMP:20260423T090114
CREATED:20250929T180033Z
LAST-MODIFIED:20250929T191603Z
UID:10009118-1809333000-1809430200@silverdalelutheran.org
SUMMARY:Bible Study Fellowship (GP\, 21-23\, N)
DESCRIPTION:
URL:https://silverdalelutheran.org/event/bible-study-fellowship-gp-21-23-n-2/2027-05-03/
CATEGORIES:Private Group
END:VEVENT
BEGIN:VEVENT
DTSTART;TZID=America/Los_Angeles:20270504T180000
DTEND;TZID=America/Los_Angeles:20270504T200000
DTSTAMP:20260423T090114
CREATED:20250929T183535Z
LAST-MODIFIED:20250929T183620Z
UID:10008607-1809453600-1809460800@silverdalelutheran.org
SUMMARY:Antir.org (GP)
DESCRIPTION:
URL:https://silverdalelutheran.org/event/antir-org/2027-05-04/
CATEGORIES:Private Group
END:VEVENT
BEGIN:VEVENT
DTSTART;TZID=America/Los_Angeles:20270504T190000
DTEND;TZID=America/Los_Angeles:20270504T203000
DTSTAMP:20260423T090114
CREATED:20250929T181247Z
LAST-MODIFIED:20250929T181247Z
UID:10006479-1809457200-1809462600@silverdalelutheran.org
SUMMARY:Hometown Band
DESCRIPTION:
URL:https://silverdalelutheran.org/event/hometown-band/2027-05-04/
CATEGORIES:Private Group
END:VEVENT
BEGIN:VEVENT
DTSTART;TZID=America/Los_Angeles:20270506T083000
DTEND;TZID=America/Los_Angeles:20270506T113000
DTSTAMP:20260423T090114
CREATED:20250929T181743Z
LAST-MODIFIED:20250929T181743Z
UID:10007061-1809592200-1809603000@silverdalelutheran.org
SUMMARY:Bible Study Fellowship (S\, 21-23)
DESCRIPTION:
URL:https://silverdalelutheran.org/event/bible-study-fellowship-s-21-23/2027-05-06/
CATEGORIES:Private Group
END:VEVENT
BEGIN:VEVENT
DTSTART;TZID=America/Los_Angeles:20270510T083000
DTEND;TZID=America/Los_Angeles:20270511T113000
DTSTAMP:20260423T090114
CREATED:20250929T180033Z
LAST-MODIFIED:20250929T191603Z
UID:10009119-1809937800-1810035000@silverdalelutheran.org
SUMMARY:Bible Study Fellowship (GP\, 21-23\, N)
DESCRIPTION:
URL:https://silverdalelutheran.org/event/bible-study-fellowship-gp-21-23-n-2/2027-05-10/
CATEGORIES:Private Group
END:VEVENT
BEGIN:VEVENT
DTSTART;TZID=America/Los_Angeles:20270511T180000
DTEND;TZID=America/Los_Angeles:20270511T200000
DTSTAMP:20260423T090114
CREATED:20250929T183535Z
LAST-MODIFIED:20250929T183620Z
UID:10008608-1810058400-1810065600@silverdalelutheran.org
SUMMARY:Antir.org (GP)
DESCRIPTION:
URL:https://silverdalelutheran.org/event/antir-org/2027-05-11/
CATEGORIES:Private Group
END:VEVENT
BEGIN:VEVENT
DTSTART;TZID=America/Los_Angeles:20270511T190000
DTEND;TZID=America/Los_Angeles:20270511T203000
DTSTAMP:20260423T090114
CREATED:20250929T181247Z
LAST-MODIFIED:20250929T181247Z
UID:10006480-1810062000-1810067400@silverdalelutheran.org
SUMMARY:Hometown Band
DESCRIPTION:
URL:https://silverdalelutheran.org/event/hometown-band/2027-05-11/
CATEGORIES:Private Group
END:VEVENT
BEGIN:VEVENT
DTSTART;TZID=America/Los_Angeles:20270513T083000
DTEND;TZID=America/Los_Angeles:20270513T113000
DTSTAMP:20260423T090114
CREATED:20250929T181743Z
LAST-MODIFIED:20250929T181743Z
UID:10007062-1810197000-1810207800@silverdalelutheran.org
SUMMARY:Bible Study Fellowship (S\, 21-23)
DESCRIPTION:
URL:https://silverdalelutheran.org/event/bible-study-fellowship-s-21-23/2027-05-13/
CATEGORIES:Private Group
END:VEVENT
BEGIN:VEVENT
DTSTART;TZID=America/Los_Angeles:20270517T083000
DTEND;TZID=America/Los_Angeles:20270518T113000
DTSTAMP:20260423T090114
CREATED:20250929T180033Z
LAST-MODIFIED:20250929T191603Z
UID:10009120-1810542600-1810639800@silverdalelutheran.org
SUMMARY:Bible Study Fellowship (GP\, 21-23\, N)
DESCRIPTION:
URL:https://silverdalelutheran.org/event/bible-study-fellowship-gp-21-23-n-2/2027-05-17/
CATEGORIES:Private Group
END:VEVENT
BEGIN:VEVENT
DTSTART;TZID=America/Los_Angeles:20270517T183000
DTEND;TZID=America/Los_Angeles:20270517T200000
DTSTAMP:20260423T090114
CREATED:20250929T193634Z
LAST-MODIFIED:20250929T193634Z
UID:10009440-1810578600-1810584000@silverdalelutheran.org
SUMMARY:GSWW Leaders Meeting (4)
DESCRIPTION:
URL:https://silverdalelutheran.org/event/gsww-leaders-meeting-4/2027-05-17/
CATEGORIES:Private Group
END:VEVENT
BEGIN:VEVENT
DTSTART;TZID=America/Los_Angeles:20270518T180000
DTEND;TZID=America/Los_Angeles:20270518T200000
DTSTAMP:20260423T090114
CREATED:20250929T183535Z
LAST-MODIFIED:20250929T183620Z
UID:10008609-1810663200-1810670400@silverdalelutheran.org
SUMMARY:Antir.org (GP)
DESCRIPTION:
URL:https://silverdalelutheran.org/event/antir-org/2027-05-18/
CATEGORIES:Private Group
END:VEVENT
BEGIN:VEVENT
DTSTART;TZID=America/Los_Angeles:20270518T190000
DTEND;TZID=America/Los_Angeles:20270518T203000
DTSTAMP:20260423T090114
CREATED:20250929T181247Z
LAST-MODIFIED:20250929T181247Z
UID:10006481-1810666800-1810672200@silverdalelutheran.org
SUMMARY:Hometown Band
DESCRIPTION:
URL:https://silverdalelutheran.org/event/hometown-band/2027-05-18/
CATEGORIES:Private Group
END:VEVENT
BEGIN:VEVENT
DTSTART;TZID=America/Los_Angeles:20270518T190000
DTEND;TZID=America/Los_Angeles:20270518T210000
DTSTAMP:20260423T090114
CREATED:20250929T193807Z
LAST-MODIFIED:20250929T193852Z
UID:10009500-1810666800-1810674000@silverdalelutheran.org
SUMMARY:Compassionate Friends (4)
DESCRIPTION:
URL:https://silverdalelutheran.org/event/compassionate-friend-4/2027-05-18/
CATEGORIES:Private Group
END:VEVENT
BEGIN:VEVENT
DTSTART;TZID=America/Los_Angeles:20270519T130000
DTEND;TZID=America/Los_Angeles:20270519T140000
DTSTAMP:20260423T090114
CREATED:20250929T192040Z
LAST-MODIFIED:20250929T192040Z
UID:10009377-1810731600-1810735200@silverdalelutheran.org
SUMMARY:Parkinsons group (St)
DESCRIPTION:Monthly on the third Wednesday
URL:https://silverdalelutheran.org/event/parkinsons-group-st/2027-05-19/
LOCATION:Silverdale Lutheran Church\, 11701 Ridgepoint Dr NW\, Silverdale\, WA\, 98383\, United States
CATEGORIES:Private Group
END:VEVENT
END:VCALENDAR