BEGIN:VCALENDAR
VERSION:2.0
PRODID:-//Silverdale Lutheran Church - ECPv6.15.12.2//NONSGML v1.0//EN
CALSCALE:GREGORIAN
METHOD:PUBLISH
X-ORIGINAL-URL:https://silverdalelutheran.org
X-WR-CALDESC:Events for Silverdale Lutheran Church
REFRESH-INTERVAL;VALUE=DURATION:PT1H
X-Robots-Tag:noindex
X-PUBLISHED-TTL:PT1H
BEGIN:VTIMEZONE
TZID:America/Los_Angeles
BEGIN:DAYLIGHT
TZOFFSETFROM:-0800
TZOFFSETTO:-0700
TZNAME:PDT
DTSTART:20240310T100000
END:DAYLIGHT
BEGIN:STANDARD
TZOFFSETFROM:-0700
TZOFFSETTO:-0800
TZNAME:PST
DTSTART:20241103T090000
END:STANDARD
BEGIN:DAYLIGHT
TZOFFSETFROM:-0800
TZOFFSETTO:-0700
TZNAME:PDT
DTSTART:20250309T100000
END:DAYLIGHT
BEGIN:STANDARD
TZOFFSETFROM:-0700
TZOFFSETTO:-0800
TZNAME:PST
DTSTART:20251102T090000
END:STANDARD
BEGIN:DAYLIGHT
TZOFFSETFROM:-0800
TZOFFSETTO:-0700
TZNAME:PDT
DTSTART:20260308T100000
END:DAYLIGHT
BEGIN:STANDARD
TZOFFSETFROM:-0700
TZOFFSETTO:-0800
TZNAME:PST
DTSTART:20261101T090000
END:STANDARD
BEGIN:DAYLIGHT
TZOFFSETFROM:-0800
TZOFFSETTO:-0700
TZNAME:PDT
DTSTART:20270314T100000
END:DAYLIGHT
BEGIN:STANDARD
TZOFFSETFROM:-0700
TZOFFSETTO:-0800
TZNAME:PST
DTSTART:20271107T090000
END:STANDARD
END:VTIMEZONE
BEGIN:VEVENT
DTSTART;TZID=America/Los_Angeles:20251216T190000
DTEND;TZID=America/Los_Angeles:20251216T210000
DTSTAMP:20260421T145035
CREATED:20250929T193807Z
LAST-MODIFIED:20250929T193852Z
UID:10009483-1765911600-1765918800@silverdalelutheran.org
SUMMARY:Compassionate Friends (4)
DESCRIPTION:
URL:https://silverdalelutheran.org/event/compassionate-friend-4/2025-12-16/
CATEGORIES:Private Group
END:VEVENT
BEGIN:VEVENT
DTSTART;TZID=America/Los_Angeles:20251217T130000
DTEND;TZID=America/Los_Angeles:20251217T140000
DTSTAMP:20260421T145035
CREATED:20250929T192040Z
LAST-MODIFIED:20250929T192040Z
UID:10009360-1765976400-1765980000@silverdalelutheran.org
SUMMARY:Parkinsons group (St)
DESCRIPTION:Monthly on the third Wednesday
URL:https://silverdalelutheran.org/event/parkinsons-group-st/2025-12-17/
LOCATION:Silverdale Lutheran Church\, 11701 Ridgepoint Dr NW\, Silverdale\, WA\, 98383\, United States
CATEGORIES:Private Group
END:VEVENT
BEGIN:VEVENT
DTSTART;TZID=America/Los_Angeles:20251218T083000
DTEND;TZID=America/Los_Angeles:20251218T113000
DTSTAMP:20260421T145035
CREATED:20250929T181743Z
LAST-MODIFIED:20250929T181743Z
UID:10006989-1766046600-1766057400@silverdalelutheran.org
SUMMARY:Bible Study Fellowship (S\, 21-23)
DESCRIPTION:
URL:https://silverdalelutheran.org/event/bible-study-fellowship-s-21-23/2025-12-18/
CATEGORIES:Private Group
END:VEVENT
BEGIN:VEVENT
DTSTART;TZID=America/Los_Angeles:20251222T083000
DTEND;TZID=America/Los_Angeles:20251223T113000
DTSTAMP:20260421T145035
CREATED:20250929T180033Z
LAST-MODIFIED:20250929T191603Z
UID:10009047-1766392200-1766489400@silverdalelutheran.org
SUMMARY:Bible Study Fellowship (GP\, 21-23\, N)
DESCRIPTION:
URL:https://silverdalelutheran.org/event/bible-study-fellowship-gp-21-23-n-2/2025-12-22/
CATEGORIES:Private Group
END:VEVENT
BEGIN:VEVENT
DTSTART;TZID=America/Los_Angeles:20251223T180000
DTEND;TZID=America/Los_Angeles:20251223T200000
DTSTAMP:20260421T145035
CREATED:20250929T183535Z
LAST-MODIFIED:20250929T183620Z
UID:10008536-1766512800-1766520000@silverdalelutheran.org
SUMMARY:Antir.org (GP)
DESCRIPTION:
URL:https://silverdalelutheran.org/event/antir-org/2025-12-23/
CATEGORIES:Private Group
END:VEVENT
BEGIN:VEVENT
DTSTART;TZID=America/Los_Angeles:20251223T183000
DTEND;TZID=America/Los_Angeles:20251223T203000
DTSTAMP:20260421T145035
CREATED:20250929T195350Z
LAST-MODIFIED:20250929T195350Z
UID:10009725-1766514600-1766521800@silverdalelutheran.org
SUMMARY:Scout Planning Meeting
DESCRIPTION:
URL:https://silverdalelutheran.org/event/scout-planning-meeting/2025-12-23/
CATEGORIES:Private Group
END:VEVENT
BEGIN:VEVENT
DTSTART;TZID=America/Los_Angeles:20251223T190000
DTEND;TZID=America/Los_Angeles:20251223T203000
DTSTAMP:20260421T145035
CREATED:20250929T181247Z
LAST-MODIFIED:20250929T181247Z
UID:10006408-1766516400-1766521800@silverdalelutheran.org
SUMMARY:Hometown Band
DESCRIPTION:
URL:https://silverdalelutheran.org/event/hometown-band/2025-12-23/
CATEGORIES:Private Group
END:VEVENT
BEGIN:VEVENT
DTSTART;TZID=America/Los_Angeles:20251223T190000
DTEND;TZID=America/Los_Angeles:20251223T203000
DTSTAMP:20260421T145035
CREATED:20250929T195516Z
LAST-MODIFIED:20250929T195516Z
UID:10009785-1766516400-1766521800@silverdalelutheran.org
SUMMARY:Barnabas Book Club (Private residence)
DESCRIPTION:
URL:https://silverdalelutheran.org/event/barnabas-book-club-private-residence/2025-12-23/
CATEGORIES:Private Group
END:VEVENT
BEGIN:VEVENT
DTSTART;TZID=America/Los_Angeles:20251225T083000
DTEND;TZID=America/Los_Angeles:20251225T113000
DTSTAMP:20260421T145035
CREATED:20250929T181743Z
LAST-MODIFIED:20250929T181743Z
UID:10006990-1766651400-1766662200@silverdalelutheran.org
SUMMARY:Bible Study Fellowship (S\, 21-23)
DESCRIPTION:
URL:https://silverdalelutheran.org/event/bible-study-fellowship-s-21-23/2025-12-25/
CATEGORIES:Private Group
END:VEVENT
BEGIN:VEVENT
DTSTART;TZID=America/Los_Angeles:20251225T180000
DTEND;TZID=America/Los_Angeles:20251225T200000
DTSTAMP:20260421T145035
CREATED:20250929T194007Z
LAST-MODIFIED:20250929T194007Z
UID:10009543-1766685600-1766692800@silverdalelutheran.org
SUMMARY:Kitsap County Search Dogs (FH)
DESCRIPTION:
URL:https://silverdalelutheran.org/event/kitsap-county-search-dogs-fh/2025-12-25/
CATEGORIES:Private Group
END:VEVENT
BEGIN:VEVENT
DTSTART;TZID=America/Los_Angeles:20251229T083000
DTEND;TZID=America/Los_Angeles:20251230T113000
DTSTAMP:20260421T145035
CREATED:20250929T180033Z
LAST-MODIFIED:20250929T191603Z
UID:10009048-1766997000-1767094200@silverdalelutheran.org
SUMMARY:Bible Study Fellowship (GP\, 21-23\, N)
DESCRIPTION:
URL:https://silverdalelutheran.org/event/bible-study-fellowship-gp-21-23-n-2/2025-12-29/
CATEGORIES:Private Group
END:VEVENT
BEGIN:VEVENT
DTSTART;TZID=America/Los_Angeles:20251230T180000
DTEND;TZID=America/Los_Angeles:20251230T200000
DTSTAMP:20260421T145035
CREATED:20250929T183535Z
LAST-MODIFIED:20250929T183620Z
UID:10008537-1767117600-1767124800@silverdalelutheran.org
SUMMARY:Antir.org (GP)
DESCRIPTION:
URL:https://silverdalelutheran.org/event/antir-org/2025-12-30/
CATEGORIES:Private Group
END:VEVENT
BEGIN:VEVENT
DTSTART;TZID=America/Los_Angeles:20251230T190000
DTEND;TZID=America/Los_Angeles:20251230T203000
DTSTAMP:20260421T145035
CREATED:20250929T181247Z
LAST-MODIFIED:20250929T181247Z
UID:10006409-1767121200-1767126600@silverdalelutheran.org
SUMMARY:Hometown Band
DESCRIPTION:
URL:https://silverdalelutheran.org/event/hometown-band/2025-12-30/
CATEGORIES:Private Group
END:VEVENT
BEGIN:VEVENT
DTSTART;TZID=America/Los_Angeles:20260101T083000
DTEND;TZID=America/Los_Angeles:20260101T113000
DTSTAMP:20260421T145035
CREATED:20250929T181743Z
LAST-MODIFIED:20250929T181743Z
UID:10006991-1767256200-1767267000@silverdalelutheran.org
SUMMARY:Bible Study Fellowship (S\, 21-23)
DESCRIPTION:
URL:https://silverdalelutheran.org/event/bible-study-fellowship-s-21-23/2026-01-01/
CATEGORIES:Private Group
END:VEVENT
BEGIN:VEVENT
DTSTART;TZID=America/Los_Angeles:20260103T100000
DTEND;TZID=America/Los_Angeles:20260103T120000
DTSTAMP:20260421T145035
CREATED:20250929T182332Z
LAST-MODIFIED:20250929T182422Z
UID:10007824-1767434400-1767441600@silverdalelutheran.org
SUMMARY:League of Women Voters (4)
DESCRIPTION:
URL:https://silverdalelutheran.org/event/league-of-women-voters-4/2026-01-03/
LOCATION:Silverdale Lutheran Church\, 11701 Ridgepoint Dr NW\, Silverdale\, WA\, 98383\, United States
CATEGORIES:Private Group
END:VEVENT
BEGIN:VEVENT
DTSTART;TZID=America/Los_Angeles:20260105T083000
DTEND;TZID=America/Los_Angeles:20260106T113000
DTSTAMP:20260421T145035
CREATED:20250929T180033Z
LAST-MODIFIED:20250929T191603Z
UID:10009049-1767601800-1767699000@silverdalelutheran.org
SUMMARY:Bible Study Fellowship (GP\, 21-23\, N)
DESCRIPTION:
URL:https://silverdalelutheran.org/event/bible-study-fellowship-gp-21-23-n-2/2026-01-05/
CATEGORIES:Private Group
END:VEVENT
BEGIN:VEVENT
DTSTART;TZID=America/Los_Angeles:20260106T180000
DTEND;TZID=America/Los_Angeles:20260106T200000
DTSTAMP:20260421T145035
CREATED:20250929T183535Z
LAST-MODIFIED:20250929T183620Z
UID:10008538-1767722400-1767729600@silverdalelutheran.org
SUMMARY:Antir.org (GP)
DESCRIPTION:
URL:https://silverdalelutheran.org/event/antir-org/2026-01-06/
CATEGORIES:Private Group
END:VEVENT
BEGIN:VEVENT
DTSTART;TZID=America/Los_Angeles:20260106T190000
DTEND;TZID=America/Los_Angeles:20260106T203000
DTSTAMP:20260421T145035
CREATED:20250929T181247Z
LAST-MODIFIED:20250929T181247Z
UID:10006410-1767726000-1767731400@silverdalelutheran.org
SUMMARY:Hometown Band
DESCRIPTION:
URL:https://silverdalelutheran.org/event/hometown-band/2026-01-06/
CATEGORIES:Private Group
END:VEVENT
BEGIN:VEVENT
DTSTART;TZID=America/Los_Angeles:20260108T083000
DTEND;TZID=America/Los_Angeles:20260108T113000
DTSTAMP:20260421T145035
CREATED:20250929T181743Z
LAST-MODIFIED:20250929T181743Z
UID:10006992-1767861000-1767871800@silverdalelutheran.org
SUMMARY:Bible Study Fellowship (S\, 21-23)
DESCRIPTION:
URL:https://silverdalelutheran.org/event/bible-study-fellowship-s-21-23/2026-01-08/
CATEGORIES:Private Group
END:VEVENT
BEGIN:VEVENT
DTSTART;TZID=America/Los_Angeles:20260112T083000
DTEND;TZID=America/Los_Angeles:20260113T113000
DTSTAMP:20260421T145035
CREATED:20250929T180033Z
LAST-MODIFIED:20250929T191603Z
UID:10009050-1768206600-1768303800@silverdalelutheran.org
SUMMARY:Bible Study Fellowship (GP\, 21-23\, N)
DESCRIPTION:
URL:https://silverdalelutheran.org/event/bible-study-fellowship-gp-21-23-n-2/2026-01-12/
CATEGORIES:Private Group
END:VEVENT
BEGIN:VEVENT
DTSTART;TZID=America/Los_Angeles:20260113T180000
DTEND;TZID=America/Los_Angeles:20260113T200000
DTSTAMP:20260421T145035
CREATED:20250929T183535Z
LAST-MODIFIED:20250929T183620Z
UID:10008539-1768327200-1768334400@silverdalelutheran.org
SUMMARY:Antir.org (GP)
DESCRIPTION:
URL:https://silverdalelutheran.org/event/antir-org/2026-01-13/
CATEGORIES:Private Group
END:VEVENT
BEGIN:VEVENT
DTSTART;TZID=America/Los_Angeles:20260113T190000
DTEND;TZID=America/Los_Angeles:20260113T203000
DTSTAMP:20260421T145035
CREATED:20250929T181247Z
LAST-MODIFIED:20250929T181247Z
UID:10006411-1768330800-1768336200@silverdalelutheran.org
SUMMARY:Hometown Band
DESCRIPTION:
URL:https://silverdalelutheran.org/event/hometown-band/2026-01-13/
CATEGORIES:Private Group
END:VEVENT
BEGIN:VEVENT
DTSTART;TZID=America/Los_Angeles:20260115T083000
DTEND;TZID=America/Los_Angeles:20260115T113000
DTSTAMP:20260421T145035
CREATED:20250929T181743Z
LAST-MODIFIED:20250929T181743Z
UID:10006993-1768465800-1768476600@silverdalelutheran.org
SUMMARY:Bible Study Fellowship (S\, 21-23)
DESCRIPTION:
URL:https://silverdalelutheran.org/event/bible-study-fellowship-s-21-23/2026-01-15/
CATEGORIES:Private Group
END:VEVENT
BEGIN:VEVENT
DTSTART;TZID=America/Los_Angeles:20260119T083000
DTEND;TZID=America/Los_Angeles:20260120T113000
DTSTAMP:20260421T145035
CREATED:20250929T180033Z
LAST-MODIFIED:20250929T191603Z
UID:10009051-1768811400-1768908600@silverdalelutheran.org
SUMMARY:Bible Study Fellowship (GP\, 21-23\, N)
DESCRIPTION:
URL:https://silverdalelutheran.org/event/bible-study-fellowship-gp-21-23-n-2/2026-01-19/
CATEGORIES:Private Group
END:VEVENT
BEGIN:VEVENT
DTSTART;TZID=America/Los_Angeles:20260119T183000
DTEND;TZID=America/Los_Angeles:20260119T200000
DTSTAMP:20260421T145035
CREATED:20250929T193634Z
LAST-MODIFIED:20250929T193634Z
UID:10009424-1768847400-1768852800@silverdalelutheran.org
SUMMARY:GSWW Leaders Meeting (4)
DESCRIPTION:
URL:https://silverdalelutheran.org/event/gsww-leaders-meeting-4/2026-01-19/
CATEGORIES:Private Group
END:VEVENT
BEGIN:VEVENT
DTSTART;TZID=America/Los_Angeles:20260120T180000
DTEND;TZID=America/Los_Angeles:20260120T200000
DTSTAMP:20260421T145035
CREATED:20250929T183535Z
LAST-MODIFIED:20250929T183620Z
UID:10008540-1768932000-1768939200@silverdalelutheran.org
SUMMARY:Antir.org (GP)
DESCRIPTION:
URL:https://silverdalelutheran.org/event/antir-org/2026-01-20/
CATEGORIES:Private Group
END:VEVENT
BEGIN:VEVENT
DTSTART;TZID=America/Los_Angeles:20260120T190000
DTEND;TZID=America/Los_Angeles:20260120T203000
DTSTAMP:20260421T145035
CREATED:20250929T181247Z
LAST-MODIFIED:20250929T181247Z
UID:10006412-1768935600-1768941000@silverdalelutheran.org
SUMMARY:Hometown Band
DESCRIPTION:
URL:https://silverdalelutheran.org/event/hometown-band/2026-01-20/
CATEGORIES:Private Group
END:VEVENT
BEGIN:VEVENT
DTSTART;TZID=America/Los_Angeles:20260120T190000
DTEND;TZID=America/Los_Angeles:20260120T210000
DTSTAMP:20260421T145035
CREATED:20250929T193807Z
LAST-MODIFIED:20250929T193852Z
UID:10009484-1768935600-1768942800@silverdalelutheran.org
SUMMARY:Compassionate Friends (4)
DESCRIPTION:
URL:https://silverdalelutheran.org/event/compassionate-friend-4/2026-01-20/
CATEGORIES:Private Group
END:VEVENT
BEGIN:VEVENT
DTSTART;TZID=America/Los_Angeles:20260121T130000
DTEND;TZID=America/Los_Angeles:20260121T140000
DTSTAMP:20260421T145035
CREATED:20250929T192040Z
LAST-MODIFIED:20250929T192040Z
UID:10009361-1769000400-1769004000@silverdalelutheran.org
SUMMARY:Parkinsons group (St)
DESCRIPTION:Monthly on the third Wednesday
URL:https://silverdalelutheran.org/event/parkinsons-group-st/2026-01-21/
LOCATION:Silverdale Lutheran Church\, 11701 Ridgepoint Dr NW\, Silverdale\, WA\, 98383\, United States
CATEGORIES:Private Group
END:VEVENT
BEGIN:VEVENT
DTSTART;TZID=America/Los_Angeles:20260122T083000
DTEND;TZID=America/Los_Angeles:20260122T113000
DTSTAMP:20260421T145035
CREATED:20250929T181743Z
LAST-MODIFIED:20250929T181743Z
UID:10006994-1769070600-1769081400@silverdalelutheran.org
SUMMARY:Bible Study Fellowship (S\, 21-23)
DESCRIPTION:
URL:https://silverdalelutheran.org/event/bible-study-fellowship-s-21-23/2026-01-22/
CATEGORIES:Private Group
END:VEVENT
END:VCALENDAR