BEGIN:VCALENDAR
VERSION:2.0
PRODID:-//Silverdale Lutheran Church - ECPv6.15.12.2//NONSGML v1.0//EN
CALSCALE:GREGORIAN
METHOD:PUBLISH
X-ORIGINAL-URL:https://silverdalelutheran.org
X-WR-CALDESC:Events for Silverdale Lutheran Church
REFRESH-INTERVAL;VALUE=DURATION:PT1H
X-Robots-Tag:noindex
X-PUBLISHED-TTL:PT1H
BEGIN:VTIMEZONE
TZID:America/Los_Angeles
BEGIN:DAYLIGHT
TZOFFSETFROM:-0800
TZOFFSETTO:-0700
TZNAME:PDT
DTSTART:20260308T100000
END:DAYLIGHT
BEGIN:STANDARD
TZOFFSETFROM:-0700
TZOFFSETTO:-0800
TZNAME:PST
DTSTART:20261101T090000
END:STANDARD
BEGIN:DAYLIGHT
TZOFFSETFROM:-0800
TZOFFSETTO:-0700
TZNAME:PDT
DTSTART:20270314T100000
END:DAYLIGHT
BEGIN:STANDARD
TZOFFSETFROM:-0700
TZOFFSETTO:-0800
TZNAME:PST
DTSTART:20271107T090000
END:STANDARD
BEGIN:DAYLIGHT
TZOFFSETFROM:-0800
TZOFFSETTO:-0700
TZNAME:PDT
DTSTART:20280312T100000
END:DAYLIGHT
BEGIN:STANDARD
TZOFFSETFROM:-0700
TZOFFSETTO:-0800
TZNAME:PST
DTSTART:20281105T090000
END:STANDARD
END:VTIMEZONE
BEGIN:VEVENT
DTSTART;TZID=America/Los_Angeles:20270223T190000
DTEND;TZID=America/Los_Angeles:20270223T203000
DTSTAMP:20260422T145357
CREATED:20250929T181247Z
LAST-MODIFIED:20250929T181247Z
UID:10006469-1803409200-1803414600@silverdalelutheran.org
SUMMARY:Hometown Band
DESCRIPTION:
URL:https://silverdalelutheran.org/event/hometown-band/2027-02-23/
CATEGORIES:Private Group
END:VEVENT
BEGIN:VEVENT
DTSTART;TZID=America/Los_Angeles:20270223T190000
DTEND;TZID=America/Los_Angeles:20270223T203000
DTSTAMP:20260422T145357
CREATED:20250929T195516Z
LAST-MODIFIED:20250929T195516Z
UID:10009799-1803409200-1803414600@silverdalelutheran.org
SUMMARY:Barnabas Book Club (Private residence)
DESCRIPTION:
URL:https://silverdalelutheran.org/event/barnabas-book-club-private-residence/2027-02-23/
CATEGORIES:Private Group
END:VEVENT
BEGIN:VEVENT
DTSTART;TZID=America/Los_Angeles:20270225T083000
DTEND;TZID=America/Los_Angeles:20270225T113000
DTSTAMP:20260422T145357
CREATED:20250929T181743Z
LAST-MODIFIED:20250929T181743Z
UID:10007051-1803544200-1803555000@silverdalelutheran.org
SUMMARY:Bible Study Fellowship (S\, 21-23)
DESCRIPTION:
URL:https://silverdalelutheran.org/event/bible-study-fellowship-s-21-23/2027-02-25/
CATEGORIES:Private Group
END:VEVENT
BEGIN:VEVENT
DTSTART;TZID=America/Los_Angeles:20270225T180000
DTEND;TZID=America/Los_Angeles:20270225T200000
DTSTAMP:20260422T145357
CREATED:20250929T194007Z
LAST-MODIFIED:20250929T194007Z
UID:10009557-1803578400-1803585600@silverdalelutheran.org
SUMMARY:Kitsap County Search Dogs (FH)
DESCRIPTION:
URL:https://silverdalelutheran.org/event/kitsap-county-search-dogs-fh/2027-02-25/
CATEGORIES:Private Group
END:VEVENT
BEGIN:VEVENT
DTSTART;TZID=America/Los_Angeles:20270301T083000
DTEND;TZID=America/Los_Angeles:20270302T113000
DTSTAMP:20260422T145357
CREATED:20250929T180033Z
LAST-MODIFIED:20250929T191603Z
UID:10009109-1803889800-1803987000@silverdalelutheran.org
SUMMARY:Bible Study Fellowship (GP\, 21-23\, N)
DESCRIPTION:
URL:https://silverdalelutheran.org/event/bible-study-fellowship-gp-21-23-n-2/2027-03-01/
CATEGORIES:Private Group
END:VEVENT
BEGIN:VEVENT
DTSTART;TZID=America/Los_Angeles:20270302T180000
DTEND;TZID=America/Los_Angeles:20270302T200000
DTSTAMP:20260422T145357
CREATED:20250929T183535Z
LAST-MODIFIED:20250929T183620Z
UID:10008598-1804010400-1804017600@silverdalelutheran.org
SUMMARY:Antir.org (GP)
DESCRIPTION:
URL:https://silverdalelutheran.org/event/antir-org/2027-03-02/
CATEGORIES:Private Group
END:VEVENT
BEGIN:VEVENT
DTSTART;TZID=America/Los_Angeles:20270302T190000
DTEND;TZID=America/Los_Angeles:20270302T203000
DTSTAMP:20260422T145357
CREATED:20250929T181247Z
LAST-MODIFIED:20250929T181247Z
UID:10006470-1804014000-1804019400@silverdalelutheran.org
SUMMARY:Hometown Band
DESCRIPTION:
URL:https://silverdalelutheran.org/event/hometown-band/2027-03-02/
CATEGORIES:Private Group
END:VEVENT
BEGIN:VEVENT
DTSTART;TZID=America/Los_Angeles:20270304T083000
DTEND;TZID=America/Los_Angeles:20270304T113000
DTSTAMP:20260422T145357
CREATED:20250929T181743Z
LAST-MODIFIED:20250929T181743Z
UID:10007052-1804149000-1804159800@silverdalelutheran.org
SUMMARY:Bible Study Fellowship (S\, 21-23)
DESCRIPTION:
URL:https://silverdalelutheran.org/event/bible-study-fellowship-s-21-23/2027-03-04/
CATEGORIES:Private Group
END:VEVENT
BEGIN:VEVENT
DTSTART;TZID=America/Los_Angeles:20270306T100000
DTEND;TZID=America/Los_Angeles:20270306T120000
DTSTAMP:20260422T145357
CREATED:20250929T182332Z
LAST-MODIFIED:20250929T182422Z
UID:10007838-1804327200-1804334400@silverdalelutheran.org
SUMMARY:League of Women Voters (4)
DESCRIPTION:
URL:https://silverdalelutheran.org/event/league-of-women-voters-4/2027-03-06/
LOCATION:Silverdale Lutheran Church\, 11701 Ridgepoint Dr NW\, Silverdale\, WA\, 98383\, United States
CATEGORIES:Private Group
END:VEVENT
BEGIN:VEVENT
DTSTART;TZID=America/Los_Angeles:20270308T083000
DTEND;TZID=America/Los_Angeles:20270309T113000
DTSTAMP:20260422T145357
CREATED:20250929T180033Z
LAST-MODIFIED:20250929T191603Z
UID:10009110-1804494600-1804591800@silverdalelutheran.org
SUMMARY:Bible Study Fellowship (GP\, 21-23\, N)
DESCRIPTION:
URL:https://silverdalelutheran.org/event/bible-study-fellowship-gp-21-23-n-2/2027-03-08/
CATEGORIES:Private Group
END:VEVENT
BEGIN:VEVENT
DTSTART;TZID=America/Los_Angeles:20270309T180000
DTEND;TZID=America/Los_Angeles:20270309T200000
DTSTAMP:20260422T145357
CREATED:20250929T183535Z
LAST-MODIFIED:20250929T183620Z
UID:10008599-1804615200-1804622400@silverdalelutheran.org
SUMMARY:Antir.org (GP)
DESCRIPTION:
URL:https://silverdalelutheran.org/event/antir-org/2027-03-09/
CATEGORIES:Private Group
END:VEVENT
BEGIN:VEVENT
DTSTART;TZID=America/Los_Angeles:20270309T190000
DTEND;TZID=America/Los_Angeles:20270309T203000
DTSTAMP:20260422T145357
CREATED:20250929T181247Z
LAST-MODIFIED:20250929T181247Z
UID:10006471-1804618800-1804624200@silverdalelutheran.org
SUMMARY:Hometown Band
DESCRIPTION:
URL:https://silverdalelutheran.org/event/hometown-band/2027-03-09/
CATEGORIES:Private Group
END:VEVENT
BEGIN:VEVENT
DTSTART;TZID=America/Los_Angeles:20270311T083000
DTEND;TZID=America/Los_Angeles:20270311T113000
DTSTAMP:20260422T145357
CREATED:20250929T181743Z
LAST-MODIFIED:20250929T181743Z
UID:10007053-1804753800-1804764600@silverdalelutheran.org
SUMMARY:Bible Study Fellowship (S\, 21-23)
DESCRIPTION:
URL:https://silverdalelutheran.org/event/bible-study-fellowship-s-21-23/2027-03-11/
CATEGORIES:Private Group
END:VEVENT
BEGIN:VEVENT
DTSTART;TZID=America/Los_Angeles:20270315T083000
DTEND;TZID=America/Los_Angeles:20270316T113000
DTSTAMP:20260422T145357
CREATED:20250929T180033Z
LAST-MODIFIED:20250929T191603Z
UID:10009111-1805099400-1805196600@silverdalelutheran.org
SUMMARY:Bible Study Fellowship (GP\, 21-23\, N)
DESCRIPTION:
URL:https://silverdalelutheran.org/event/bible-study-fellowship-gp-21-23-n-2/2027-03-15/
CATEGORIES:Private Group
END:VEVENT
BEGIN:VEVENT
DTSTART;TZID=America/Los_Angeles:20270315T183000
DTEND;TZID=America/Los_Angeles:20270315T200000
DTSTAMP:20260422T145357
CREATED:20250929T193634Z
LAST-MODIFIED:20250929T193634Z
UID:10009438-1805135400-1805140800@silverdalelutheran.org
SUMMARY:GSWW Leaders Meeting (4)
DESCRIPTION:
URL:https://silverdalelutheran.org/event/gsww-leaders-meeting-4/2027-03-15/
CATEGORIES:Private Group
END:VEVENT
BEGIN:VEVENT
DTSTART;TZID=America/Los_Angeles:20270316T180000
DTEND;TZID=America/Los_Angeles:20270316T200000
DTSTAMP:20260422T145357
CREATED:20250929T183535Z
LAST-MODIFIED:20250929T183620Z
UID:10008600-1805220000-1805227200@silverdalelutheran.org
SUMMARY:Antir.org (GP)
DESCRIPTION:
URL:https://silverdalelutheran.org/event/antir-org/2027-03-16/
CATEGORIES:Private Group
END:VEVENT
BEGIN:VEVENT
DTSTART;TZID=America/Los_Angeles:20270316T190000
DTEND;TZID=America/Los_Angeles:20270316T203000
DTSTAMP:20260422T145357
CREATED:20250929T181247Z
LAST-MODIFIED:20250929T181247Z
UID:10006472-1805223600-1805229000@silverdalelutheran.org
SUMMARY:Hometown Band
DESCRIPTION:
URL:https://silverdalelutheran.org/event/hometown-band/2027-03-16/
CATEGORIES:Private Group
END:VEVENT
BEGIN:VEVENT
DTSTART;TZID=America/Los_Angeles:20270316T190000
DTEND;TZID=America/Los_Angeles:20270316T210000
DTSTAMP:20260422T145357
CREATED:20250929T193807Z
LAST-MODIFIED:20250929T193852Z
UID:10009498-1805223600-1805230800@silverdalelutheran.org
SUMMARY:Compassionate Friends (4)
DESCRIPTION:
URL:https://silverdalelutheran.org/event/compassionate-friend-4/2027-03-16/
CATEGORIES:Private Group
END:VEVENT
BEGIN:VEVENT
DTSTART;TZID=America/Los_Angeles:20270317T130000
DTEND;TZID=America/Los_Angeles:20270317T140000
DTSTAMP:20260422T145357
CREATED:20250929T192040Z
LAST-MODIFIED:20250929T192040Z
UID:10009375-1805288400-1805292000@silverdalelutheran.org
SUMMARY:Parkinsons group (St)
DESCRIPTION:Monthly on the third Wednesday
URL:https://silverdalelutheran.org/event/parkinsons-group-st/2027-03-17/
LOCATION:Silverdale Lutheran Church\, 11701 Ridgepoint Dr NW\, Silverdale\, WA\, 98383\, United States
CATEGORIES:Private Group
END:VEVENT
BEGIN:VEVENT
DTSTART;TZID=America/Los_Angeles:20270318T083000
DTEND;TZID=America/Los_Angeles:20270318T113000
DTSTAMP:20260422T145357
CREATED:20250929T181743Z
LAST-MODIFIED:20250929T181743Z
UID:10007054-1805358600-1805369400@silverdalelutheran.org
SUMMARY:Bible Study Fellowship (S\, 21-23)
DESCRIPTION:
URL:https://silverdalelutheran.org/event/bible-study-fellowship-s-21-23/2027-03-18/
CATEGORIES:Private Group
END:VEVENT
BEGIN:VEVENT
DTSTART;TZID=America/Los_Angeles:20270322T083000
DTEND;TZID=America/Los_Angeles:20270323T113000
DTSTAMP:20260422T145357
CREATED:20250929T180033Z
LAST-MODIFIED:20250929T191603Z
UID:10009112-1805704200-1805801400@silverdalelutheran.org
SUMMARY:Bible Study Fellowship (GP\, 21-23\, N)
DESCRIPTION:
URL:https://silverdalelutheran.org/event/bible-study-fellowship-gp-21-23-n-2/2027-03-22/
CATEGORIES:Private Group
END:VEVENT
BEGIN:VEVENT
DTSTART;TZID=America/Los_Angeles:20270323T180000
DTEND;TZID=America/Los_Angeles:20270323T200000
DTSTAMP:20260422T145357
CREATED:20250929T183535Z
LAST-MODIFIED:20250929T183620Z
UID:10008601-1805824800-1805832000@silverdalelutheran.org
SUMMARY:Antir.org (GP)
DESCRIPTION:
URL:https://silverdalelutheran.org/event/antir-org/2027-03-23/
CATEGORIES:Private Group
END:VEVENT
BEGIN:VEVENT
DTSTART;TZID=America/Los_Angeles:20270323T183000
DTEND;TZID=America/Los_Angeles:20270323T203000
DTSTAMP:20260422T145357
CREATED:20250929T195350Z
LAST-MODIFIED:20250929T195350Z
UID:10009740-1805826600-1805833800@silverdalelutheran.org
SUMMARY:Scout Planning Meeting
DESCRIPTION:
URL:https://silverdalelutheran.org/event/scout-planning-meeting/2027-03-23/
CATEGORIES:Private Group
END:VEVENT
BEGIN:VEVENT
DTSTART;TZID=America/Los_Angeles:20270323T190000
DTEND;TZID=America/Los_Angeles:20270323T203000
DTSTAMP:20260422T145357
CREATED:20250929T181247Z
LAST-MODIFIED:20250929T181247Z
UID:10006473-1805828400-1805833800@silverdalelutheran.org
SUMMARY:Hometown Band
DESCRIPTION:
URL:https://silverdalelutheran.org/event/hometown-band/2027-03-23/
CATEGORIES:Private Group
END:VEVENT
BEGIN:VEVENT
DTSTART;TZID=America/Los_Angeles:20270323T190000
DTEND;TZID=America/Los_Angeles:20270323T203000
DTSTAMP:20260422T145357
CREATED:20250929T195516Z
LAST-MODIFIED:20250929T195516Z
UID:10009800-1805828400-1805833800@silverdalelutheran.org
SUMMARY:Barnabas Book Club (Private residence)
DESCRIPTION:
URL:https://silverdalelutheran.org/event/barnabas-book-club-private-residence/2027-03-23/
CATEGORIES:Private Group
END:VEVENT
BEGIN:VEVENT
DTSTART;TZID=America/Los_Angeles:20270325T083000
DTEND;TZID=America/Los_Angeles:20270325T113000
DTSTAMP:20260422T145357
CREATED:20250929T181743Z
LAST-MODIFIED:20250929T181743Z
UID:10007055-1805963400-1805974200@silverdalelutheran.org
SUMMARY:Bible Study Fellowship (S\, 21-23)
DESCRIPTION:
URL:https://silverdalelutheran.org/event/bible-study-fellowship-s-21-23/2027-03-25/
CATEGORIES:Private Group
END:VEVENT
BEGIN:VEVENT
DTSTART;TZID=America/Los_Angeles:20270325T180000
DTEND;TZID=America/Los_Angeles:20270325T200000
DTSTAMP:20260422T145357
CREATED:20250929T194007Z
LAST-MODIFIED:20250929T194007Z
UID:10009558-1805997600-1806004800@silverdalelutheran.org
SUMMARY:Kitsap County Search Dogs (FH)
DESCRIPTION:
URL:https://silverdalelutheran.org/event/kitsap-county-search-dogs-fh/2027-03-25/
CATEGORIES:Private Group
END:VEVENT
BEGIN:VEVENT
DTSTART;TZID=America/Los_Angeles:20270329T083000
DTEND;TZID=America/Los_Angeles:20270330T113000
DTSTAMP:20260422T145357
CREATED:20250929T180033Z
LAST-MODIFIED:20250929T191603Z
UID:10009113-1806309000-1806406200@silverdalelutheran.org
SUMMARY:Bible Study Fellowship (GP\, 21-23\, N)
DESCRIPTION:
URL:https://silverdalelutheran.org/event/bible-study-fellowship-gp-21-23-n-2/2027-03-29/
CATEGORIES:Private Group
END:VEVENT
BEGIN:VEVENT
DTSTART;TZID=America/Los_Angeles:20270330T180000
DTEND;TZID=America/Los_Angeles:20270330T200000
DTSTAMP:20260422T145357
CREATED:20250929T183535Z
LAST-MODIFIED:20250929T183620Z
UID:10008602-1806429600-1806436800@silverdalelutheran.org
SUMMARY:Antir.org (GP)
DESCRIPTION:
URL:https://silverdalelutheran.org/event/antir-org/2027-03-30/
CATEGORIES:Private Group
END:VEVENT
BEGIN:VEVENT
DTSTART;TZID=America/Los_Angeles:20270330T190000
DTEND;TZID=America/Los_Angeles:20270330T203000
DTSTAMP:20260422T145357
CREATED:20250929T181247Z
LAST-MODIFIED:20250929T181247Z
UID:10006474-1806433200-1806438600@silverdalelutheran.org
SUMMARY:Hometown Band
DESCRIPTION:
URL:https://silverdalelutheran.org/event/hometown-band/2027-03-30/
CATEGORIES:Private Group
END:VEVENT
END:VCALENDAR