BEGIN:VCALENDAR
VERSION:2.0
PRODID:-//Silverdale Lutheran Church - ECPv6.15.12.2//NONSGML v1.0//EN
CALSCALE:GREGORIAN
METHOD:PUBLISH
X-ORIGINAL-URL:https://silverdalelutheran.org
X-WR-CALDESC:Events for Silverdale Lutheran Church
REFRESH-INTERVAL;VALUE=DURATION:PT1H
X-Robots-Tag:noindex
X-PUBLISHED-TTL:PT1H
BEGIN:VTIMEZONE
TZID:America/Los_Angeles
BEGIN:DAYLIGHT
TZOFFSETFROM:-0800
TZOFFSETTO:-0700
TZNAME:PDT
DTSTART:20260308T100000
END:DAYLIGHT
BEGIN:STANDARD
TZOFFSETFROM:-0700
TZOFFSETTO:-0800
TZNAME:PST
DTSTART:20261101T090000
END:STANDARD
BEGIN:DAYLIGHT
TZOFFSETFROM:-0800
TZOFFSETTO:-0700
TZNAME:PDT
DTSTART:20270314T100000
END:DAYLIGHT
BEGIN:STANDARD
TZOFFSETFROM:-0700
TZOFFSETTO:-0800
TZNAME:PST
DTSTART:20271107T090000
END:STANDARD
BEGIN:DAYLIGHT
TZOFFSETFROM:-0800
TZOFFSETTO:-0700
TZNAME:PDT
DTSTART:20280312T100000
END:DAYLIGHT
BEGIN:STANDARD
TZOFFSETFROM:-0700
TZOFFSETTO:-0800
TZNAME:PST
DTSTART:20281105T090000
END:STANDARD
END:VTIMEZONE
BEGIN:VEVENT
DTSTART;TZID=America/Los_Angeles:20270119T190000
DTEND;TZID=America/Los_Angeles:20270119T203000
DTSTAMP:20260422T105224
CREATED:20250929T181247Z
LAST-MODIFIED:20250929T181247Z
UID:10006464-1800385200-1800390600@silverdalelutheran.org
SUMMARY:Hometown Band
DESCRIPTION:
URL:https://silverdalelutheran.org/event/hometown-band/2027-01-19/
CATEGORIES:Private Group
END:VEVENT
BEGIN:VEVENT
DTSTART;TZID=America/Los_Angeles:20270119T190000
DTEND;TZID=America/Los_Angeles:20270119T210000
DTSTAMP:20260422T105224
CREATED:20250929T193807Z
LAST-MODIFIED:20250929T193852Z
UID:10009496-1800385200-1800392400@silverdalelutheran.org
SUMMARY:Compassionate Friends (4)
DESCRIPTION:
URL:https://silverdalelutheran.org/event/compassionate-friend-4/2027-01-19/
CATEGORIES:Private Group
END:VEVENT
BEGIN:VEVENT
DTSTART;TZID=America/Los_Angeles:20270120T130000
DTEND;TZID=America/Los_Angeles:20270120T140000
DTSTAMP:20260422T105224
CREATED:20250929T192040Z
LAST-MODIFIED:20250929T192040Z
UID:10009373-1800450000-1800453600@silverdalelutheran.org
SUMMARY:Parkinsons group (St)
DESCRIPTION:Monthly on the third Wednesday
URL:https://silverdalelutheran.org/event/parkinsons-group-st/2027-01-20/
LOCATION:Silverdale Lutheran Church\, 11701 Ridgepoint Dr NW\, Silverdale\, WA\, 98383\, United States
CATEGORIES:Private Group
END:VEVENT
BEGIN:VEVENT
DTSTART;TZID=America/Los_Angeles:20270121T083000
DTEND;TZID=America/Los_Angeles:20270121T113000
DTSTAMP:20260422T105224
CREATED:20250929T181743Z
LAST-MODIFIED:20250929T181743Z
UID:10007046-1800520200-1800531000@silverdalelutheran.org
SUMMARY:Bible Study Fellowship (S\, 21-23)
DESCRIPTION:
URL:https://silverdalelutheran.org/event/bible-study-fellowship-s-21-23/2027-01-21/
CATEGORIES:Private Group
END:VEVENT
BEGIN:VEVENT
DTSTART;TZID=America/Los_Angeles:20270125T083000
DTEND;TZID=America/Los_Angeles:20270126T113000
DTSTAMP:20260422T105224
CREATED:20250929T180033Z
LAST-MODIFIED:20250929T191603Z
UID:10009104-1800865800-1800963000@silverdalelutheran.org
SUMMARY:Bible Study Fellowship (GP\, 21-23\, N)
DESCRIPTION:
URL:https://silverdalelutheran.org/event/bible-study-fellowship-gp-21-23-n-2/2027-01-25/
CATEGORIES:Private Group
END:VEVENT
BEGIN:VEVENT
DTSTART;TZID=America/Los_Angeles:20270126T180000
DTEND;TZID=America/Los_Angeles:20270126T200000
DTSTAMP:20260422T105224
CREATED:20250929T183535Z
LAST-MODIFIED:20250929T183620Z
UID:10008593-1800986400-1800993600@silverdalelutheran.org
SUMMARY:Antir.org (GP)
DESCRIPTION:
URL:https://silverdalelutheran.org/event/antir-org/2027-01-26/
CATEGORIES:Private Group
END:VEVENT
BEGIN:VEVENT
DTSTART;TZID=America/Los_Angeles:20270126T183000
DTEND;TZID=America/Los_Angeles:20270126T203000
DTSTAMP:20260422T105224
CREATED:20250929T195350Z
LAST-MODIFIED:20250929T195350Z
UID:10009738-1800988200-1800995400@silverdalelutheran.org
SUMMARY:Scout Planning Meeting
DESCRIPTION:
URL:https://silverdalelutheran.org/event/scout-planning-meeting/2027-01-26/
CATEGORIES:Private Group
END:VEVENT
BEGIN:VEVENT
DTSTART;TZID=America/Los_Angeles:20270126T190000
DTEND;TZID=America/Los_Angeles:20270126T203000
DTSTAMP:20260422T105224
CREATED:20250929T181247Z
LAST-MODIFIED:20250929T181247Z
UID:10006465-1800990000-1800995400@silverdalelutheran.org
SUMMARY:Hometown Band
DESCRIPTION:
URL:https://silverdalelutheran.org/event/hometown-band/2027-01-26/
CATEGORIES:Private Group
END:VEVENT
BEGIN:VEVENT
DTSTART;TZID=America/Los_Angeles:20270126T190000
DTEND;TZID=America/Los_Angeles:20270126T203000
DTSTAMP:20260422T105224
CREATED:20250929T195516Z
LAST-MODIFIED:20250929T195516Z
UID:10009798-1800990000-1800995400@silverdalelutheran.org
SUMMARY:Barnabas Book Club (Private residence)
DESCRIPTION:
URL:https://silverdalelutheran.org/event/barnabas-book-club-private-residence/2027-01-26/
CATEGORIES:Private Group
END:VEVENT
BEGIN:VEVENT
DTSTART;TZID=America/Los_Angeles:20270128T083000
DTEND;TZID=America/Los_Angeles:20270128T113000
DTSTAMP:20260422T105224
CREATED:20250929T181743Z
LAST-MODIFIED:20250929T181743Z
UID:10007047-1801125000-1801135800@silverdalelutheran.org
SUMMARY:Bible Study Fellowship (S\, 21-23)
DESCRIPTION:
URL:https://silverdalelutheran.org/event/bible-study-fellowship-s-21-23/2027-01-28/
CATEGORIES:Private Group
END:VEVENT
BEGIN:VEVENT
DTSTART;TZID=America/Los_Angeles:20270128T180000
DTEND;TZID=America/Los_Angeles:20270128T200000
DTSTAMP:20260422T105224
CREATED:20250929T194007Z
LAST-MODIFIED:20250929T194007Z
UID:10009556-1801159200-1801166400@silverdalelutheran.org
SUMMARY:Kitsap County Search Dogs (FH)
DESCRIPTION:
URL:https://silverdalelutheran.org/event/kitsap-county-search-dogs-fh/2027-01-28/
CATEGORIES:Private Group
END:VEVENT
BEGIN:VEVENT
DTSTART;TZID=America/Los_Angeles:20270201T083000
DTEND;TZID=America/Los_Angeles:20270202T113000
DTSTAMP:20260422T105224
CREATED:20250929T180033Z
LAST-MODIFIED:20250929T191603Z
UID:10009105-1801470600-1801567800@silverdalelutheran.org
SUMMARY:Bible Study Fellowship (GP\, 21-23\, N)
DESCRIPTION:
URL:https://silverdalelutheran.org/event/bible-study-fellowship-gp-21-23-n-2/2027-02-01/
CATEGORIES:Private Group
END:VEVENT
BEGIN:VEVENT
DTSTART;TZID=America/Los_Angeles:20270202T180000
DTEND;TZID=America/Los_Angeles:20270202T200000
DTSTAMP:20260422T105224
CREATED:20250929T183535Z
LAST-MODIFIED:20250929T183620Z
UID:10008594-1801591200-1801598400@silverdalelutheran.org
SUMMARY:Antir.org (GP)
DESCRIPTION:
URL:https://silverdalelutheran.org/event/antir-org/2027-02-02/
CATEGORIES:Private Group
END:VEVENT
BEGIN:VEVENT
DTSTART;TZID=America/Los_Angeles:20270202T190000
DTEND;TZID=America/Los_Angeles:20270202T203000
DTSTAMP:20260422T105224
CREATED:20250929T181247Z
LAST-MODIFIED:20250929T181247Z
UID:10006466-1801594800-1801600200@silverdalelutheran.org
SUMMARY:Hometown Band
DESCRIPTION:
URL:https://silverdalelutheran.org/event/hometown-band/2027-02-02/
CATEGORIES:Private Group
END:VEVENT
BEGIN:VEVENT
DTSTART;TZID=America/Los_Angeles:20270204T083000
DTEND;TZID=America/Los_Angeles:20270204T113000
DTSTAMP:20260422T105224
CREATED:20250929T181743Z
LAST-MODIFIED:20250929T181743Z
UID:10007048-1801729800-1801740600@silverdalelutheran.org
SUMMARY:Bible Study Fellowship (S\, 21-23)
DESCRIPTION:
URL:https://silverdalelutheran.org/event/bible-study-fellowship-s-21-23/2027-02-04/
CATEGORIES:Private Group
END:VEVENT
BEGIN:VEVENT
DTSTART;TZID=America/Los_Angeles:20270206T100000
DTEND;TZID=America/Los_Angeles:20270206T120000
DTSTAMP:20260422T105224
CREATED:20250929T182332Z
LAST-MODIFIED:20250929T182422Z
UID:10007837-1801908000-1801915200@silverdalelutheran.org
SUMMARY:League of Women Voters (4)
DESCRIPTION:
URL:https://silverdalelutheran.org/event/league-of-women-voters-4/2027-02-06/
LOCATION:Silverdale Lutheran Church\, 11701 Ridgepoint Dr NW\, Silverdale\, WA\, 98383\, United States
CATEGORIES:Private Group
END:VEVENT
BEGIN:VEVENT
DTSTART;TZID=America/Los_Angeles:20270208T083000
DTEND;TZID=America/Los_Angeles:20270209T113000
DTSTAMP:20260422T105224
CREATED:20250929T180033Z
LAST-MODIFIED:20250929T191603Z
UID:10009106-1802075400-1802172600@silverdalelutheran.org
SUMMARY:Bible Study Fellowship (GP\, 21-23\, N)
DESCRIPTION:
URL:https://silverdalelutheran.org/event/bible-study-fellowship-gp-21-23-n-2/2027-02-08/
CATEGORIES:Private Group
END:VEVENT
BEGIN:VEVENT
DTSTART;TZID=America/Los_Angeles:20270209T180000
DTEND;TZID=America/Los_Angeles:20270209T200000
DTSTAMP:20260422T105224
CREATED:20250929T183535Z
LAST-MODIFIED:20250929T183620Z
UID:10008595-1802196000-1802203200@silverdalelutheran.org
SUMMARY:Antir.org (GP)
DESCRIPTION:
URL:https://silverdalelutheran.org/event/antir-org/2027-02-09/
CATEGORIES:Private Group
END:VEVENT
BEGIN:VEVENT
DTSTART;TZID=America/Los_Angeles:20270209T190000
DTEND;TZID=America/Los_Angeles:20270209T203000
DTSTAMP:20260422T105224
CREATED:20250929T181247Z
LAST-MODIFIED:20250929T181247Z
UID:10006467-1802199600-1802205000@silverdalelutheran.org
SUMMARY:Hometown Band
DESCRIPTION:
URL:https://silverdalelutheran.org/event/hometown-band/2027-02-09/
CATEGORIES:Private Group
END:VEVENT
BEGIN:VEVENT
DTSTART;TZID=America/Los_Angeles:20270211T083000
DTEND;TZID=America/Los_Angeles:20270211T113000
DTSTAMP:20260422T105224
CREATED:20250929T181743Z
LAST-MODIFIED:20250929T181743Z
UID:10007049-1802334600-1802345400@silverdalelutheran.org
SUMMARY:Bible Study Fellowship (S\, 21-23)
DESCRIPTION:
URL:https://silverdalelutheran.org/event/bible-study-fellowship-s-21-23/2027-02-11/
CATEGORIES:Private Group
END:VEVENT
BEGIN:VEVENT
DTSTART;TZID=America/Los_Angeles:20270215T083000
DTEND;TZID=America/Los_Angeles:20270216T113000
DTSTAMP:20260422T105224
CREATED:20250929T180033Z
LAST-MODIFIED:20250929T191603Z
UID:10009107-1802680200-1802777400@silverdalelutheran.org
SUMMARY:Bible Study Fellowship (GP\, 21-23\, N)
DESCRIPTION:
URL:https://silverdalelutheran.org/event/bible-study-fellowship-gp-21-23-n-2/2027-02-15/
CATEGORIES:Private Group
END:VEVENT
BEGIN:VEVENT
DTSTART;TZID=America/Los_Angeles:20270215T183000
DTEND;TZID=America/Los_Angeles:20270215T200000
DTSTAMP:20260422T105224
CREATED:20250929T193634Z
LAST-MODIFIED:20250929T193634Z
UID:10009437-1802716200-1802721600@silverdalelutheran.org
SUMMARY:GSWW Leaders Meeting (4)
DESCRIPTION:
URL:https://silverdalelutheran.org/event/gsww-leaders-meeting-4/2027-02-15/
CATEGORIES:Private Group
END:VEVENT
BEGIN:VEVENT
DTSTART;TZID=America/Los_Angeles:20270216T180000
DTEND;TZID=America/Los_Angeles:20270216T200000
DTSTAMP:20260422T105224
CREATED:20250929T183535Z
LAST-MODIFIED:20250929T183620Z
UID:10008596-1802800800-1802808000@silverdalelutheran.org
SUMMARY:Antir.org (GP)
DESCRIPTION:
URL:https://silverdalelutheran.org/event/antir-org/2027-02-16/
CATEGORIES:Private Group
END:VEVENT
BEGIN:VEVENT
DTSTART;TZID=America/Los_Angeles:20270216T190000
DTEND;TZID=America/Los_Angeles:20270216T203000
DTSTAMP:20260422T105224
CREATED:20250929T181247Z
LAST-MODIFIED:20250929T181247Z
UID:10006468-1802804400-1802809800@silverdalelutheran.org
SUMMARY:Hometown Band
DESCRIPTION:
URL:https://silverdalelutheran.org/event/hometown-band/2027-02-16/
CATEGORIES:Private Group
END:VEVENT
BEGIN:VEVENT
DTSTART;TZID=America/Los_Angeles:20270216T190000
DTEND;TZID=America/Los_Angeles:20270216T210000
DTSTAMP:20260422T105224
CREATED:20250929T193807Z
LAST-MODIFIED:20250929T193852Z
UID:10009497-1802804400-1802811600@silverdalelutheran.org
SUMMARY:Compassionate Friends (4)
DESCRIPTION:
URL:https://silverdalelutheran.org/event/compassionate-friend-4/2027-02-16/
CATEGORIES:Private Group
END:VEVENT
BEGIN:VEVENT
DTSTART;TZID=America/Los_Angeles:20270217T130000
DTEND;TZID=America/Los_Angeles:20270217T140000
DTSTAMP:20260422T105224
CREATED:20250929T192040Z
LAST-MODIFIED:20250929T192040Z
UID:10009374-1802869200-1802872800@silverdalelutheran.org
SUMMARY:Parkinsons group (St)
DESCRIPTION:Monthly on the third Wednesday
URL:https://silverdalelutheran.org/event/parkinsons-group-st/2027-02-17/
LOCATION:Silverdale Lutheran Church\, 11701 Ridgepoint Dr NW\, Silverdale\, WA\, 98383\, United States
CATEGORIES:Private Group
END:VEVENT
BEGIN:VEVENT
DTSTART;TZID=America/Los_Angeles:20270218T083000
DTEND;TZID=America/Los_Angeles:20270218T113000
DTSTAMP:20260422T105224
CREATED:20250929T181743Z
LAST-MODIFIED:20250929T181743Z
UID:10007050-1802939400-1802950200@silverdalelutheran.org
SUMMARY:Bible Study Fellowship (S\, 21-23)
DESCRIPTION:
URL:https://silverdalelutheran.org/event/bible-study-fellowship-s-21-23/2027-02-18/
CATEGORIES:Private Group
END:VEVENT
BEGIN:VEVENT
DTSTART;TZID=America/Los_Angeles:20270222T083000
DTEND;TZID=America/Los_Angeles:20270223T113000
DTSTAMP:20260422T105224
CREATED:20250929T180033Z
LAST-MODIFIED:20250929T191603Z
UID:10009108-1803285000-1803382200@silverdalelutheran.org
SUMMARY:Bible Study Fellowship (GP\, 21-23\, N)
DESCRIPTION:
URL:https://silverdalelutheran.org/event/bible-study-fellowship-gp-21-23-n-2/2027-02-22/
CATEGORIES:Private Group
END:VEVENT
BEGIN:VEVENT
DTSTART;TZID=America/Los_Angeles:20270223T180000
DTEND;TZID=America/Los_Angeles:20270223T200000
DTSTAMP:20260422T105224
CREATED:20250929T183535Z
LAST-MODIFIED:20250929T183620Z
UID:10008597-1803405600-1803412800@silverdalelutheran.org
SUMMARY:Antir.org (GP)
DESCRIPTION:
URL:https://silverdalelutheran.org/event/antir-org/2027-02-23/
CATEGORIES:Private Group
END:VEVENT
BEGIN:VEVENT
DTSTART;TZID=America/Los_Angeles:20270223T183000
DTEND;TZID=America/Los_Angeles:20270223T203000
DTSTAMP:20260422T105224
CREATED:20250929T195350Z
LAST-MODIFIED:20250929T195350Z
UID:10009739-1803407400-1803414600@silverdalelutheran.org
SUMMARY:Scout Planning Meeting
DESCRIPTION:
URL:https://silverdalelutheran.org/event/scout-planning-meeting/2027-02-23/
CATEGORIES:Private Group
END:VEVENT
END:VCALENDAR