BEGIN:VCALENDAR
VERSION:2.0
PRODID:-//Silverdale Lutheran Church - ECPv6.15.12.2//NONSGML v1.0//EN
CALSCALE:GREGORIAN
METHOD:PUBLISH
X-WR-CALNAME:Silverdale Lutheran Church
X-ORIGINAL-URL:https://silverdalelutheran.org
X-WR-CALDESC:Events for Silverdale Lutheran Church
REFRESH-INTERVAL;VALUE=DURATION:PT1H
X-Robots-Tag:noindex
X-PUBLISHED-TTL:PT1H
BEGIN:VTIMEZONE
TZID:America/Los_Angeles
BEGIN:DAYLIGHT
TZOFFSETFROM:-0800
TZOFFSETTO:-0700
TZNAME:PDT
DTSTART:20250309T100000
END:DAYLIGHT
BEGIN:STANDARD
TZOFFSETFROM:-0700
TZOFFSETTO:-0800
TZNAME:PST
DTSTART:20251102T090000
END:STANDARD
BEGIN:DAYLIGHT
TZOFFSETFROM:-0800
TZOFFSETTO:-0700
TZNAME:PDT
DTSTART:20260308T100000
END:DAYLIGHT
BEGIN:STANDARD
TZOFFSETFROM:-0700
TZOFFSETTO:-0800
TZNAME:PST
DTSTART:20261101T090000
END:STANDARD
BEGIN:DAYLIGHT
TZOFFSETFROM:-0800
TZOFFSETTO:-0700
TZNAME:PDT
DTSTART:20270314T100000
END:DAYLIGHT
BEGIN:STANDARD
TZOFFSETFROM:-0700
TZOFFSETTO:-0800
TZNAME:PST
DTSTART:20271107T090000
END:STANDARD
END:VTIMEZONE
BEGIN:VEVENT
DTSTART;TZID=America/Los_Angeles:20261117T190000
DTEND;TZID=America/Los_Angeles:20261117T210000
DTSTAMP:20260422T034500
CREATED:20250929T193807Z
LAST-MODIFIED:20250929T193852Z
UID:10009494-1794942000-1794949200@silverdalelutheran.org
SUMMARY:Compassionate Friends (4)
DESCRIPTION:
URL:https://silverdalelutheran.org/event/compassionate-friend-4/2026-11-17/
CATEGORIES:Private Group
END:VEVENT
BEGIN:VEVENT
DTSTART;TZID=America/Los_Angeles:20261118T130000
DTEND;TZID=America/Los_Angeles:20261118T140000
DTSTAMP:20260422T034500
CREATED:20250929T192040Z
LAST-MODIFIED:20250929T192040Z
UID:10009371-1795006800-1795010400@silverdalelutheran.org
SUMMARY:Parkinsons group (St)
DESCRIPTION:Monthly on the third Wednesday
URL:https://silverdalelutheran.org/event/parkinsons-group-st/2026-11-18/
LOCATION:Silverdale Lutheran Church\, 11701 Ridgepoint Dr NW\, Silverdale\, WA\, 98383\, United States
CATEGORIES:Private Group
END:VEVENT
BEGIN:VEVENT
DTSTART;TZID=America/Los_Angeles:20261119T083000
DTEND;TZID=America/Los_Angeles:20261119T113000
DTSTAMP:20260422T034500
CREATED:20250929T181743Z
LAST-MODIFIED:20250929T181743Z
UID:10007037-1795077000-1795087800@silverdalelutheran.org
SUMMARY:Bible Study Fellowship (S\, 21-23)
DESCRIPTION:
URL:https://silverdalelutheran.org/event/bible-study-fellowship-s-21-23/2026-11-19/
CATEGORIES:Private Group
END:VEVENT
BEGIN:VEVENT
DTSTART;TZID=America/Los_Angeles:20261123T083000
DTEND;TZID=America/Los_Angeles:20261124T113000
DTSTAMP:20260422T034500
CREATED:20250929T180033Z
LAST-MODIFIED:20250929T191603Z
UID:10009095-1795422600-1795519800@silverdalelutheran.org
SUMMARY:Bible Study Fellowship (GP\, 21-23\, N)
DESCRIPTION:
URL:https://silverdalelutheran.org/event/bible-study-fellowship-gp-21-23-n-2/2026-11-23/
CATEGORIES:Private Group
END:VEVENT
BEGIN:VEVENT
DTSTART;TZID=America/Los_Angeles:20261124T180000
DTEND;TZID=America/Los_Angeles:20261124T200000
DTSTAMP:20260422T034500
CREATED:20250929T183535Z
LAST-MODIFIED:20250929T183620Z
UID:10008584-1795543200-1795550400@silverdalelutheran.org
SUMMARY:Antir.org (GP)
DESCRIPTION:
URL:https://silverdalelutheran.org/event/antir-org/2026-11-24/
CATEGORIES:Private Group
END:VEVENT
BEGIN:VEVENT
DTSTART;TZID=America/Los_Angeles:20261124T183000
DTEND;TZID=America/Los_Angeles:20261124T203000
DTSTAMP:20260422T034500
CREATED:20250929T195350Z
LAST-MODIFIED:20250929T195350Z
UID:10009736-1795545000-1795552200@silverdalelutheran.org
SUMMARY:Scout Planning Meeting
DESCRIPTION:
URL:https://silverdalelutheran.org/event/scout-planning-meeting/2026-11-24/
CATEGORIES:Private Group
END:VEVENT
BEGIN:VEVENT
DTSTART;TZID=America/Los_Angeles:20261124T190000
DTEND;TZID=America/Los_Angeles:20261124T203000
DTSTAMP:20260422T034500
CREATED:20250929T181247Z
LAST-MODIFIED:20250929T181247Z
UID:10006456-1795546800-1795552200@silverdalelutheran.org
SUMMARY:Hometown Band
DESCRIPTION:
URL:https://silverdalelutheran.org/event/hometown-band/2026-11-24/
CATEGORIES:Private Group
END:VEVENT
BEGIN:VEVENT
DTSTART;TZID=America/Los_Angeles:20261124T190000
DTEND;TZID=America/Los_Angeles:20261124T203000
DTSTAMP:20260422T034500
CREATED:20250929T195516Z
LAST-MODIFIED:20250929T195516Z
UID:10009796-1795546800-1795552200@silverdalelutheran.org
SUMMARY:Barnabas Book Club (Private residence)
DESCRIPTION:
URL:https://silverdalelutheran.org/event/barnabas-book-club-private-residence/2026-11-24/
CATEGORIES:Private Group
END:VEVENT
BEGIN:VEVENT
DTSTART;TZID=America/Los_Angeles:20261126T083000
DTEND;TZID=America/Los_Angeles:20261126T113000
DTSTAMP:20260422T034500
CREATED:20250929T181743Z
LAST-MODIFIED:20250929T181743Z
UID:10007038-1795681800-1795692600@silverdalelutheran.org
SUMMARY:Bible Study Fellowship (S\, 21-23)
DESCRIPTION:
URL:https://silverdalelutheran.org/event/bible-study-fellowship-s-21-23/2026-11-26/
CATEGORIES:Private Group
END:VEVENT
BEGIN:VEVENT
DTSTART;TZID=America/Los_Angeles:20261126T180000
DTEND;TZID=America/Los_Angeles:20261126T200000
DTSTAMP:20260422T034500
CREATED:20250929T194007Z
LAST-MODIFIED:20250929T194007Z
UID:10009554-1795716000-1795723200@silverdalelutheran.org
SUMMARY:Kitsap County Search Dogs (FH)
DESCRIPTION:
URL:https://silverdalelutheran.org/event/kitsap-county-search-dogs-fh/2026-11-26/
CATEGORIES:Private Group
END:VEVENT
BEGIN:VEVENT
DTSTART;TZID=America/Los_Angeles:20261130T083000
DTEND;TZID=America/Los_Angeles:20261201T113000
DTSTAMP:20260422T034500
CREATED:20250929T180033Z
LAST-MODIFIED:20250929T191603Z
UID:10009096-1796027400-1796124600@silverdalelutheran.org
SUMMARY:Bible Study Fellowship (GP\, 21-23\, N)
DESCRIPTION:
URL:https://silverdalelutheran.org/event/bible-study-fellowship-gp-21-23-n-2/2026-11-30/
CATEGORIES:Private Group
END:VEVENT
BEGIN:VEVENT
DTSTART;TZID=America/Los_Angeles:20261201T180000
DTEND;TZID=America/Los_Angeles:20261201T200000
DTSTAMP:20260422T034500
CREATED:20250929T183535Z
LAST-MODIFIED:20250929T183620Z
UID:10008585-1796148000-1796155200@silverdalelutheran.org
SUMMARY:Antir.org (GP)
DESCRIPTION:
URL:https://silverdalelutheran.org/event/antir-org/2026-12-01/
CATEGORIES:Private Group
END:VEVENT
BEGIN:VEVENT
DTSTART;TZID=America/Los_Angeles:20261201T190000
DTEND;TZID=America/Los_Angeles:20261201T203000
DTSTAMP:20260422T034500
CREATED:20250929T181247Z
LAST-MODIFIED:20250929T181247Z
UID:10006457-1796151600-1796157000@silverdalelutheran.org
SUMMARY:Hometown Band
DESCRIPTION:
URL:https://silverdalelutheran.org/event/hometown-band/2026-12-01/
CATEGORIES:Private Group
END:VEVENT
BEGIN:VEVENT
DTSTART;TZID=America/Los_Angeles:20261203T083000
DTEND;TZID=America/Los_Angeles:20261203T113000
DTSTAMP:20260422T034500
CREATED:20250929T181743Z
LAST-MODIFIED:20250929T181743Z
UID:10007039-1796286600-1796297400@silverdalelutheran.org
SUMMARY:Bible Study Fellowship (S\, 21-23)
DESCRIPTION:
URL:https://silverdalelutheran.org/event/bible-study-fellowship-s-21-23/2026-12-03/
CATEGORIES:Private Group
END:VEVENT
BEGIN:VEVENT
DTSTART;TZID=America/Los_Angeles:20261205T100000
DTEND;TZID=America/Los_Angeles:20261205T120000
DTSTAMP:20260422T034500
CREATED:20250929T182332Z
LAST-MODIFIED:20250929T182422Z
UID:10007835-1796464800-1796472000@silverdalelutheran.org
SUMMARY:League of Women Voters (4)
DESCRIPTION:
URL:https://silverdalelutheran.org/event/league-of-women-voters-4/2026-12-05/
LOCATION:Silverdale Lutheran Church\, 11701 Ridgepoint Dr NW\, Silverdale\, WA\, 98383\, United States
CATEGORIES:Private Group
END:VEVENT
BEGIN:VEVENT
DTSTART;TZID=America/Los_Angeles:20261207T083000
DTEND;TZID=America/Los_Angeles:20261208T113000
DTSTAMP:20260422T034500
CREATED:20250929T180033Z
LAST-MODIFIED:20250929T191603Z
UID:10009097-1796632200-1796729400@silverdalelutheran.org
SUMMARY:Bible Study Fellowship (GP\, 21-23\, N)
DESCRIPTION:
URL:https://silverdalelutheran.org/event/bible-study-fellowship-gp-21-23-n-2/2026-12-07/
CATEGORIES:Private Group
END:VEVENT
BEGIN:VEVENT
DTSTART;TZID=America/Los_Angeles:20261208T180000
DTEND;TZID=America/Los_Angeles:20261208T200000
DTSTAMP:20260422T034500
CREATED:20250929T183535Z
LAST-MODIFIED:20250929T183620Z
UID:10008586-1796752800-1796760000@silverdalelutheran.org
SUMMARY:Antir.org (GP)
DESCRIPTION:
URL:https://silverdalelutheran.org/event/antir-org/2026-12-08/
CATEGORIES:Private Group
END:VEVENT
BEGIN:VEVENT
DTSTART;TZID=America/Los_Angeles:20261208T190000
DTEND;TZID=America/Los_Angeles:20261208T203000
DTSTAMP:20260422T034500
CREATED:20250929T181247Z
LAST-MODIFIED:20250929T181247Z
UID:10006458-1796756400-1796761800@silverdalelutheran.org
SUMMARY:Hometown Band
DESCRIPTION:
URL:https://silverdalelutheran.org/event/hometown-band/2026-12-08/
CATEGORIES:Private Group
END:VEVENT
BEGIN:VEVENT
DTSTART;TZID=America/Los_Angeles:20261210T083000
DTEND;TZID=America/Los_Angeles:20261210T113000
DTSTAMP:20260422T034500
CREATED:20250929T181743Z
LAST-MODIFIED:20250929T181743Z
UID:10007040-1796891400-1796902200@silverdalelutheran.org
SUMMARY:Bible Study Fellowship (S\, 21-23)
DESCRIPTION:
URL:https://silverdalelutheran.org/event/bible-study-fellowship-s-21-23/2026-12-10/
CATEGORIES:Private Group
END:VEVENT
BEGIN:VEVENT
DTSTART;TZID=America/Los_Angeles:20261214T083000
DTEND;TZID=America/Los_Angeles:20261215T113000
DTSTAMP:20260422T034500
CREATED:20250929T180033Z
LAST-MODIFIED:20250929T191603Z
UID:10009098-1797237000-1797334200@silverdalelutheran.org
SUMMARY:Bible Study Fellowship (GP\, 21-23\, N)
DESCRIPTION:
URL:https://silverdalelutheran.org/event/bible-study-fellowship-gp-21-23-n-2/2026-12-14/
CATEGORIES:Private Group
END:VEVENT
BEGIN:VEVENT
DTSTART;TZID=America/Los_Angeles:20261215T180000
DTEND;TZID=America/Los_Angeles:20261215T200000
DTSTAMP:20260422T034500
CREATED:20250929T183535Z
LAST-MODIFIED:20250929T183620Z
UID:10008587-1797357600-1797364800@silverdalelutheran.org
SUMMARY:Antir.org (GP)
DESCRIPTION:
URL:https://silverdalelutheran.org/event/antir-org/2026-12-15/
CATEGORIES:Private Group
END:VEVENT
BEGIN:VEVENT
DTSTART;TZID=America/Los_Angeles:20261215T190000
DTEND;TZID=America/Los_Angeles:20261215T203000
DTSTAMP:20260422T034500
CREATED:20250929T181247Z
LAST-MODIFIED:20250929T181247Z
UID:10006459-1797361200-1797366600@silverdalelutheran.org
SUMMARY:Hometown Band
DESCRIPTION:
URL:https://silverdalelutheran.org/event/hometown-band/2026-12-15/
CATEGORIES:Private Group
END:VEVENT
BEGIN:VEVENT
DTSTART;TZID=America/Los_Angeles:20261215T190000
DTEND;TZID=America/Los_Angeles:20261215T210000
DTSTAMP:20260422T034500
CREATED:20250929T193807Z
LAST-MODIFIED:20250929T193852Z
UID:10009495-1797361200-1797368400@silverdalelutheran.org
SUMMARY:Compassionate Friends (4)
DESCRIPTION:
URL:https://silverdalelutheran.org/event/compassionate-friend-4/2026-12-15/
CATEGORIES:Private Group
END:VEVENT
BEGIN:VEVENT
DTSTART;TZID=America/Los_Angeles:20261216T130000
DTEND;TZID=America/Los_Angeles:20261216T140000
DTSTAMP:20260422T034500
CREATED:20250929T192040Z
LAST-MODIFIED:20250929T192040Z
UID:10009372-1797426000-1797429600@silverdalelutheran.org
SUMMARY:Parkinsons group (St)
DESCRIPTION:Monthly on the third Wednesday
URL:https://silverdalelutheran.org/event/parkinsons-group-st/2026-12-16/
LOCATION:Silverdale Lutheran Church\, 11701 Ridgepoint Dr NW\, Silverdale\, WA\, 98383\, United States
CATEGORIES:Private Group
END:VEVENT
BEGIN:VEVENT
DTSTART;TZID=America/Los_Angeles:20261217T083000
DTEND;TZID=America/Los_Angeles:20261217T113000
DTSTAMP:20260422T034500
CREATED:20250929T181743Z
LAST-MODIFIED:20250929T181743Z
UID:10007041-1797496200-1797507000@silverdalelutheran.org
SUMMARY:Bible Study Fellowship (S\, 21-23)
DESCRIPTION:
URL:https://silverdalelutheran.org/event/bible-study-fellowship-s-21-23/2026-12-17/
CATEGORIES:Private Group
END:VEVENT
BEGIN:VEVENT
DTSTART;TZID=America/Los_Angeles:20261221T083000
DTEND;TZID=America/Los_Angeles:20261222T113000
DTSTAMP:20260422T034500
CREATED:20250929T180033Z
LAST-MODIFIED:20250929T191603Z
UID:10009099-1797841800-1797939000@silverdalelutheran.org
SUMMARY:Bible Study Fellowship (GP\, 21-23\, N)
DESCRIPTION:
URL:https://silverdalelutheran.org/event/bible-study-fellowship-gp-21-23-n-2/2026-12-21/
CATEGORIES:Private Group
END:VEVENT
BEGIN:VEVENT
DTSTART;TZID=America/Los_Angeles:20261221T183000
DTEND;TZID=America/Los_Angeles:20261221T200000
DTSTAMP:20260422T034500
CREATED:20250929T193634Z
LAST-MODIFIED:20250929T193634Z
UID:10009435-1797877800-1797883200@silverdalelutheran.org
SUMMARY:GSWW Leaders Meeting (4)
DESCRIPTION:
URL:https://silverdalelutheran.org/event/gsww-leaders-meeting-4/2026-12-21/
CATEGORIES:Private Group
END:VEVENT
BEGIN:VEVENT
DTSTART;TZID=America/Los_Angeles:20261222T180000
DTEND;TZID=America/Los_Angeles:20261222T200000
DTSTAMP:20260422T034500
CREATED:20250929T183535Z
LAST-MODIFIED:20250929T183620Z
UID:10008588-1797962400-1797969600@silverdalelutheran.org
SUMMARY:Antir.org (GP)
DESCRIPTION:
URL:https://silverdalelutheran.org/event/antir-org/2026-12-22/
CATEGORIES:Private Group
END:VEVENT
BEGIN:VEVENT
DTSTART;TZID=America/Los_Angeles:20261222T183000
DTEND;TZID=America/Los_Angeles:20261222T203000
DTSTAMP:20260422T034500
CREATED:20250929T195350Z
LAST-MODIFIED:20250929T195350Z
UID:10009737-1797964200-1797971400@silverdalelutheran.org
SUMMARY:Scout Planning Meeting
DESCRIPTION:
URL:https://silverdalelutheran.org/event/scout-planning-meeting/2026-12-22/
CATEGORIES:Private Group
END:VEVENT
BEGIN:VEVENT
DTSTART;TZID=America/Los_Angeles:20261222T190000
DTEND;TZID=America/Los_Angeles:20261222T203000
DTSTAMP:20260422T034500
CREATED:20250929T181247Z
LAST-MODIFIED:20250929T181247Z
UID:10006460-1797966000-1797971400@silverdalelutheran.org
SUMMARY:Hometown Band
DESCRIPTION:
URL:https://silverdalelutheran.org/event/hometown-band/2026-12-22/
CATEGORIES:Private Group
END:VEVENT
END:VCALENDAR