BEGIN:VCALENDAR
VERSION:2.0
PRODID:-//Silverdale Lutheran Church - ECPv6.15.12.2//NONSGML v1.0//EN
CALSCALE:GREGORIAN
METHOD:PUBLISH
X-WR-CALNAME:Silverdale Lutheran Church
X-ORIGINAL-URL:https://silverdalelutheran.org
X-WR-CALDESC:Events for Silverdale Lutheran Church
REFRESH-INTERVAL;VALUE=DURATION:PT1H
X-Robots-Tag:noindex
X-PUBLISHED-TTL:PT1H
BEGIN:VTIMEZONE
TZID:America/Los_Angeles
BEGIN:DAYLIGHT
TZOFFSETFROM:-0800
TZOFFSETTO:-0700
TZNAME:PDT
DTSTART:20250309T100000
END:DAYLIGHT
BEGIN:STANDARD
TZOFFSETFROM:-0700
TZOFFSETTO:-0800
TZNAME:PST
DTSTART:20251102T090000
END:STANDARD
BEGIN:DAYLIGHT
TZOFFSETFROM:-0800
TZOFFSETTO:-0700
TZNAME:PDT
DTSTART:20260308T100000
END:DAYLIGHT
BEGIN:STANDARD
TZOFFSETFROM:-0700
TZOFFSETTO:-0800
TZNAME:PST
DTSTART:20261101T090000
END:STANDARD
BEGIN:DAYLIGHT
TZOFFSETFROM:-0800
TZOFFSETTO:-0700
TZNAME:PDT
DTSTART:20270314T100000
END:DAYLIGHT
BEGIN:STANDARD
TZOFFSETFROM:-0700
TZOFFSETTO:-0800
TZNAME:PST
DTSTART:20271107T090000
END:STANDARD
END:VTIMEZONE
BEGIN:VEVENT
DTSTART;TZID=America/Los_Angeles:20260924T083000
DTEND;TZID=America/Los_Angeles:20260924T113000
DTSTAMP:20260421T195836
CREATED:20250929T181743Z
LAST-MODIFIED:20250929T181743Z
UID:10007029-1790238600-1790249400@silverdalelutheran.org
SUMMARY:Bible Study Fellowship (S\, 21-23)
DESCRIPTION:
URL:https://silverdalelutheran.org/event/bible-study-fellowship-s-21-23/2026-09-24/
CATEGORIES:Private Group
END:VEVENT
BEGIN:VEVENT
DTSTART;TZID=America/Los_Angeles:20260924T180000
DTEND;TZID=America/Los_Angeles:20260924T200000
DTSTAMP:20260421T195836
CREATED:20250929T194007Z
LAST-MODIFIED:20250929T194007Z
UID:10009552-1790272800-1790280000@silverdalelutheran.org
SUMMARY:Kitsap County Search Dogs (FH)
DESCRIPTION:
URL:https://silverdalelutheran.org/event/kitsap-county-search-dogs-fh/2026-09-24/
CATEGORIES:Private Group
END:VEVENT
BEGIN:VEVENT
DTSTART;TZID=America/Los_Angeles:20260928T083000
DTEND;TZID=America/Los_Angeles:20260929T113000
DTSTAMP:20260421T195836
CREATED:20250929T180033Z
LAST-MODIFIED:20250929T191603Z
UID:10009087-1790584200-1790681400@silverdalelutheran.org
SUMMARY:Bible Study Fellowship (GP\, 21-23\, N)
DESCRIPTION:
URL:https://silverdalelutheran.org/event/bible-study-fellowship-gp-21-23-n-2/2026-09-28/
CATEGORIES:Private Group
END:VEVENT
BEGIN:VEVENT
DTSTART;TZID=America/Los_Angeles:20260929T180000
DTEND;TZID=America/Los_Angeles:20260929T200000
DTSTAMP:20260421T195836
CREATED:20250929T183535Z
LAST-MODIFIED:20250929T183620Z
UID:10008576-1790704800-1790712000@silverdalelutheran.org
SUMMARY:Antir.org (GP)
DESCRIPTION:
URL:https://silverdalelutheran.org/event/antir-org/2026-09-29/
CATEGORIES:Private Group
END:VEVENT
BEGIN:VEVENT
DTSTART;TZID=America/Los_Angeles:20260929T190000
DTEND;TZID=America/Los_Angeles:20260929T203000
DTSTAMP:20260421T195836
CREATED:20250929T181247Z
LAST-MODIFIED:20250929T181247Z
UID:10006448-1790708400-1790713800@silverdalelutheran.org
SUMMARY:Hometown Band
DESCRIPTION:
URL:https://silverdalelutheran.org/event/hometown-band/2026-09-29/
CATEGORIES:Private Group
END:VEVENT
BEGIN:VEVENT
DTSTART;TZID=America/Los_Angeles:20261001T083000
DTEND;TZID=America/Los_Angeles:20261001T113000
DTSTAMP:20260421T195836
CREATED:20250929T181743Z
LAST-MODIFIED:20250929T181743Z
UID:10007030-1790843400-1790854200@silverdalelutheran.org
SUMMARY:Bible Study Fellowship (S\, 21-23)
DESCRIPTION:
URL:https://silverdalelutheran.org/event/bible-study-fellowship-s-21-23/2026-10-01/
CATEGORIES:Private Group
END:VEVENT
BEGIN:VEVENT
DTSTART;TZID=America/Los_Angeles:20261003T100000
DTEND;TZID=America/Los_Angeles:20261003T120000
DTSTAMP:20260421T195836
CREATED:20250929T182332Z
LAST-MODIFIED:20250929T182422Z
UID:10007833-1791021600-1791028800@silverdalelutheran.org
SUMMARY:League of Women Voters (4)
DESCRIPTION:
URL:https://silverdalelutheran.org/event/league-of-women-voters-4/2026-10-03/
LOCATION:Silverdale Lutheran Church\, 11701 Ridgepoint Dr NW\, Silverdale\, WA\, 98383\, United States
CATEGORIES:Private Group
END:VEVENT
BEGIN:VEVENT
DTSTART;TZID=America/Los_Angeles:20261005T083000
DTEND;TZID=America/Los_Angeles:20261006T113000
DTSTAMP:20260421T195836
CREATED:20250929T180033Z
LAST-MODIFIED:20250929T191603Z
UID:10009088-1791189000-1791286200@silverdalelutheran.org
SUMMARY:Bible Study Fellowship (GP\, 21-23\, N)
DESCRIPTION:
URL:https://silverdalelutheran.org/event/bible-study-fellowship-gp-21-23-n-2/2026-10-05/
CATEGORIES:Private Group
END:VEVENT
BEGIN:VEVENT
DTSTART;TZID=America/Los_Angeles:20261006T180000
DTEND;TZID=America/Los_Angeles:20261006T200000
DTSTAMP:20260421T195836
CREATED:20250929T183535Z
LAST-MODIFIED:20250929T183620Z
UID:10008577-1791309600-1791316800@silverdalelutheran.org
SUMMARY:Antir.org (GP)
DESCRIPTION:
URL:https://silverdalelutheran.org/event/antir-org/2026-10-06/
CATEGORIES:Private Group
END:VEVENT
BEGIN:VEVENT
DTSTART;TZID=America/Los_Angeles:20261006T190000
DTEND;TZID=America/Los_Angeles:20261006T203000
DTSTAMP:20260421T195836
CREATED:20250929T181247Z
LAST-MODIFIED:20250929T181247Z
UID:10006449-1791313200-1791318600@silverdalelutheran.org
SUMMARY:Hometown Band
DESCRIPTION:
URL:https://silverdalelutheran.org/event/hometown-band/2026-10-06/
CATEGORIES:Private Group
END:VEVENT
BEGIN:VEVENT
DTSTART;TZID=America/Los_Angeles:20261008T083000
DTEND;TZID=America/Los_Angeles:20261008T113000
DTSTAMP:20260421T195836
CREATED:20250929T181743Z
LAST-MODIFIED:20250929T181743Z
UID:10007031-1791448200-1791459000@silverdalelutheran.org
SUMMARY:Bible Study Fellowship (S\, 21-23)
DESCRIPTION:
URL:https://silverdalelutheran.org/event/bible-study-fellowship-s-21-23/2026-10-08/
CATEGORIES:Private Group
END:VEVENT
BEGIN:VEVENT
DTSTART;TZID=America/Los_Angeles:20261012T083000
DTEND;TZID=America/Los_Angeles:20261013T113000
DTSTAMP:20260421T195836
CREATED:20250929T180033Z
LAST-MODIFIED:20250929T191603Z
UID:10009089-1791793800-1791891000@silverdalelutheran.org
SUMMARY:Bible Study Fellowship (GP\, 21-23\, N)
DESCRIPTION:
URL:https://silverdalelutheran.org/event/bible-study-fellowship-gp-21-23-n-2/2026-10-12/
CATEGORIES:Private Group
END:VEVENT
BEGIN:VEVENT
DTSTART;TZID=America/Los_Angeles:20261013T180000
DTEND;TZID=America/Los_Angeles:20261013T200000
DTSTAMP:20260421T195836
CREATED:20250929T183535Z
LAST-MODIFIED:20250929T183620Z
UID:10008578-1791914400-1791921600@silverdalelutheran.org
SUMMARY:Antir.org (GP)
DESCRIPTION:
URL:https://silverdalelutheran.org/event/antir-org/2026-10-13/
CATEGORIES:Private Group
END:VEVENT
BEGIN:VEVENT
DTSTART;TZID=America/Los_Angeles:20261013T190000
DTEND;TZID=America/Los_Angeles:20261013T203000
DTSTAMP:20260421T195836
CREATED:20250929T181247Z
LAST-MODIFIED:20250929T181247Z
UID:10006450-1791918000-1791923400@silverdalelutheran.org
SUMMARY:Hometown Band
DESCRIPTION:
URL:https://silverdalelutheran.org/event/hometown-band/2026-10-13/
CATEGORIES:Private Group
END:VEVENT
BEGIN:VEVENT
DTSTART;TZID=America/Los_Angeles:20261015T083000
DTEND;TZID=America/Los_Angeles:20261015T113000
DTSTAMP:20260421T195836
CREATED:20250929T181743Z
LAST-MODIFIED:20250929T181743Z
UID:10007032-1792053000-1792063800@silverdalelutheran.org
SUMMARY:Bible Study Fellowship (S\, 21-23)
DESCRIPTION:
URL:https://silverdalelutheran.org/event/bible-study-fellowship-s-21-23/2026-10-15/
CATEGORIES:Private Group
END:VEVENT
BEGIN:VEVENT
DTSTART;TZID=America/Los_Angeles:20261019T083000
DTEND;TZID=America/Los_Angeles:20261020T113000
DTSTAMP:20260421T195836
CREATED:20250929T180033Z
LAST-MODIFIED:20250929T191603Z
UID:10009090-1792398600-1792495800@silverdalelutheran.org
SUMMARY:Bible Study Fellowship (GP\, 21-23\, N)
DESCRIPTION:
URL:https://silverdalelutheran.org/event/bible-study-fellowship-gp-21-23-n-2/2026-10-19/
CATEGORIES:Private Group
END:VEVENT
BEGIN:VEVENT
DTSTART;TZID=America/Los_Angeles:20261019T183000
DTEND;TZID=America/Los_Angeles:20261019T200000
DTSTAMP:20260421T195836
CREATED:20250929T193634Z
LAST-MODIFIED:20250929T193634Z
UID:10009433-1792434600-1792440000@silverdalelutheran.org
SUMMARY:GSWW Leaders Meeting (4)
DESCRIPTION:
URL:https://silverdalelutheran.org/event/gsww-leaders-meeting-4/2026-10-19/
CATEGORIES:Private Group
END:VEVENT
BEGIN:VEVENT
DTSTART;TZID=America/Los_Angeles:20261020T180000
DTEND;TZID=America/Los_Angeles:20261020T200000
DTSTAMP:20260421T195836
CREATED:20250929T183535Z
LAST-MODIFIED:20250929T183620Z
UID:10008579-1792519200-1792526400@silverdalelutheran.org
SUMMARY:Antir.org (GP)
DESCRIPTION:
URL:https://silverdalelutheran.org/event/antir-org/2026-10-20/
CATEGORIES:Private Group
END:VEVENT
BEGIN:VEVENT
DTSTART;TZID=America/Los_Angeles:20261020T190000
DTEND;TZID=America/Los_Angeles:20261020T203000
DTSTAMP:20260421T195836
CREATED:20250929T181247Z
LAST-MODIFIED:20250929T181247Z
UID:10006451-1792522800-1792528200@silverdalelutheran.org
SUMMARY:Hometown Band
DESCRIPTION:
URL:https://silverdalelutheran.org/event/hometown-band/2026-10-20/
CATEGORIES:Private Group
END:VEVENT
BEGIN:VEVENT
DTSTART;TZID=America/Los_Angeles:20261020T190000
DTEND;TZID=America/Los_Angeles:20261020T210000
DTSTAMP:20260421T195836
CREATED:20250929T193807Z
LAST-MODIFIED:20250929T193852Z
UID:10009493-1792522800-1792530000@silverdalelutheran.org
SUMMARY:Compassionate Friends (4)
DESCRIPTION:
URL:https://silverdalelutheran.org/event/compassionate-friend-4/2026-10-20/
CATEGORIES:Private Group
END:VEVENT
BEGIN:VEVENT
DTSTART;TZID=America/Los_Angeles:20261021T130000
DTEND;TZID=America/Los_Angeles:20261021T140000
DTSTAMP:20260421T195836
CREATED:20250929T192040Z
LAST-MODIFIED:20250929T192040Z
UID:10009370-1792587600-1792591200@silverdalelutheran.org
SUMMARY:Parkinsons group (St)
DESCRIPTION:Monthly on the third Wednesday
URL:https://silverdalelutheran.org/event/parkinsons-group-st/2026-10-21/
LOCATION:Silverdale Lutheran Church\, 11701 Ridgepoint Dr NW\, Silverdale\, WA\, 98383\, United States
CATEGORIES:Private Group
END:VEVENT
BEGIN:VEVENT
DTSTART;TZID=America/Los_Angeles:20261022T083000
DTEND;TZID=America/Los_Angeles:20261022T113000
DTSTAMP:20260421T195836
CREATED:20250929T181743Z
LAST-MODIFIED:20250929T181743Z
UID:10007033-1792657800-1792668600@silverdalelutheran.org
SUMMARY:Bible Study Fellowship (S\, 21-23)
DESCRIPTION:
URL:https://silverdalelutheran.org/event/bible-study-fellowship-s-21-23/2026-10-22/
CATEGORIES:Private Group
END:VEVENT
BEGIN:VEVENT
DTSTART;TZID=America/Los_Angeles:20261022T180000
DTEND;TZID=America/Los_Angeles:20261022T200000
DTSTAMP:20260421T195836
CREATED:20250929T194007Z
LAST-MODIFIED:20250929T194007Z
UID:10009553-1792692000-1792699200@silverdalelutheran.org
SUMMARY:Kitsap County Search Dogs (FH)
DESCRIPTION:
URL:https://silverdalelutheran.org/event/kitsap-county-search-dogs-fh/2026-10-22/
CATEGORIES:Private Group
END:VEVENT
BEGIN:VEVENT
DTSTART;TZID=America/Los_Angeles:20261026T083000
DTEND;TZID=America/Los_Angeles:20261027T113000
DTSTAMP:20260421T195836
CREATED:20250929T180033Z
LAST-MODIFIED:20250929T191603Z
UID:10009091-1793003400-1793100600@silverdalelutheran.org
SUMMARY:Bible Study Fellowship (GP\, 21-23\, N)
DESCRIPTION:
URL:https://silverdalelutheran.org/event/bible-study-fellowship-gp-21-23-n-2/2026-10-26/
CATEGORIES:Private Group
END:VEVENT
BEGIN:VEVENT
DTSTART;TZID=America/Los_Angeles:20261027T180000
DTEND;TZID=America/Los_Angeles:20261027T200000
DTSTAMP:20260421T195836
CREATED:20250929T183535Z
LAST-MODIFIED:20250929T183620Z
UID:10008580-1793124000-1793131200@silverdalelutheran.org
SUMMARY:Antir.org (GP)
DESCRIPTION:
URL:https://silverdalelutheran.org/event/antir-org/2026-10-27/
CATEGORIES:Private Group
END:VEVENT
BEGIN:VEVENT
DTSTART;TZID=America/Los_Angeles:20261027T183000
DTEND;TZID=America/Los_Angeles:20261027T203000
DTSTAMP:20260421T195836
CREATED:20250929T195350Z
LAST-MODIFIED:20250929T195350Z
UID:10009735-1793125800-1793133000@silverdalelutheran.org
SUMMARY:Scout Planning Meeting
DESCRIPTION:
URL:https://silverdalelutheran.org/event/scout-planning-meeting/2026-10-27/
CATEGORIES:Private Group
END:VEVENT
BEGIN:VEVENT
DTSTART;TZID=America/Los_Angeles:20261027T190000
DTEND;TZID=America/Los_Angeles:20261027T203000
DTSTAMP:20260421T195836
CREATED:20250929T181247Z
LAST-MODIFIED:20250929T181247Z
UID:10006452-1793127600-1793133000@silverdalelutheran.org
SUMMARY:Hometown Band
DESCRIPTION:
URL:https://silverdalelutheran.org/event/hometown-band/2026-10-27/
CATEGORIES:Private Group
END:VEVENT
BEGIN:VEVENT
DTSTART;TZID=America/Los_Angeles:20261027T190000
DTEND;TZID=America/Los_Angeles:20261027T203000
DTSTAMP:20260421T195836
CREATED:20250929T195516Z
LAST-MODIFIED:20250929T195516Z
UID:10009795-1793127600-1793133000@silverdalelutheran.org
SUMMARY:Barnabas Book Club (Private residence)
DESCRIPTION:
URL:https://silverdalelutheran.org/event/barnabas-book-club-private-residence/2026-10-27/
CATEGORIES:Private Group
END:VEVENT
BEGIN:VEVENT
DTSTART;TZID=America/Los_Angeles:20261029T083000
DTEND;TZID=America/Los_Angeles:20261029T113000
DTSTAMP:20260421T195836
CREATED:20250929T181743Z
LAST-MODIFIED:20250929T181743Z
UID:10007034-1793262600-1793273400@silverdalelutheran.org
SUMMARY:Bible Study Fellowship (S\, 21-23)
DESCRIPTION:
URL:https://silverdalelutheran.org/event/bible-study-fellowship-s-21-23/2026-10-29/
CATEGORIES:Private Group
END:VEVENT
BEGIN:VEVENT
DTSTART;TZID=America/Los_Angeles:20261029T183000
DTEND;TZID=America/Los_Angeles:20261029T201500
DTSTAMP:20260421T195836
CREATED:20250929T200004Z
LAST-MODIFIED:20250929T200004Z
UID:10009848-1793298600-1793304900@silverdalelutheran.org
SUMMARY:Lutherhaven Bd Mtg (4)
DESCRIPTION:
URL:https://silverdalelutheran.org/event/lutherhaven-bd-mtg-4/2026-10-29/
CATEGORIES:Private Group
END:VEVENT
END:VCALENDAR