BEGIN:VCALENDAR
VERSION:2.0
PRODID:-//Silverdale Lutheran Church - ECPv6.15.12.2//NONSGML v1.0//EN
CALSCALE:GREGORIAN
METHOD:PUBLISH
X-WR-CALNAME:Silverdale Lutheran Church
X-ORIGINAL-URL:https://silverdalelutheran.org
X-WR-CALDESC:Events for Silverdale Lutheran Church
REFRESH-INTERVAL;VALUE=DURATION:PT1H
X-Robots-Tag:noindex
X-PUBLISHED-TTL:PT1H
BEGIN:VTIMEZONE
TZID:America/Los_Angeles
BEGIN:DAYLIGHT
TZOFFSETFROM:-0800
TZOFFSETTO:-0700
TZNAME:PDT
DTSTART:20250309T100000
END:DAYLIGHT
BEGIN:STANDARD
TZOFFSETFROM:-0700
TZOFFSETTO:-0800
TZNAME:PST
DTSTART:20251102T090000
END:STANDARD
BEGIN:DAYLIGHT
TZOFFSETFROM:-0800
TZOFFSETTO:-0700
TZNAME:PDT
DTSTART:20260308T100000
END:DAYLIGHT
BEGIN:STANDARD
TZOFFSETFROM:-0700
TZOFFSETTO:-0800
TZNAME:PST
DTSTART:20261101T090000
END:STANDARD
BEGIN:DAYLIGHT
TZOFFSETFROM:-0800
TZOFFSETTO:-0700
TZNAME:PDT
DTSTART:20270314T100000
END:DAYLIGHT
BEGIN:STANDARD
TZOFFSETFROM:-0700
TZOFFSETTO:-0800
TZNAME:PST
DTSTART:20271107T090000
END:STANDARD
END:VTIMEZONE
BEGIN:VEVENT
DTSTART;TZID=America/Los_Angeles:20260420T083000
DTEND;TZID=America/Los_Angeles:20260421T113000
DTSTAMP:20260421T012359
CREATED:20250929T180033Z
LAST-MODIFIED:20250929T191603Z
UID:10009064-1776673800-1776771000@silverdalelutheran.org
SUMMARY:Bible Study Fellowship (GP\, 21-23\, N)
DESCRIPTION:
URL:https://silverdalelutheran.org/event/bible-study-fellowship-gp-21-23-n-2/2026-04-20/
CATEGORIES:Private Group
END:VEVENT
BEGIN:VEVENT
DTSTART;TZID=America/Los_Angeles:20260421T180000
DTEND;TZID=America/Los_Angeles:20260421T200000
DTSTAMP:20260421T012359
CREATED:20250929T183535Z
LAST-MODIFIED:20250929T183620Z
UID:10008553-1776794400-1776801600@silverdalelutheran.org
SUMMARY:Antir.org (GP)
DESCRIPTION:
URL:https://silverdalelutheran.org/event/antir-org/2026-04-21/
CATEGORIES:Private Group
END:VEVENT
BEGIN:VEVENT
DTSTART;TZID=America/Los_Angeles:20260421T190000
DTEND;TZID=America/Los_Angeles:20260421T203000
DTSTAMP:20260421T012359
CREATED:20250929T181247Z
LAST-MODIFIED:20250929T181247Z
UID:10006425-1776798000-1776803400@silverdalelutheran.org
SUMMARY:Hometown Band
DESCRIPTION:
URL:https://silverdalelutheran.org/event/hometown-band/2026-04-21/
CATEGORIES:Private Group
END:VEVENT
BEGIN:VEVENT
DTSTART;TZID=America/Los_Angeles:20260421T190000
DTEND;TZID=America/Los_Angeles:20260421T210000
DTSTAMP:20260421T012359
CREATED:20250929T193807Z
LAST-MODIFIED:20250929T193852Z
UID:10009487-1776798000-1776805200@silverdalelutheran.org
SUMMARY:Compassionate Friends (4)
DESCRIPTION:
URL:https://silverdalelutheran.org/event/compassionate-friend-4/2026-04-21/
CATEGORIES:Private Group
END:VEVENT
BEGIN:VEVENT
DTSTART;TZID=America/Los_Angeles:20260423T083000
DTEND;TZID=America/Los_Angeles:20260423T113000
DTSTAMP:20260421T012359
CREATED:20250929T181743Z
LAST-MODIFIED:20250929T181743Z
UID:10007007-1776933000-1776943800@silverdalelutheran.org
SUMMARY:Bible Study Fellowship (S\, 21-23)
DESCRIPTION:
URL:https://silverdalelutheran.org/event/bible-study-fellowship-s-21-23/2026-04-23/
CATEGORIES:Private Group
END:VEVENT
BEGIN:VEVENT
DTSTART;TZID=America/Los_Angeles:20260423T180000
DTEND;TZID=America/Los_Angeles:20260423T200000
DTSTAMP:20260421T012359
CREATED:20250929T194007Z
LAST-MODIFIED:20250929T194007Z
UID:10009547-1776967200-1776974400@silverdalelutheran.org
SUMMARY:Kitsap County Search Dogs (FH)
DESCRIPTION:
URL:https://silverdalelutheran.org/event/kitsap-county-search-dogs-fh/2026-04-23/
CATEGORIES:Private Group
END:VEVENT
BEGIN:VEVENT
DTSTART;TZID=America/Los_Angeles:20260427T083000
DTEND;TZID=America/Los_Angeles:20260428T113000
DTSTAMP:20260421T012359
CREATED:20250929T180033Z
LAST-MODIFIED:20250929T191603Z
UID:10009065-1777278600-1777375800@silverdalelutheran.org
SUMMARY:Bible Study Fellowship (GP\, 21-23\, N)
DESCRIPTION:
URL:https://silverdalelutheran.org/event/bible-study-fellowship-gp-21-23-n-2/2026-04-27/
CATEGORIES:Private Group
END:VEVENT
BEGIN:VEVENT
DTSTART;TZID=America/Los_Angeles:20260428T180000
DTEND;TZID=America/Los_Angeles:20260428T200000
DTSTAMP:20260421T012359
CREATED:20250929T183535Z
LAST-MODIFIED:20250929T183620Z
UID:10008554-1777399200-1777406400@silverdalelutheran.org
SUMMARY:Antir.org (GP)
DESCRIPTION:
URL:https://silverdalelutheran.org/event/antir-org/2026-04-28/
CATEGORIES:Private Group
END:VEVENT
BEGIN:VEVENT
DTSTART;TZID=America/Los_Angeles:20260428T183000
DTEND;TZID=America/Los_Angeles:20260428T203000
DTSTAMP:20260421T012359
CREATED:20250929T195350Z
LAST-MODIFIED:20250929T195350Z
UID:10009729-1777401000-1777408200@silverdalelutheran.org
SUMMARY:Scout Planning Meeting
DESCRIPTION:
URL:https://silverdalelutheran.org/event/scout-planning-meeting/2026-04-28/
CATEGORIES:Private Group
END:VEVENT
BEGIN:VEVENT
DTSTART;TZID=America/Los_Angeles:20260428T190000
DTEND;TZID=America/Los_Angeles:20260428T203000
DTSTAMP:20260421T012359
CREATED:20250929T181247Z
LAST-MODIFIED:20250929T181247Z
UID:10006426-1777402800-1777408200@silverdalelutheran.org
SUMMARY:Hometown Band
DESCRIPTION:
URL:https://silverdalelutheran.org/event/hometown-band/2026-04-28/
CATEGORIES:Private Group
END:VEVENT
BEGIN:VEVENT
DTSTART;TZID=America/Los_Angeles:20260428T190000
DTEND;TZID=America/Los_Angeles:20260428T203000
DTSTAMP:20260421T012359
CREATED:20250929T195516Z
LAST-MODIFIED:20250929T195516Z
UID:10009789-1777402800-1777408200@silverdalelutheran.org
SUMMARY:Barnabas Book Club (Private residence)
DESCRIPTION:
URL:https://silverdalelutheran.org/event/barnabas-book-club-private-residence/2026-04-28/
CATEGORIES:Private Group
END:VEVENT
BEGIN:VEVENT
DTSTART;TZID=America/Los_Angeles:20260430T083000
DTEND;TZID=America/Los_Angeles:20260430T113000
DTSTAMP:20260421T012359
CREATED:20250929T181743Z
LAST-MODIFIED:20250929T181743Z
UID:10007008-1777537800-1777548600@silverdalelutheran.org
SUMMARY:Bible Study Fellowship (S\, 21-23)
DESCRIPTION:
URL:https://silverdalelutheran.org/event/bible-study-fellowship-s-21-23/2026-04-30/
CATEGORIES:Private Group
END:VEVENT
BEGIN:VEVENT
DTSTART;TZID=America/Los_Angeles:20260430T183000
DTEND;TZID=America/Los_Angeles:20260430T201500
DTSTAMP:20260421T012359
CREATED:20250929T200004Z
LAST-MODIFIED:20250929T200004Z
UID:10009846-1777573800-1777580100@silverdalelutheran.org
SUMMARY:Lutherhaven Bd Mtg (4)
DESCRIPTION:
URL:https://silverdalelutheran.org/event/lutherhaven-bd-mtg-4/2026-04-30/
CATEGORIES:Private Group
END:VEVENT
BEGIN:VEVENT
DTSTART;TZID=America/Los_Angeles:20260502T100000
DTEND;TZID=America/Los_Angeles:20260502T120000
DTSTAMP:20260421T012359
CREATED:20250929T182332Z
LAST-MODIFIED:20250929T182422Z
UID:10007828-1777716000-1777723200@silverdalelutheran.org
SUMMARY:League of Women Voters (4)
DESCRIPTION:
URL:https://silverdalelutheran.org/event/league-of-women-voters-4/2026-05-02/
LOCATION:Silverdale Lutheran Church\, 11701 Ridgepoint Dr NW\, Silverdale\, WA\, 98383\, United States
CATEGORIES:Private Group
END:VEVENT
BEGIN:VEVENT
DTSTART;TZID=America/Los_Angeles:20260504T083000
DTEND;TZID=America/Los_Angeles:20260505T113000
DTSTAMP:20260421T012359
CREATED:20250929T180033Z
LAST-MODIFIED:20250929T191603Z
UID:10009066-1777883400-1777980600@silverdalelutheran.org
SUMMARY:Bible Study Fellowship (GP\, 21-23\, N)
DESCRIPTION:
URL:https://silverdalelutheran.org/event/bible-study-fellowship-gp-21-23-n-2/2026-05-04/
CATEGORIES:Private Group
END:VEVENT
BEGIN:VEVENT
DTSTART;TZID=America/Los_Angeles:20260505T180000
DTEND;TZID=America/Los_Angeles:20260505T200000
DTSTAMP:20260421T012359
CREATED:20250929T183535Z
LAST-MODIFIED:20250929T183620Z
UID:10008555-1778004000-1778011200@silverdalelutheran.org
SUMMARY:Antir.org (GP)
DESCRIPTION:
URL:https://silverdalelutheran.org/event/antir-org/2026-05-05/
CATEGORIES:Private Group
END:VEVENT
BEGIN:VEVENT
DTSTART;TZID=America/Los_Angeles:20260505T190000
DTEND;TZID=America/Los_Angeles:20260505T203000
DTSTAMP:20260421T012359
CREATED:20250929T181247Z
LAST-MODIFIED:20250929T181247Z
UID:10006427-1778007600-1778013000@silverdalelutheran.org
SUMMARY:Hometown Band
DESCRIPTION:
URL:https://silverdalelutheran.org/event/hometown-band/2026-05-05/
CATEGORIES:Private Group
END:VEVENT
BEGIN:VEVENT
DTSTART;TZID=America/Los_Angeles:20260507T083000
DTEND;TZID=America/Los_Angeles:20260507T113000
DTSTAMP:20260421T012359
CREATED:20250929T181743Z
LAST-MODIFIED:20250929T181743Z
UID:10007009-1778142600-1778153400@silverdalelutheran.org
SUMMARY:Bible Study Fellowship (S\, 21-23)
DESCRIPTION:
URL:https://silverdalelutheran.org/event/bible-study-fellowship-s-21-23/2026-05-07/
CATEGORIES:Private Group
END:VEVENT
BEGIN:VEVENT
DTSTART;TZID=America/Los_Angeles:20260511T083000
DTEND;TZID=America/Los_Angeles:20260512T113000
DTSTAMP:20260421T012359
CREATED:20250929T180033Z
LAST-MODIFIED:20250929T191603Z
UID:10009067-1778488200-1778585400@silverdalelutheran.org
SUMMARY:Bible Study Fellowship (GP\, 21-23\, N)
DESCRIPTION:
URL:https://silverdalelutheran.org/event/bible-study-fellowship-gp-21-23-n-2/2026-05-11/
CATEGORIES:Private Group
END:VEVENT
BEGIN:VEVENT
DTSTART;TZID=America/Los_Angeles:20260512T180000
DTEND;TZID=America/Los_Angeles:20260512T200000
DTSTAMP:20260421T012359
CREATED:20250929T183535Z
LAST-MODIFIED:20250929T183620Z
UID:10008556-1778608800-1778616000@silverdalelutheran.org
SUMMARY:Antir.org (GP)
DESCRIPTION:
URL:https://silverdalelutheran.org/event/antir-org/2026-05-12/
CATEGORIES:Private Group
END:VEVENT
BEGIN:VEVENT
DTSTART;TZID=America/Los_Angeles:20260512T190000
DTEND;TZID=America/Los_Angeles:20260512T203000
DTSTAMP:20260421T012359
CREATED:20250929T181247Z
LAST-MODIFIED:20250929T181247Z
UID:10006428-1778612400-1778617800@silverdalelutheran.org
SUMMARY:Hometown Band
DESCRIPTION:
URL:https://silverdalelutheran.org/event/hometown-band/2026-05-12/
CATEGORIES:Private Group
END:VEVENT
BEGIN:VEVENT
DTSTART;TZID=America/Los_Angeles:20260514T083000
DTEND;TZID=America/Los_Angeles:20260514T113000
DTSTAMP:20260421T012359
CREATED:20250929T181743Z
LAST-MODIFIED:20250929T181743Z
UID:10007010-1778747400-1778758200@silverdalelutheran.org
SUMMARY:Bible Study Fellowship (S\, 21-23)
DESCRIPTION:
URL:https://silverdalelutheran.org/event/bible-study-fellowship-s-21-23/2026-05-14/
CATEGORIES:Private Group
END:VEVENT
BEGIN:VEVENT
DTSTART;TZID=America/Los_Angeles:20260518T083000
DTEND;TZID=America/Los_Angeles:20260519T113000
DTSTAMP:20260421T012359
CREATED:20250929T180033Z
LAST-MODIFIED:20250929T191603Z
UID:10009068-1779093000-1779190200@silverdalelutheran.org
SUMMARY:Bible Study Fellowship (GP\, 21-23\, N)
DESCRIPTION:
URL:https://silverdalelutheran.org/event/bible-study-fellowship-gp-21-23-n-2/2026-05-18/
CATEGORIES:Private Group
END:VEVENT
BEGIN:VEVENT
DTSTART;TZID=America/Los_Angeles:20260518T183000
DTEND;TZID=America/Los_Angeles:20260518T200000
DTSTAMP:20260421T012359
CREATED:20250929T193634Z
LAST-MODIFIED:20250929T193634Z
UID:10009428-1779129000-1779134400@silverdalelutheran.org
SUMMARY:GSWW Leaders Meeting (4)
DESCRIPTION:
URL:https://silverdalelutheran.org/event/gsww-leaders-meeting-4/2026-05-18/
CATEGORIES:Private Group
END:VEVENT
BEGIN:VEVENT
DTSTART;TZID=America/Los_Angeles:20260519T180000
DTEND;TZID=America/Los_Angeles:20260519T200000
DTSTAMP:20260421T012359
CREATED:20250929T183535Z
LAST-MODIFIED:20250929T183620Z
UID:10008557-1779213600-1779220800@silverdalelutheran.org
SUMMARY:Antir.org (GP)
DESCRIPTION:
URL:https://silverdalelutheran.org/event/antir-org/2026-05-19/
CATEGORIES:Private Group
END:VEVENT
BEGIN:VEVENT
DTSTART;TZID=America/Los_Angeles:20260519T190000
DTEND;TZID=America/Los_Angeles:20260519T203000
DTSTAMP:20260421T012359
CREATED:20250929T181247Z
LAST-MODIFIED:20250929T181247Z
UID:10006429-1779217200-1779222600@silverdalelutheran.org
SUMMARY:Hometown Band
DESCRIPTION:
URL:https://silverdalelutheran.org/event/hometown-band/2026-05-19/
CATEGORIES:Private Group
END:VEVENT
BEGIN:VEVENT
DTSTART;TZID=America/Los_Angeles:20260519T190000
DTEND;TZID=America/Los_Angeles:20260519T210000
DTSTAMP:20260421T012359
CREATED:20250929T193807Z
LAST-MODIFIED:20250929T193852Z
UID:10009488-1779217200-1779224400@silverdalelutheran.org
SUMMARY:Compassionate Friends (4)
DESCRIPTION:
URL:https://silverdalelutheran.org/event/compassionate-friend-4/2026-05-19/
CATEGORIES:Private Group
END:VEVENT
BEGIN:VEVENT
DTSTART;TZID=America/Los_Angeles:20260520T130000
DTEND;TZID=America/Los_Angeles:20260520T140000
DTSTAMP:20260421T012359
CREATED:20250929T192040Z
LAST-MODIFIED:20250929T192040Z
UID:10009365-1779282000-1779285600@silverdalelutheran.org
SUMMARY:Parkinsons group (St)
DESCRIPTION:Monthly on the third Wednesday
URL:https://silverdalelutheran.org/event/parkinsons-group-st/2026-05-20/
LOCATION:Silverdale Lutheran Church\, 11701 Ridgepoint Dr NW\, Silverdale\, WA\, 98383\, United States
CATEGORIES:Private Group
END:VEVENT
BEGIN:VEVENT
DTSTART;TZID=America/Los_Angeles:20260521T083000
DTEND;TZID=America/Los_Angeles:20260521T113000
DTSTAMP:20260421T012359
CREATED:20250929T181743Z
LAST-MODIFIED:20250929T181743Z
UID:10007011-1779352200-1779363000@silverdalelutheran.org
SUMMARY:Bible Study Fellowship (S\, 21-23)
DESCRIPTION:
URL:https://silverdalelutheran.org/event/bible-study-fellowship-s-21-23/2026-05-21/
CATEGORIES:Private Group
END:VEVENT
BEGIN:VEVENT
DTSTART;TZID=America/Los_Angeles:20260525T083000
DTEND;TZID=America/Los_Angeles:20260526T113000
DTSTAMP:20260421T012359
CREATED:20250929T180033Z
LAST-MODIFIED:20250929T191603Z
UID:10009069-1779697800-1779795000@silverdalelutheran.org
SUMMARY:Bible Study Fellowship (GP\, 21-23\, N)
DESCRIPTION:
URL:https://silverdalelutheran.org/event/bible-study-fellowship-gp-21-23-n-2/2026-05-25/
CATEGORIES:Private Group
END:VEVENT
END:VCALENDAR