BEGIN:VCALENDAR
VERSION:2.0
PRODID:-//Silverdale Lutheran Church - ECPv6.15.12.2//NONSGML v1.0//EN
CALSCALE:GREGORIAN
METHOD:PUBLISH
X-WR-CALNAME:Silverdale Lutheran Church
X-ORIGINAL-URL:https://silverdalelutheran.org
X-WR-CALDESC:Events for Silverdale Lutheran Church
REFRESH-INTERVAL;VALUE=DURATION:PT1H
X-Robots-Tag:noindex
X-PUBLISHED-TTL:PT1H
BEGIN:VTIMEZONE
TZID:America/Los_Angeles
BEGIN:DAYLIGHT
TZOFFSETFROM:-0800
TZOFFSETTO:-0700
TZNAME:PDT
DTSTART:20270314T100000
END:DAYLIGHT
BEGIN:STANDARD
TZOFFSETFROM:-0700
TZOFFSETTO:-0800
TZNAME:PST
DTSTART:20271107T090000
END:STANDARD
BEGIN:DAYLIGHT
TZOFFSETFROM:-0800
TZOFFSETTO:-0700
TZNAME:PDT
DTSTART:20280312T100000
END:DAYLIGHT
BEGIN:STANDARD
TZOFFSETFROM:-0700
TZOFFSETTO:-0800
TZNAME:PST
DTSTART:20281105T090000
END:STANDARD
BEGIN:DAYLIGHT
TZOFFSETFROM:-0800
TZOFFSETTO:-0700
TZNAME:PDT
DTSTART:20290311T100000
END:DAYLIGHT
BEGIN:STANDARD
TZOFFSETFROM:-0700
TZOFFSETTO:-0800
TZNAME:PST
DTSTART:20291104T090000
END:STANDARD
END:VTIMEZONE
BEGIN:VEVENT
DTSTART;TZID=America/Los_Angeles:20280510T120000
DTEND;TZID=America/Los_Angeles:20280510T130000
DTSTAMP:20260423T141549
CREATED:20250917T165143Z
LAST-MODIFIED:20250918T155352Z
UID:10001769-1841572800-1841576400@silverdalelutheran.org
SUMMARY:Hearty Meals
DESCRIPTION:Hearty Meals is a free in-person lunch every Wednesday from noon-1pm every Wednesday.  All are welcome.
URL:https://silverdalelutheran.org/event/hearty-meals/2028-05-10/
LOCATION:Silverdale Lutheran Church\, 11701 Ridgepoint Dr NW\, Silverdale\, WA\, 98383\, United States
CATEGORIES:Community Event
END:VEVENT
BEGIN:VEVENT
DTSTART;TZID=America/Los_Angeles:20280512T080000
DTEND;TZID=America/Los_Angeles:20280512T090000
DTSTAMP:20260423T141549
CREATED:20250918T174712Z
LAST-MODIFIED:20250918T174713Z
UID:10004122-1841731200-1841734800@silverdalelutheran.org
SUMMARY:Men's Prayer Breakfast
DESCRIPTION:The Men’s Prayer Breakfast is about being fed with food for the body AND the soul. We pray for those in need\, have a short Bible study and breakfast with fellowship together. We meet every Friday morning at 8am at the Silverdale Bowling Alley. All men are welcome to please join us!
URL:https://silverdalelutheran.org/event/mens-prayer-breakfast/2028-05-12/
LOCATION:Silverdale Bowling Alley\, 10710 Silverdale Way NW\, Silverdale\, WA\, 98383
CATEGORIES:Community Event
END:VEVENT
BEGIN:VEVENT
DTSTART;TZID=America/Los_Angeles:20280515T090000
DTEND;TZID=America/Los_Angeles:20280515T120000
DTSTAMP:20260423T141549
CREATED:20250918T180712Z
LAST-MODIFIED:20250918T181755Z
UID:10004644-1841994000-1842004800@silverdalelutheran.org
SUMMARY:Ties That Bind
DESCRIPTION:A ministry started in 1969\, Silverdale Lutheran Church Quilters gather every Monday morning in the Fellowship Hall to create quilts to share with those in need of warmth. Each year the quilters will sew hundreds of quilts that are shipped to Lutheran World Relief for distribution across the world and additional quilts that are shared within our community. All are welcome to join in this creative work. Silverdale Lutheran Church supports this ministry with monetary and in-kind donations\, along with the helping hands of many volunteers.
URL:https://silverdalelutheran.org/event/ties-that-bind/2028-05-15/
LOCATION:Silverdale Lutheran Church\, 11701 Ridgepoint Dr NW\, Silverdale\, WA\, 98383\, United States
CATEGORIES:Community Event
ATTACH;FMTTYPE=image/jpeg:https://silverdalelutheran.org/wp-content/uploads/2025/09/Ties-That-Bind-1280-x-720-px.jpg
END:VEVENT
BEGIN:VEVENT
DTSTART;TZID=America/Los_Angeles:20280517T120000
DTEND;TZID=America/Los_Angeles:20280517T130000
DTSTAMP:20260423T141549
CREATED:20250917T165143Z
LAST-MODIFIED:20250918T155352Z
UID:10001770-1842177600-1842181200@silverdalelutheran.org
SUMMARY:Hearty Meals
DESCRIPTION:Hearty Meals is a free in-person lunch every Wednesday from noon-1pm every Wednesday.  All are welcome.
URL:https://silverdalelutheran.org/event/hearty-meals/2028-05-17/
LOCATION:Silverdale Lutheran Church\, 11701 Ridgepoint Dr NW\, Silverdale\, WA\, 98383\, United States
CATEGORIES:Community Event
END:VEVENT
BEGIN:VEVENT
DTSTART;TZID=America/Los_Angeles:20280519T080000
DTEND;TZID=America/Los_Angeles:20280519T090000
DTSTAMP:20260423T141549
CREATED:20250918T174712Z
LAST-MODIFIED:20250918T174713Z
UID:10004123-1842336000-1842339600@silverdalelutheran.org
SUMMARY:Men's Prayer Breakfast
DESCRIPTION:The Men’s Prayer Breakfast is about being fed with food for the body AND the soul. We pray for those in need\, have a short Bible study and breakfast with fellowship together. We meet every Friday morning at 8am at the Silverdale Bowling Alley. All men are welcome to please join us!
URL:https://silverdalelutheran.org/event/mens-prayer-breakfast/2028-05-19/
LOCATION:Silverdale Bowling Alley\, 10710 Silverdale Way NW\, Silverdale\, WA\, 98383
CATEGORIES:Community Event
END:VEVENT
BEGIN:VEVENT
DTSTART;TZID=America/Los_Angeles:20280522T090000
DTEND;TZID=America/Los_Angeles:20280522T120000
DTSTAMP:20260423T141549
CREATED:20250918T180712Z
LAST-MODIFIED:20250918T181755Z
UID:10004645-1842598800-1842609600@silverdalelutheran.org
SUMMARY:Ties That Bind
DESCRIPTION:A ministry started in 1969\, Silverdale Lutheran Church Quilters gather every Monday morning in the Fellowship Hall to create quilts to share with those in need of warmth. Each year the quilters will sew hundreds of quilts that are shipped to Lutheran World Relief for distribution across the world and additional quilts that are shared within our community. All are welcome to join in this creative work. Silverdale Lutheran Church supports this ministry with monetary and in-kind donations\, along with the helping hands of many volunteers.
URL:https://silverdalelutheran.org/event/ties-that-bind/2028-05-22/
LOCATION:Silverdale Lutheran Church\, 11701 Ridgepoint Dr NW\, Silverdale\, WA\, 98383\, United States
CATEGORIES:Community Event
ATTACH;FMTTYPE=image/jpeg:https://silverdalelutheran.org/wp-content/uploads/2025/09/Ties-That-Bind-1280-x-720-px.jpg
END:VEVENT
BEGIN:VEVENT
DTSTART;TZID=America/Los_Angeles:20280524T120000
DTEND;TZID=America/Los_Angeles:20280524T130000
DTSTAMP:20260423T141549
CREATED:20250917T165143Z
LAST-MODIFIED:20250918T155352Z
UID:10001771-1842782400-1842786000@silverdalelutheran.org
SUMMARY:Hearty Meals
DESCRIPTION:Hearty Meals is a free in-person lunch every Wednesday from noon-1pm every Wednesday.  All are welcome.
URL:https://silverdalelutheran.org/event/hearty-meals/2028-05-24/
LOCATION:Silverdale Lutheran Church\, 11701 Ridgepoint Dr NW\, Silverdale\, WA\, 98383\, United States
CATEGORIES:Community Event
END:VEVENT
BEGIN:VEVENT
DTSTART;TZID=America/Los_Angeles:20280526T080000
DTEND;TZID=America/Los_Angeles:20280526T090000
DTSTAMP:20260423T141549
CREATED:20250918T174712Z
LAST-MODIFIED:20250918T174713Z
UID:10004124-1842940800-1842944400@silverdalelutheran.org
SUMMARY:Men's Prayer Breakfast
DESCRIPTION:The Men’s Prayer Breakfast is about being fed with food for the body AND the soul. We pray for those in need\, have a short Bible study and breakfast with fellowship together. We meet every Friday morning at 8am at the Silverdale Bowling Alley. All men are welcome to please join us!
URL:https://silverdalelutheran.org/event/mens-prayer-breakfast/2028-05-26/
LOCATION:Silverdale Bowling Alley\, 10710 Silverdale Way NW\, Silverdale\, WA\, 98383
CATEGORIES:Community Event
END:VEVENT
BEGIN:VEVENT
DTSTART;TZID=America/Los_Angeles:20280529T090000
DTEND;TZID=America/Los_Angeles:20280529T120000
DTSTAMP:20260423T141549
CREATED:20250918T180712Z
LAST-MODIFIED:20250918T181755Z
UID:10004646-1843203600-1843214400@silverdalelutheran.org
SUMMARY:Ties That Bind
DESCRIPTION:A ministry started in 1969\, Silverdale Lutheran Church Quilters gather every Monday morning in the Fellowship Hall to create quilts to share with those in need of warmth. Each year the quilters will sew hundreds of quilts that are shipped to Lutheran World Relief for distribution across the world and additional quilts that are shared within our community. All are welcome to join in this creative work. Silverdale Lutheran Church supports this ministry with monetary and in-kind donations\, along with the helping hands of many volunteers.
URL:https://silverdalelutheran.org/event/ties-that-bind/2028-05-29/
LOCATION:Silverdale Lutheran Church\, 11701 Ridgepoint Dr NW\, Silverdale\, WA\, 98383\, United States
CATEGORIES:Community Event
ATTACH;FMTTYPE=image/jpeg:https://silverdalelutheran.org/wp-content/uploads/2025/09/Ties-That-Bind-1280-x-720-px.jpg
END:VEVENT
BEGIN:VEVENT
DTSTART;TZID=America/Los_Angeles:20280531T120000
DTEND;TZID=America/Los_Angeles:20280531T130000
DTSTAMP:20260423T141549
CREATED:20250917T165143Z
LAST-MODIFIED:20250918T155352Z
UID:10001772-1843387200-1843390800@silverdalelutheran.org
SUMMARY:Hearty Meals
DESCRIPTION:Hearty Meals is a free in-person lunch every Wednesday from noon-1pm every Wednesday.  All are welcome.
URL:https://silverdalelutheran.org/event/hearty-meals/2028-05-31/
LOCATION:Silverdale Lutheran Church\, 11701 Ridgepoint Dr NW\, Silverdale\, WA\, 98383\, United States
CATEGORIES:Community Event
END:VEVENT
BEGIN:VEVENT
DTSTART;TZID=America/Los_Angeles:20280602T080000
DTEND;TZID=America/Los_Angeles:20280602T090000
DTSTAMP:20260423T141549
CREATED:20250918T174712Z
LAST-MODIFIED:20250918T174713Z
UID:10004125-1843545600-1843549200@silverdalelutheran.org
SUMMARY:Men's Prayer Breakfast
DESCRIPTION:The Men’s Prayer Breakfast is about being fed with food for the body AND the soul. We pray for those in need\, have a short Bible study and breakfast with fellowship together. We meet every Friday morning at 8am at the Silverdale Bowling Alley. All men are welcome to please join us!
URL:https://silverdalelutheran.org/event/mens-prayer-breakfast/2028-06-02/
LOCATION:Silverdale Bowling Alley\, 10710 Silverdale Way NW\, Silverdale\, WA\, 98383
CATEGORIES:Community Event
END:VEVENT
BEGIN:VEVENT
DTSTART;TZID=America/Los_Angeles:20280605T090000
DTEND;TZID=America/Los_Angeles:20280605T120000
DTSTAMP:20260423T141549
CREATED:20250918T180712Z
LAST-MODIFIED:20250918T181755Z
UID:10004647-1843808400-1843819200@silverdalelutheran.org
SUMMARY:Ties That Bind
DESCRIPTION:A ministry started in 1969\, Silverdale Lutheran Church Quilters gather every Monday morning in the Fellowship Hall to create quilts to share with those in need of warmth. Each year the quilters will sew hundreds of quilts that are shipped to Lutheran World Relief for distribution across the world and additional quilts that are shared within our community. All are welcome to join in this creative work. Silverdale Lutheran Church supports this ministry with monetary and in-kind donations\, along with the helping hands of many volunteers.
URL:https://silverdalelutheran.org/event/ties-that-bind/2028-06-05/
LOCATION:Silverdale Lutheran Church\, 11701 Ridgepoint Dr NW\, Silverdale\, WA\, 98383\, United States
CATEGORIES:Community Event
ATTACH;FMTTYPE=image/jpeg:https://silverdalelutheran.org/wp-content/uploads/2025/09/Ties-That-Bind-1280-x-720-px.jpg
END:VEVENT
BEGIN:VEVENT
DTSTART;TZID=America/Los_Angeles:20280606T103000
DTEND;TZID=America/Los_Angeles:20280606T113000
DTSTAMP:20260423T141549
CREATED:20250929T183415Z
LAST-MODIFIED:20250929T183415Z
UID:10008497-1843900200-1843903800@silverdalelutheran.org
SUMMARY:Alzheimer's Support (St)
DESCRIPTION:
URL:https://silverdalelutheran.org/event/alzheimers-support-st/2028-06-06/
LOCATION:WA
CATEGORIES:Community Event
END:VEVENT
BEGIN:VEVENT
DTSTART;TZID=America/Los_Angeles:20280607T120000
DTEND;TZID=America/Los_Angeles:20280607T130000
DTSTAMP:20260423T141549
CREATED:20250917T165143Z
LAST-MODIFIED:20250918T155352Z
UID:10001773-1843992000-1843995600@silverdalelutheran.org
SUMMARY:Hearty Meals
DESCRIPTION:Hearty Meals is a free in-person lunch every Wednesday from noon-1pm every Wednesday.  All are welcome.
URL:https://silverdalelutheran.org/event/hearty-meals/2028-06-07/
LOCATION:Silverdale Lutheran Church\, 11701 Ridgepoint Dr NW\, Silverdale\, WA\, 98383\, United States
CATEGORIES:Community Event
END:VEVENT
BEGIN:VEVENT
DTSTART;TZID=America/Los_Angeles:20280607T181500
DTEND;TZID=America/Los_Angeles:20280607T191500
DTSTAMP:20260423T141549
CREATED:20250929T181512Z
LAST-MODIFIED:20250929T181512Z
UID:10006689-1844014500-1844018100@silverdalelutheran.org
SUMMARY:Al Anon (27)
DESCRIPTION:Monthly on the first Wednesday
URL:https://silverdalelutheran.org/event/al-anon-27-2/2028-06-07/
LOCATION:WA
CATEGORIES:Community Event
END:VEVENT
BEGIN:VEVENT
DTSTART;TZID=America/Los_Angeles:20280609T080000
DTEND;TZID=America/Los_Angeles:20280609T090000
DTSTAMP:20260423T141549
CREATED:20250918T174712Z
LAST-MODIFIED:20250918T174713Z
UID:10004126-1844150400-1844154000@silverdalelutheran.org
SUMMARY:Men's Prayer Breakfast
DESCRIPTION:The Men’s Prayer Breakfast is about being fed with food for the body AND the soul. We pray for those in need\, have a short Bible study and breakfast with fellowship together. We meet every Friday morning at 8am at the Silverdale Bowling Alley. All men are welcome to please join us!
URL:https://silverdalelutheran.org/event/mens-prayer-breakfast/2028-06-09/
LOCATION:Silverdale Bowling Alley\, 10710 Silverdale Way NW\, Silverdale\, WA\, 98383
CATEGORIES:Community Event
END:VEVENT
BEGIN:VEVENT
DTSTART;TZID=America/Los_Angeles:20280612T090000
DTEND;TZID=America/Los_Angeles:20280612T120000
DTSTAMP:20260423T141549
CREATED:20250918T180712Z
LAST-MODIFIED:20250918T181755Z
UID:10004648-1844413200-1844424000@silverdalelutheran.org
SUMMARY:Ties That Bind
DESCRIPTION:A ministry started in 1969\, Silverdale Lutheran Church Quilters gather every Monday morning in the Fellowship Hall to create quilts to share with those in need of warmth. Each year the quilters will sew hundreds of quilts that are shipped to Lutheran World Relief for distribution across the world and additional quilts that are shared within our community. All are welcome to join in this creative work. Silverdale Lutheran Church supports this ministry with monetary and in-kind donations\, along with the helping hands of many volunteers.
URL:https://silverdalelutheran.org/event/ties-that-bind/2028-06-12/
LOCATION:Silverdale Lutheran Church\, 11701 Ridgepoint Dr NW\, Silverdale\, WA\, 98383\, United States
CATEGORIES:Community Event
ATTACH;FMTTYPE=image/jpeg:https://silverdalelutheran.org/wp-content/uploads/2025/09/Ties-That-Bind-1280-x-720-px.jpg
END:VEVENT
BEGIN:VEVENT
DTSTART;TZID=America/Los_Angeles:20280614T120000
DTEND;TZID=America/Los_Angeles:20280614T130000
DTSTAMP:20260423T141549
CREATED:20250917T165143Z
LAST-MODIFIED:20250918T155352Z
UID:10001774-1844596800-1844600400@silverdalelutheran.org
SUMMARY:Hearty Meals
DESCRIPTION:Hearty Meals is a free in-person lunch every Wednesday from noon-1pm every Wednesday.  All are welcome.
URL:https://silverdalelutheran.org/event/hearty-meals/2028-06-14/
LOCATION:Silverdale Lutheran Church\, 11701 Ridgepoint Dr NW\, Silverdale\, WA\, 98383\, United States
CATEGORIES:Community Event
END:VEVENT
BEGIN:VEVENT
DTSTART;TZID=America/Los_Angeles:20280616T080000
DTEND;TZID=America/Los_Angeles:20280616T090000
DTSTAMP:20260423T141549
CREATED:20250918T174712Z
LAST-MODIFIED:20250918T174713Z
UID:10004127-1844755200-1844758800@silverdalelutheran.org
SUMMARY:Men's Prayer Breakfast
DESCRIPTION:The Men’s Prayer Breakfast is about being fed with food for the body AND the soul. We pray for those in need\, have a short Bible study and breakfast with fellowship together. We meet every Friday morning at 8am at the Silverdale Bowling Alley. All men are welcome to please join us!
URL:https://silverdalelutheran.org/event/mens-prayer-breakfast/2028-06-16/
LOCATION:Silverdale Bowling Alley\, 10710 Silverdale Way NW\, Silverdale\, WA\, 98383
CATEGORIES:Community Event
END:VEVENT
BEGIN:VEVENT
DTSTART;TZID=America/Los_Angeles:20280619T090000
DTEND;TZID=America/Los_Angeles:20280619T120000
DTSTAMP:20260423T141549
CREATED:20250918T180712Z
LAST-MODIFIED:20250918T181755Z
UID:10004649-1845018000-1845028800@silverdalelutheran.org
SUMMARY:Ties That Bind
DESCRIPTION:A ministry started in 1969\, Silverdale Lutheran Church Quilters gather every Monday morning in the Fellowship Hall to create quilts to share with those in need of warmth. Each year the quilters will sew hundreds of quilts that are shipped to Lutheran World Relief for distribution across the world and additional quilts that are shared within our community. All are welcome to join in this creative work. Silverdale Lutheran Church supports this ministry with monetary and in-kind donations\, along with the helping hands of many volunteers.
URL:https://silverdalelutheran.org/event/ties-that-bind/2028-06-19/
LOCATION:Silverdale Lutheran Church\, 11701 Ridgepoint Dr NW\, Silverdale\, WA\, 98383\, United States
CATEGORIES:Community Event
ATTACH;FMTTYPE=image/jpeg:https://silverdalelutheran.org/wp-content/uploads/2025/09/Ties-That-Bind-1280-x-720-px.jpg
END:VEVENT
BEGIN:VEVENT
DTSTART;TZID=America/Los_Angeles:20280621T120000
DTEND;TZID=America/Los_Angeles:20280621T130000
DTSTAMP:20260423T141549
CREATED:20250917T165143Z
LAST-MODIFIED:20250918T155352Z
UID:10001775-1845201600-1845205200@silverdalelutheran.org
SUMMARY:Hearty Meals
DESCRIPTION:Hearty Meals is a free in-person lunch every Wednesday from noon-1pm every Wednesday.  All are welcome.
URL:https://silverdalelutheran.org/event/hearty-meals/2028-06-21/
LOCATION:Silverdale Lutheran Church\, 11701 Ridgepoint Dr NW\, Silverdale\, WA\, 98383\, United States
CATEGORIES:Community Event
END:VEVENT
BEGIN:VEVENT
DTSTART;TZID=America/Los_Angeles:20280623T080000
DTEND;TZID=America/Los_Angeles:20280623T090000
DTSTAMP:20260423T141549
CREATED:20250918T174712Z
LAST-MODIFIED:20250918T174713Z
UID:10004128-1845360000-1845363600@silverdalelutheran.org
SUMMARY:Men's Prayer Breakfast
DESCRIPTION:The Men’s Prayer Breakfast is about being fed with food for the body AND the soul. We pray for those in need\, have a short Bible study and breakfast with fellowship together. We meet every Friday morning at 8am at the Silverdale Bowling Alley. All men are welcome to please join us!
URL:https://silverdalelutheran.org/event/mens-prayer-breakfast/2028-06-23/
LOCATION:Silverdale Bowling Alley\, 10710 Silverdale Way NW\, Silverdale\, WA\, 98383
CATEGORIES:Community Event
END:VEVENT
BEGIN:VEVENT
DTSTART;TZID=America/Los_Angeles:20280626T090000
DTEND;TZID=America/Los_Angeles:20280626T120000
DTSTAMP:20260423T141549
CREATED:20250918T180712Z
LAST-MODIFIED:20250918T181755Z
UID:10004650-1845622800-1845633600@silverdalelutheran.org
SUMMARY:Ties That Bind
DESCRIPTION:A ministry started in 1969\, Silverdale Lutheran Church Quilters gather every Monday morning in the Fellowship Hall to create quilts to share with those in need of warmth. Each year the quilters will sew hundreds of quilts that are shipped to Lutheran World Relief for distribution across the world and additional quilts that are shared within our community. All are welcome to join in this creative work. Silverdale Lutheran Church supports this ministry with monetary and in-kind donations\, along with the helping hands of many volunteers.
URL:https://silverdalelutheran.org/event/ties-that-bind/2028-06-26/
LOCATION:Silverdale Lutheran Church\, 11701 Ridgepoint Dr NW\, Silverdale\, WA\, 98383\, United States
CATEGORIES:Community Event
ATTACH;FMTTYPE=image/jpeg:https://silverdalelutheran.org/wp-content/uploads/2025/09/Ties-That-Bind-1280-x-720-px.jpg
END:VEVENT
BEGIN:VEVENT
DTSTART;TZID=America/Los_Angeles:20280628T120000
DTEND;TZID=America/Los_Angeles:20280628T130000
DTSTAMP:20260423T141549
CREATED:20250917T165143Z
LAST-MODIFIED:20250918T155352Z
UID:10001776-1845806400-1845810000@silverdalelutheran.org
SUMMARY:Hearty Meals
DESCRIPTION:Hearty Meals is a free in-person lunch every Wednesday from noon-1pm every Wednesday.  All are welcome.
URL:https://silverdalelutheran.org/event/hearty-meals/2028-06-28/
LOCATION:Silverdale Lutheran Church\, 11701 Ridgepoint Dr NW\, Silverdale\, WA\, 98383\, United States
CATEGORIES:Community Event
END:VEVENT
BEGIN:VEVENT
DTSTART;TZID=America/Los_Angeles:20280630T080000
DTEND;TZID=America/Los_Angeles:20280630T090000
DTSTAMP:20260423T141549
CREATED:20250918T174712Z
LAST-MODIFIED:20250918T174713Z
UID:10004129-1845964800-1845968400@silverdalelutheran.org
SUMMARY:Men's Prayer Breakfast
DESCRIPTION:The Men’s Prayer Breakfast is about being fed with food for the body AND the soul. We pray for those in need\, have a short Bible study and breakfast with fellowship together. We meet every Friday morning at 8am at the Silverdale Bowling Alley. All men are welcome to please join us!
URL:https://silverdalelutheran.org/event/mens-prayer-breakfast/2028-06-30/
LOCATION:Silverdale Bowling Alley\, 10710 Silverdale Way NW\, Silverdale\, WA\, 98383
CATEGORIES:Community Event
END:VEVENT
BEGIN:VEVENT
DTSTART;TZID=America/Los_Angeles:20280703T090000
DTEND;TZID=America/Los_Angeles:20280703T120000
DTSTAMP:20260423T141549
CREATED:20250918T180712Z
LAST-MODIFIED:20250918T181755Z
UID:10004651-1846227600-1846238400@silverdalelutheran.org
SUMMARY:Ties That Bind
DESCRIPTION:A ministry started in 1969\, Silverdale Lutheran Church Quilters gather every Monday morning in the Fellowship Hall to create quilts to share with those in need of warmth. Each year the quilters will sew hundreds of quilts that are shipped to Lutheran World Relief for distribution across the world and additional quilts that are shared within our community. All are welcome to join in this creative work. Silverdale Lutheran Church supports this ministry with monetary and in-kind donations\, along with the helping hands of many volunteers.
URL:https://silverdalelutheran.org/event/ties-that-bind/2028-07-03/
LOCATION:Silverdale Lutheran Church\, 11701 Ridgepoint Dr NW\, Silverdale\, WA\, 98383\, United States
CATEGORIES:Community Event
ATTACH;FMTTYPE=image/jpeg:https://silverdalelutheran.org/wp-content/uploads/2025/09/Ties-That-Bind-1280-x-720-px.jpg
END:VEVENT
BEGIN:VEVENT
DTSTART;TZID=America/Los_Angeles:20280704T103000
DTEND;TZID=America/Los_Angeles:20280704T113000
DTSTAMP:20260423T141549
CREATED:20250929T183415Z
LAST-MODIFIED:20250929T183415Z
UID:10008498-1846319400-1846323000@silverdalelutheran.org
SUMMARY:Alzheimer's Support (St)
DESCRIPTION:
URL:https://silverdalelutheran.org/event/alzheimers-support-st/2028-07-04/
LOCATION:WA
CATEGORIES:Community Event
END:VEVENT
BEGIN:VEVENT
DTSTART;TZID=America/Los_Angeles:20280705T120000
DTEND;TZID=America/Los_Angeles:20280705T130000
DTSTAMP:20260423T141549
CREATED:20250917T165143Z
LAST-MODIFIED:20250918T155352Z
UID:10001777-1846411200-1846414800@silverdalelutheran.org
SUMMARY:Hearty Meals
DESCRIPTION:Hearty Meals is a free in-person lunch every Wednesday from noon-1pm every Wednesday.  All are welcome.
URL:https://silverdalelutheran.org/event/hearty-meals/2028-07-05/
LOCATION:Silverdale Lutheran Church\, 11701 Ridgepoint Dr NW\, Silverdale\, WA\, 98383\, United States
CATEGORIES:Community Event
END:VEVENT
BEGIN:VEVENT
DTSTART;TZID=America/Los_Angeles:20280705T181500
DTEND;TZID=America/Los_Angeles:20280705T191500
DTSTAMP:20260423T141549
CREATED:20250929T181512Z
LAST-MODIFIED:20250929T181512Z
UID:10006690-1846433700-1846437300@silverdalelutheran.org
SUMMARY:Al Anon (27)
DESCRIPTION:Monthly on the first Wednesday
URL:https://silverdalelutheran.org/event/al-anon-27-2/2028-07-05/
LOCATION:WA
CATEGORIES:Community Event
END:VEVENT
BEGIN:VEVENT
DTSTART;TZID=America/Los_Angeles:20280707T080000
DTEND;TZID=America/Los_Angeles:20280707T090000
DTSTAMP:20260423T141549
CREATED:20250918T174712Z
LAST-MODIFIED:20250918T174713Z
UID:10004130-1846569600-1846573200@silverdalelutheran.org
SUMMARY:Men's Prayer Breakfast
DESCRIPTION:The Men’s Prayer Breakfast is about being fed with food for the body AND the soul. We pray for those in need\, have a short Bible study and breakfast with fellowship together. We meet every Friday morning at 8am at the Silverdale Bowling Alley. All men are welcome to please join us!
URL:https://silverdalelutheran.org/event/mens-prayer-breakfast/2028-07-07/
LOCATION:Silverdale Bowling Alley\, 10710 Silverdale Way NW\, Silverdale\, WA\, 98383
CATEGORIES:Community Event
END:VEVENT
END:VCALENDAR