BEGIN:VCALENDAR
VERSION:2.0
PRODID:-//Silverdale Lutheran Church - ECPv6.15.12.2//NONSGML v1.0//EN
CALSCALE:GREGORIAN
METHOD:PUBLISH
X-ORIGINAL-URL:https://silverdalelutheran.org
X-WR-CALDESC:Events for Silverdale Lutheran Church
REFRESH-INTERVAL;VALUE=DURATION:PT1H
X-Robots-Tag:noindex
X-PUBLISHED-TTL:PT1H
BEGIN:VTIMEZONE
TZID:America/Los_Angeles
BEGIN:DAYLIGHT
TZOFFSETFROM:-0800
TZOFFSETTO:-0700
TZNAME:PDT
DTSTART:20260308T100000
END:DAYLIGHT
BEGIN:STANDARD
TZOFFSETFROM:-0700
TZOFFSETTO:-0800
TZNAME:PST
DTSTART:20261101T090000
END:STANDARD
BEGIN:DAYLIGHT
TZOFFSETFROM:-0800
TZOFFSETTO:-0700
TZNAME:PDT
DTSTART:20270314T100000
END:DAYLIGHT
BEGIN:STANDARD
TZOFFSETFROM:-0700
TZOFFSETTO:-0800
TZNAME:PST
DTSTART:20271107T090000
END:STANDARD
BEGIN:DAYLIGHT
TZOFFSETFROM:-0800
TZOFFSETTO:-0700
TZNAME:PDT
DTSTART:20280312T100000
END:DAYLIGHT
BEGIN:STANDARD
TZOFFSETFROM:-0700
TZOFFSETTO:-0800
TZNAME:PST
DTSTART:20281105T090000
END:STANDARD
END:VTIMEZONE
BEGIN:VEVENT
DTSTART;TZID=America/Los_Angeles:20270310T120000
DTEND;TZID=America/Los_Angeles:20270310T130000
DTSTAMP:20260422T193057
CREATED:20250917T165143Z
LAST-MODIFIED:20250918T155352Z
UID:10001708-1804680000-1804683600@silverdalelutheran.org
SUMMARY:Hearty Meals
DESCRIPTION:Hearty Meals is a free in-person lunch every Wednesday from noon-1pm every Wednesday.  All are welcome.
URL:https://silverdalelutheran.org/event/hearty-meals/2027-03-10/
LOCATION:Silverdale Lutheran Church\, 11701 Ridgepoint Dr NW\, Silverdale\, WA\, 98383\, United States
CATEGORIES:Community Event
END:VEVENT
BEGIN:VEVENT
DTSTART;TZID=America/Los_Angeles:20270312T080000
DTEND;TZID=America/Los_Angeles:20270312T090000
DTSTAMP:20260422T193057
CREATED:20250918T174712Z
LAST-MODIFIED:20250918T174713Z
UID:10004061-1804838400-1804842000@silverdalelutheran.org
SUMMARY:Men's Prayer Breakfast
DESCRIPTION:The Men’s Prayer Breakfast is about being fed with food for the body AND the soul. We pray for those in need\, have a short Bible study and breakfast with fellowship together. We meet every Friday morning at 8am at the Silverdale Bowling Alley. All men are welcome to please join us!
URL:https://silverdalelutheran.org/event/mens-prayer-breakfast/2027-03-12/
LOCATION:Silverdale Bowling Alley\, 10710 Silverdale Way NW\, Silverdale\, WA\, 98383
CATEGORIES:Community Event
END:VEVENT
BEGIN:VEVENT
DTSTART;TZID=America/Los_Angeles:20270315T090000
DTEND;TZID=America/Los_Angeles:20270315T120000
DTSTAMP:20260422T193057
CREATED:20250918T180712Z
LAST-MODIFIED:20250918T181755Z
UID:10004583-1805101200-1805112000@silverdalelutheran.org
SUMMARY:Ties That Bind
DESCRIPTION:A ministry started in 1969\, Silverdale Lutheran Church Quilters gather every Monday morning in the Fellowship Hall to create quilts to share with those in need of warmth. Each year the quilters will sew hundreds of quilts that are shipped to Lutheran World Relief for distribution across the world and additional quilts that are shared within our community. All are welcome to join in this creative work. Silverdale Lutheran Church supports this ministry with monetary and in-kind donations\, along with the helping hands of many volunteers.
URL:https://silverdalelutheran.org/event/ties-that-bind/2027-03-15/
LOCATION:Silverdale Lutheran Church\, 11701 Ridgepoint Dr NW\, Silverdale\, WA\, 98383\, United States
CATEGORIES:Community Event
ATTACH;FMTTYPE=image/jpeg:https://silverdalelutheran.org/wp-content/uploads/2025/09/Ties-That-Bind-1280-x-720-px.jpg
END:VEVENT
BEGIN:VEVENT
DTSTART;TZID=America/Los_Angeles:20270317T120000
DTEND;TZID=America/Los_Angeles:20270317T130000
DTSTAMP:20260422T193057
CREATED:20250917T165143Z
LAST-MODIFIED:20250918T155352Z
UID:10001709-1805284800-1805288400@silverdalelutheran.org
SUMMARY:Hearty Meals
DESCRIPTION:Hearty Meals is a free in-person lunch every Wednesday from noon-1pm every Wednesday.  All are welcome.
URL:https://silverdalelutheran.org/event/hearty-meals/2027-03-17/
LOCATION:Silverdale Lutheran Church\, 11701 Ridgepoint Dr NW\, Silverdale\, WA\, 98383\, United States
CATEGORIES:Community Event
END:VEVENT
BEGIN:VEVENT
DTSTART;TZID=America/Los_Angeles:20270319T080000
DTEND;TZID=America/Los_Angeles:20270319T090000
DTSTAMP:20260422T193057
CREATED:20250918T174712Z
LAST-MODIFIED:20250918T174713Z
UID:10004062-1805443200-1805446800@silverdalelutheran.org
SUMMARY:Men's Prayer Breakfast
DESCRIPTION:The Men’s Prayer Breakfast is about being fed with food for the body AND the soul. We pray for those in need\, have a short Bible study and breakfast with fellowship together. We meet every Friday morning at 8am at the Silverdale Bowling Alley. All men are welcome to please join us!
URL:https://silverdalelutheran.org/event/mens-prayer-breakfast/2027-03-19/
LOCATION:Silverdale Bowling Alley\, 10710 Silverdale Way NW\, Silverdale\, WA\, 98383
CATEGORIES:Community Event
END:VEVENT
BEGIN:VEVENT
DTSTART;TZID=America/Los_Angeles:20270322T090000
DTEND;TZID=America/Los_Angeles:20270322T120000
DTSTAMP:20260422T193057
CREATED:20250918T180712Z
LAST-MODIFIED:20250918T181755Z
UID:10004584-1805706000-1805716800@silverdalelutheran.org
SUMMARY:Ties That Bind
DESCRIPTION:A ministry started in 1969\, Silverdale Lutheran Church Quilters gather every Monday morning in the Fellowship Hall to create quilts to share with those in need of warmth. Each year the quilters will sew hundreds of quilts that are shipped to Lutheran World Relief for distribution across the world and additional quilts that are shared within our community. All are welcome to join in this creative work. Silverdale Lutheran Church supports this ministry with monetary and in-kind donations\, along with the helping hands of many volunteers.
URL:https://silverdalelutheran.org/event/ties-that-bind/2027-03-22/
LOCATION:Silverdale Lutheran Church\, 11701 Ridgepoint Dr NW\, Silverdale\, WA\, 98383\, United States
CATEGORIES:Community Event
ATTACH;FMTTYPE=image/jpeg:https://silverdalelutheran.org/wp-content/uploads/2025/09/Ties-That-Bind-1280-x-720-px.jpg
END:VEVENT
BEGIN:VEVENT
DTSTART;TZID=America/Los_Angeles:20270324T120000
DTEND;TZID=America/Los_Angeles:20270324T130000
DTSTAMP:20260422T193057
CREATED:20250917T165143Z
LAST-MODIFIED:20250918T155352Z
UID:10001710-1805889600-1805893200@silverdalelutheran.org
SUMMARY:Hearty Meals
DESCRIPTION:Hearty Meals is a free in-person lunch every Wednesday from noon-1pm every Wednesday.  All are welcome.
URL:https://silverdalelutheran.org/event/hearty-meals/2027-03-24/
LOCATION:Silverdale Lutheran Church\, 11701 Ridgepoint Dr NW\, Silverdale\, WA\, 98383\, United States
CATEGORIES:Community Event
END:VEVENT
BEGIN:VEVENT
DTSTART;TZID=America/Los_Angeles:20270326T080000
DTEND;TZID=America/Los_Angeles:20270326T090000
DTSTAMP:20260422T193057
CREATED:20250918T174712Z
LAST-MODIFIED:20250918T174713Z
UID:10004063-1806048000-1806051600@silverdalelutheran.org
SUMMARY:Men's Prayer Breakfast
DESCRIPTION:The Men’s Prayer Breakfast is about being fed with food for the body AND the soul. We pray for those in need\, have a short Bible study and breakfast with fellowship together. We meet every Friday morning at 8am at the Silverdale Bowling Alley. All men are welcome to please join us!
URL:https://silverdalelutheran.org/event/mens-prayer-breakfast/2027-03-26/
LOCATION:Silverdale Bowling Alley\, 10710 Silverdale Way NW\, Silverdale\, WA\, 98383
CATEGORIES:Community Event
END:VEVENT
BEGIN:VEVENT
DTSTART;TZID=America/Los_Angeles:20270329T090000
DTEND;TZID=America/Los_Angeles:20270329T120000
DTSTAMP:20260422T193057
CREATED:20250918T180712Z
LAST-MODIFIED:20250918T181755Z
UID:10004585-1806310800-1806321600@silverdalelutheran.org
SUMMARY:Ties That Bind
DESCRIPTION:A ministry started in 1969\, Silverdale Lutheran Church Quilters gather every Monday morning in the Fellowship Hall to create quilts to share with those in need of warmth. Each year the quilters will sew hundreds of quilts that are shipped to Lutheran World Relief for distribution across the world and additional quilts that are shared within our community. All are welcome to join in this creative work. Silverdale Lutheran Church supports this ministry with monetary and in-kind donations\, along with the helping hands of many volunteers.
URL:https://silverdalelutheran.org/event/ties-that-bind/2027-03-29/
LOCATION:Silverdale Lutheran Church\, 11701 Ridgepoint Dr NW\, Silverdale\, WA\, 98383\, United States
CATEGORIES:Community Event
ATTACH;FMTTYPE=image/jpeg:https://silverdalelutheran.org/wp-content/uploads/2025/09/Ties-That-Bind-1280-x-720-px.jpg
END:VEVENT
BEGIN:VEVENT
DTSTART;TZID=America/Los_Angeles:20270331T120000
DTEND;TZID=America/Los_Angeles:20270331T130000
DTSTAMP:20260422T193057
CREATED:20250917T165143Z
LAST-MODIFIED:20250918T155352Z
UID:10001711-1806494400-1806498000@silverdalelutheran.org
SUMMARY:Hearty Meals
DESCRIPTION:Hearty Meals is a free in-person lunch every Wednesday from noon-1pm every Wednesday.  All are welcome.
URL:https://silverdalelutheran.org/event/hearty-meals/2027-03-31/
LOCATION:Silverdale Lutheran Church\, 11701 Ridgepoint Dr NW\, Silverdale\, WA\, 98383\, United States
CATEGORIES:Community Event
END:VEVENT
BEGIN:VEVENT
DTSTART;TZID=America/Los_Angeles:20270402T080000
DTEND;TZID=America/Los_Angeles:20270402T090000
DTSTAMP:20260422T193057
CREATED:20250918T174712Z
LAST-MODIFIED:20250918T174713Z
UID:10004064-1806652800-1806656400@silverdalelutheran.org
SUMMARY:Men's Prayer Breakfast
DESCRIPTION:The Men’s Prayer Breakfast is about being fed with food for the body AND the soul. We pray for those in need\, have a short Bible study and breakfast with fellowship together. We meet every Friday morning at 8am at the Silverdale Bowling Alley. All men are welcome to please join us!
URL:https://silverdalelutheran.org/event/mens-prayer-breakfast/2027-04-02/
LOCATION:Silverdale Bowling Alley\, 10710 Silverdale Way NW\, Silverdale\, WA\, 98383
CATEGORIES:Community Event
END:VEVENT
BEGIN:VEVENT
DTSTART;TZID=America/Los_Angeles:20270405T090000
DTEND;TZID=America/Los_Angeles:20270405T120000
DTSTAMP:20260422T193057
CREATED:20250918T180712Z
LAST-MODIFIED:20250918T181755Z
UID:10004586-1806915600-1806926400@silverdalelutheran.org
SUMMARY:Ties That Bind
DESCRIPTION:A ministry started in 1969\, Silverdale Lutheran Church Quilters gather every Monday morning in the Fellowship Hall to create quilts to share with those in need of warmth. Each year the quilters will sew hundreds of quilts that are shipped to Lutheran World Relief for distribution across the world and additional quilts that are shared within our community. All are welcome to join in this creative work. Silverdale Lutheran Church supports this ministry with monetary and in-kind donations\, along with the helping hands of many volunteers.
URL:https://silverdalelutheran.org/event/ties-that-bind/2027-04-05/
LOCATION:Silverdale Lutheran Church\, 11701 Ridgepoint Dr NW\, Silverdale\, WA\, 98383\, United States
CATEGORIES:Community Event
ATTACH;FMTTYPE=image/jpeg:https://silverdalelutheran.org/wp-content/uploads/2025/09/Ties-That-Bind-1280-x-720-px.jpg
END:VEVENT
BEGIN:VEVENT
DTSTART;TZID=America/Los_Angeles:20270406T103000
DTEND;TZID=America/Los_Angeles:20270406T113000
DTSTAMP:20260422T193057
CREATED:20250929T183415Z
LAST-MODIFIED:20250929T183415Z
UID:10008483-1807007400-1807011000@silverdalelutheran.org
SUMMARY:Alzheimer's Support (St)
DESCRIPTION:
URL:https://silverdalelutheran.org/event/alzheimers-support-st/2027-04-06/
LOCATION:WA
CATEGORIES:Community Event
END:VEVENT
BEGIN:VEVENT
DTSTART;TZID=America/Los_Angeles:20270407T120000
DTEND;TZID=America/Los_Angeles:20270407T130000
DTSTAMP:20260422T193057
CREATED:20250917T165143Z
LAST-MODIFIED:20250918T155352Z
UID:10001712-1807099200-1807102800@silverdalelutheran.org
SUMMARY:Hearty Meals
DESCRIPTION:Hearty Meals is a free in-person lunch every Wednesday from noon-1pm every Wednesday.  All are welcome.
URL:https://silverdalelutheran.org/event/hearty-meals/2027-04-07/
LOCATION:Silverdale Lutheran Church\, 11701 Ridgepoint Dr NW\, Silverdale\, WA\, 98383\, United States
CATEGORIES:Community Event
END:VEVENT
BEGIN:VEVENT
DTSTART;TZID=America/Los_Angeles:20270407T181500
DTEND;TZID=America/Los_Angeles:20270407T191500
DTSTAMP:20260422T193057
CREATED:20250929T181512Z
LAST-MODIFIED:20250929T181512Z
UID:10006675-1807121700-1807125300@silverdalelutheran.org
SUMMARY:Al Anon (27)
DESCRIPTION:Monthly on the first Wednesday
URL:https://silverdalelutheran.org/event/al-anon-27-2/2027-04-07/
LOCATION:WA
CATEGORIES:Community Event
END:VEVENT
BEGIN:VEVENT
DTSTART;TZID=America/Los_Angeles:20270409T080000
DTEND;TZID=America/Los_Angeles:20270409T090000
DTSTAMP:20260422T193057
CREATED:20250918T174712Z
LAST-MODIFIED:20250918T174713Z
UID:10004065-1807257600-1807261200@silverdalelutheran.org
SUMMARY:Men's Prayer Breakfast
DESCRIPTION:The Men’s Prayer Breakfast is about being fed with food for the body AND the soul. We pray for those in need\, have a short Bible study and breakfast with fellowship together. We meet every Friday morning at 8am at the Silverdale Bowling Alley. All men are welcome to please join us!
URL:https://silverdalelutheran.org/event/mens-prayer-breakfast/2027-04-09/
LOCATION:Silverdale Bowling Alley\, 10710 Silverdale Way NW\, Silverdale\, WA\, 98383
CATEGORIES:Community Event
END:VEVENT
BEGIN:VEVENT
DTSTART;TZID=America/Los_Angeles:20270412T090000
DTEND;TZID=America/Los_Angeles:20270412T120000
DTSTAMP:20260422T193057
CREATED:20250918T180712Z
LAST-MODIFIED:20250918T181755Z
UID:10004587-1807520400-1807531200@silverdalelutheran.org
SUMMARY:Ties That Bind
DESCRIPTION:A ministry started in 1969\, Silverdale Lutheran Church Quilters gather every Monday morning in the Fellowship Hall to create quilts to share with those in need of warmth. Each year the quilters will sew hundreds of quilts that are shipped to Lutheran World Relief for distribution across the world and additional quilts that are shared within our community. All are welcome to join in this creative work. Silverdale Lutheran Church supports this ministry with monetary and in-kind donations\, along with the helping hands of many volunteers.
URL:https://silverdalelutheran.org/event/ties-that-bind/2027-04-12/
LOCATION:Silverdale Lutheran Church\, 11701 Ridgepoint Dr NW\, Silverdale\, WA\, 98383\, United States
CATEGORIES:Community Event
ATTACH;FMTTYPE=image/jpeg:https://silverdalelutheran.org/wp-content/uploads/2025/09/Ties-That-Bind-1280-x-720-px.jpg
END:VEVENT
BEGIN:VEVENT
DTSTART;TZID=America/Los_Angeles:20270414T120000
DTEND;TZID=America/Los_Angeles:20270414T130000
DTSTAMP:20260422T193057
CREATED:20250917T165143Z
LAST-MODIFIED:20250918T155352Z
UID:10001713-1807704000-1807707600@silverdalelutheran.org
SUMMARY:Hearty Meals
DESCRIPTION:Hearty Meals is a free in-person lunch every Wednesday from noon-1pm every Wednesday.  All are welcome.
URL:https://silverdalelutheran.org/event/hearty-meals/2027-04-14/
LOCATION:Silverdale Lutheran Church\, 11701 Ridgepoint Dr NW\, Silverdale\, WA\, 98383\, United States
CATEGORIES:Community Event
END:VEVENT
BEGIN:VEVENT
DTSTART;TZID=America/Los_Angeles:20270416T080000
DTEND;TZID=America/Los_Angeles:20270416T090000
DTSTAMP:20260422T193057
CREATED:20250918T174712Z
LAST-MODIFIED:20250918T174713Z
UID:10004066-1807862400-1807866000@silverdalelutheran.org
SUMMARY:Men's Prayer Breakfast
DESCRIPTION:The Men’s Prayer Breakfast is about being fed with food for the body AND the soul. We pray for those in need\, have a short Bible study and breakfast with fellowship together. We meet every Friday morning at 8am at the Silverdale Bowling Alley. All men are welcome to please join us!
URL:https://silverdalelutheran.org/event/mens-prayer-breakfast/2027-04-16/
LOCATION:Silverdale Bowling Alley\, 10710 Silverdale Way NW\, Silverdale\, WA\, 98383
CATEGORIES:Community Event
END:VEVENT
BEGIN:VEVENT
DTSTART;TZID=America/Los_Angeles:20270419T090000
DTEND;TZID=America/Los_Angeles:20270419T120000
DTSTAMP:20260422T193057
CREATED:20250918T180712Z
LAST-MODIFIED:20250918T181755Z
UID:10004588-1808125200-1808136000@silverdalelutheran.org
SUMMARY:Ties That Bind
DESCRIPTION:A ministry started in 1969\, Silverdale Lutheran Church Quilters gather every Monday morning in the Fellowship Hall to create quilts to share with those in need of warmth. Each year the quilters will sew hundreds of quilts that are shipped to Lutheran World Relief for distribution across the world and additional quilts that are shared within our community. All are welcome to join in this creative work. Silverdale Lutheran Church supports this ministry with monetary and in-kind donations\, along with the helping hands of many volunteers.
URL:https://silverdalelutheran.org/event/ties-that-bind/2027-04-19/
LOCATION:Silverdale Lutheran Church\, 11701 Ridgepoint Dr NW\, Silverdale\, WA\, 98383\, United States
CATEGORIES:Community Event
ATTACH;FMTTYPE=image/jpeg:https://silverdalelutheran.org/wp-content/uploads/2025/09/Ties-That-Bind-1280-x-720-px.jpg
END:VEVENT
BEGIN:VEVENT
DTSTART;TZID=America/Los_Angeles:20270421T120000
DTEND;TZID=America/Los_Angeles:20270421T130000
DTSTAMP:20260422T193057
CREATED:20250917T165143Z
LAST-MODIFIED:20250918T155352Z
UID:10001714-1808308800-1808312400@silverdalelutheran.org
SUMMARY:Hearty Meals
DESCRIPTION:Hearty Meals is a free in-person lunch every Wednesday from noon-1pm every Wednesday.  All are welcome.
URL:https://silverdalelutheran.org/event/hearty-meals/2027-04-21/
LOCATION:Silverdale Lutheran Church\, 11701 Ridgepoint Dr NW\, Silverdale\, WA\, 98383\, United States
CATEGORIES:Community Event
END:VEVENT
BEGIN:VEVENT
DTSTART;TZID=America/Los_Angeles:20270423T080000
DTEND;TZID=America/Los_Angeles:20270423T090000
DTSTAMP:20260422T193057
CREATED:20250918T174712Z
LAST-MODIFIED:20250918T174713Z
UID:10004067-1808467200-1808470800@silverdalelutheran.org
SUMMARY:Men's Prayer Breakfast
DESCRIPTION:The Men’s Prayer Breakfast is about being fed with food for the body AND the soul. We pray for those in need\, have a short Bible study and breakfast with fellowship together. We meet every Friday morning at 8am at the Silverdale Bowling Alley. All men are welcome to please join us!
URL:https://silverdalelutheran.org/event/mens-prayer-breakfast/2027-04-23/
LOCATION:Silverdale Bowling Alley\, 10710 Silverdale Way NW\, Silverdale\, WA\, 98383
CATEGORIES:Community Event
END:VEVENT
BEGIN:VEVENT
DTSTART;TZID=America/Los_Angeles:20270426T090000
DTEND;TZID=America/Los_Angeles:20270426T120000
DTSTAMP:20260422T193057
CREATED:20250918T180712Z
LAST-MODIFIED:20250918T181755Z
UID:10004589-1808730000-1808740800@silverdalelutheran.org
SUMMARY:Ties That Bind
DESCRIPTION:A ministry started in 1969\, Silverdale Lutheran Church Quilters gather every Monday morning in the Fellowship Hall to create quilts to share with those in need of warmth. Each year the quilters will sew hundreds of quilts that are shipped to Lutheran World Relief for distribution across the world and additional quilts that are shared within our community. All are welcome to join in this creative work. Silverdale Lutheran Church supports this ministry with monetary and in-kind donations\, along with the helping hands of many volunteers.
URL:https://silverdalelutheran.org/event/ties-that-bind/2027-04-26/
LOCATION:Silverdale Lutheran Church\, 11701 Ridgepoint Dr NW\, Silverdale\, WA\, 98383\, United States
CATEGORIES:Community Event
ATTACH;FMTTYPE=image/jpeg:https://silverdalelutheran.org/wp-content/uploads/2025/09/Ties-That-Bind-1280-x-720-px.jpg
END:VEVENT
BEGIN:VEVENT
DTSTART;TZID=America/Los_Angeles:20270428T120000
DTEND;TZID=America/Los_Angeles:20270428T130000
DTSTAMP:20260422T193057
CREATED:20250917T165143Z
LAST-MODIFIED:20250918T155352Z
UID:10001715-1808913600-1808917200@silverdalelutheran.org
SUMMARY:Hearty Meals
DESCRIPTION:Hearty Meals is a free in-person lunch every Wednesday from noon-1pm every Wednesday.  All are welcome.
URL:https://silverdalelutheran.org/event/hearty-meals/2027-04-28/
LOCATION:Silverdale Lutheran Church\, 11701 Ridgepoint Dr NW\, Silverdale\, WA\, 98383\, United States
CATEGORIES:Community Event
END:VEVENT
BEGIN:VEVENT
DTSTART;TZID=America/Los_Angeles:20270430T080000
DTEND;TZID=America/Los_Angeles:20270430T090000
DTSTAMP:20260422T193057
CREATED:20250918T174712Z
LAST-MODIFIED:20250918T174713Z
UID:10004068-1809072000-1809075600@silverdalelutheran.org
SUMMARY:Men's Prayer Breakfast
DESCRIPTION:The Men’s Prayer Breakfast is about being fed with food for the body AND the soul. We pray for those in need\, have a short Bible study and breakfast with fellowship together. We meet every Friday morning at 8am at the Silverdale Bowling Alley. All men are welcome to please join us!
URL:https://silverdalelutheran.org/event/mens-prayer-breakfast/2027-04-30/
LOCATION:Silverdale Bowling Alley\, 10710 Silverdale Way NW\, Silverdale\, WA\, 98383
CATEGORIES:Community Event
END:VEVENT
BEGIN:VEVENT
DTSTART;TZID=America/Los_Angeles:20270503T090000
DTEND;TZID=America/Los_Angeles:20270503T120000
DTSTAMP:20260422T193057
CREATED:20250918T180712Z
LAST-MODIFIED:20250918T181755Z
UID:10004590-1809334800-1809345600@silverdalelutheran.org
SUMMARY:Ties That Bind
DESCRIPTION:A ministry started in 1969\, Silverdale Lutheran Church Quilters gather every Monday morning in the Fellowship Hall to create quilts to share with those in need of warmth. Each year the quilters will sew hundreds of quilts that are shipped to Lutheran World Relief for distribution across the world and additional quilts that are shared within our community. All are welcome to join in this creative work. Silverdale Lutheran Church supports this ministry with monetary and in-kind donations\, along with the helping hands of many volunteers.
URL:https://silverdalelutheran.org/event/ties-that-bind/2027-05-03/
LOCATION:Silverdale Lutheran Church\, 11701 Ridgepoint Dr NW\, Silverdale\, WA\, 98383\, United States
CATEGORIES:Community Event
ATTACH;FMTTYPE=image/jpeg:https://silverdalelutheran.org/wp-content/uploads/2025/09/Ties-That-Bind-1280-x-720-px.jpg
END:VEVENT
BEGIN:VEVENT
DTSTART;TZID=America/Los_Angeles:20270504T103000
DTEND;TZID=America/Los_Angeles:20270504T113000
DTSTAMP:20260422T193057
CREATED:20250929T183415Z
LAST-MODIFIED:20250929T183415Z
UID:10008484-1809426600-1809430200@silverdalelutheran.org
SUMMARY:Alzheimer's Support (St)
DESCRIPTION:
URL:https://silverdalelutheran.org/event/alzheimers-support-st/2027-05-04/
LOCATION:WA
CATEGORIES:Community Event
END:VEVENT
BEGIN:VEVENT
DTSTART;TZID=America/Los_Angeles:20270505T120000
DTEND;TZID=America/Los_Angeles:20270505T130000
DTSTAMP:20260422T193057
CREATED:20250917T165143Z
LAST-MODIFIED:20250918T155352Z
UID:10001716-1809518400-1809522000@silverdalelutheran.org
SUMMARY:Hearty Meals
DESCRIPTION:Hearty Meals is a free in-person lunch every Wednesday from noon-1pm every Wednesday.  All are welcome.
URL:https://silverdalelutheran.org/event/hearty-meals/2027-05-05/
LOCATION:Silverdale Lutheran Church\, 11701 Ridgepoint Dr NW\, Silverdale\, WA\, 98383\, United States
CATEGORIES:Community Event
END:VEVENT
BEGIN:VEVENT
DTSTART;TZID=America/Los_Angeles:20270505T181500
DTEND;TZID=America/Los_Angeles:20270505T191500
DTSTAMP:20260422T193057
CREATED:20250929T181512Z
LAST-MODIFIED:20250929T181512Z
UID:10006676-1809540900-1809544500@silverdalelutheran.org
SUMMARY:Al Anon (27)
DESCRIPTION:Monthly on the first Wednesday
URL:https://silverdalelutheran.org/event/al-anon-27-2/2027-05-05/
LOCATION:WA
CATEGORIES:Community Event
END:VEVENT
BEGIN:VEVENT
DTSTART;TZID=America/Los_Angeles:20270507T080000
DTEND;TZID=America/Los_Angeles:20270507T090000
DTSTAMP:20260422T193057
CREATED:20250918T174712Z
LAST-MODIFIED:20250918T174713Z
UID:10004069-1809676800-1809680400@silverdalelutheran.org
SUMMARY:Men's Prayer Breakfast
DESCRIPTION:The Men’s Prayer Breakfast is about being fed with food for the body AND the soul. We pray for those in need\, have a short Bible study and breakfast with fellowship together. We meet every Friday morning at 8am at the Silverdale Bowling Alley. All men are welcome to please join us!
URL:https://silverdalelutheran.org/event/mens-prayer-breakfast/2027-05-07/
LOCATION:Silverdale Bowling Alley\, 10710 Silverdale Way NW\, Silverdale\, WA\, 98383
CATEGORIES:Community Event
END:VEVENT
END:VCALENDAR