BEGIN:VCALENDAR
VERSION:2.0
PRODID:-//Silverdale Lutheran Church - ECPv6.15.12.2//NONSGML v1.0//EN
CALSCALE:GREGORIAN
METHOD:PUBLISH
X-WR-CALNAME:Silverdale Lutheran Church
X-ORIGINAL-URL:https://silverdalelutheran.org
X-WR-CALDESC:Events for Silverdale Lutheran Church
REFRESH-INTERVAL;VALUE=DURATION:PT1H
X-Robots-Tag:noindex
X-PUBLISHED-TTL:PT1H
BEGIN:VTIMEZONE
TZID:America/Los_Angeles
BEGIN:DAYLIGHT
TZOFFSETFROM:-0800
TZOFFSETTO:-0700
TZNAME:PDT
DTSTART:20260308T100000
END:DAYLIGHT
BEGIN:STANDARD
TZOFFSETFROM:-0700
TZOFFSETTO:-0800
TZNAME:PST
DTSTART:20261101T090000
END:STANDARD
BEGIN:DAYLIGHT
TZOFFSETFROM:-0800
TZOFFSETTO:-0700
TZNAME:PDT
DTSTART:20270314T100000
END:DAYLIGHT
BEGIN:STANDARD
TZOFFSETFROM:-0700
TZOFFSETTO:-0800
TZNAME:PST
DTSTART:20271107T090000
END:STANDARD
BEGIN:DAYLIGHT
TZOFFSETFROM:-0800
TZOFFSETTO:-0700
TZNAME:PDT
DTSTART:20280312T100000
END:DAYLIGHT
BEGIN:STANDARD
TZOFFSETFROM:-0700
TZOFFSETTO:-0800
TZNAME:PST
DTSTART:20281105T090000
END:STANDARD
END:VTIMEZONE
BEGIN:VEVENT
DTSTART;TZID=America/Los_Angeles:20270623T120000
DTEND;TZID=America/Los_Angeles:20270623T130000
DTSTAMP:20260422T152819
CREATED:20250917T165143Z
LAST-MODIFIED:20250918T155352Z
UID:10001723-1813752000-1813755600@silverdalelutheran.org
SUMMARY:Hearty Meals
DESCRIPTION:Hearty Meals is a free in-person lunch every Wednesday from noon-1pm every Wednesday.  All are welcome.
URL:https://silverdalelutheran.org/event/hearty-meals/2027-06-23/
LOCATION:Silverdale Lutheran Church\, 11701 Ridgepoint Dr NW\, Silverdale\, WA\, 98383\, United States
CATEGORIES:Community Event
END:VEVENT
BEGIN:VEVENT
DTSTART;TZID=America/Los_Angeles:20270625T080000
DTEND;TZID=America/Los_Angeles:20270625T090000
DTSTAMP:20260422T152819
CREATED:20250918T174712Z
LAST-MODIFIED:20250918T174713Z
UID:10004076-1813910400-1813914000@silverdalelutheran.org
SUMMARY:Men's Prayer Breakfast
DESCRIPTION:The Men’s Prayer Breakfast is about being fed with food for the body AND the soul. We pray for those in need\, have a short Bible study and breakfast with fellowship together. We meet every Friday morning at 8am at the Silverdale Bowling Alley. All men are welcome to please join us!
URL:https://silverdalelutheran.org/event/mens-prayer-breakfast/2027-06-25/
LOCATION:Silverdale Bowling Alley\, 10710 Silverdale Way NW\, Silverdale\, WA\, 98383
CATEGORIES:Community Event
END:VEVENT
BEGIN:VEVENT
DTSTART;TZID=America/Los_Angeles:20270628T090000
DTEND;TZID=America/Los_Angeles:20270628T120000
DTSTAMP:20260422T152819
CREATED:20250918T180712Z
LAST-MODIFIED:20250918T181755Z
UID:10004598-1814173200-1814184000@silverdalelutheran.org
SUMMARY:Ties That Bind
DESCRIPTION:A ministry started in 1969\, Silverdale Lutheran Church Quilters gather every Monday morning in the Fellowship Hall to create quilts to share with those in need of warmth. Each year the quilters will sew hundreds of quilts that are shipped to Lutheran World Relief for distribution across the world and additional quilts that are shared within our community. All are welcome to join in this creative work. Silverdale Lutheran Church supports this ministry with monetary and in-kind donations\, along with the helping hands of many volunteers.
URL:https://silverdalelutheran.org/event/ties-that-bind/2027-06-28/
LOCATION:Silverdale Lutheran Church\, 11701 Ridgepoint Dr NW\, Silverdale\, WA\, 98383\, United States
CATEGORIES:Community Event
ATTACH;FMTTYPE=image/jpeg:https://silverdalelutheran.org/wp-content/uploads/2025/09/Ties-That-Bind-1280-x-720-px.jpg
END:VEVENT
BEGIN:VEVENT
DTSTART;TZID=America/Los_Angeles:20270630T120000
DTEND;TZID=America/Los_Angeles:20270630T130000
DTSTAMP:20260422T152819
CREATED:20250917T165143Z
LAST-MODIFIED:20250918T155352Z
UID:10001724-1814356800-1814360400@silverdalelutheran.org
SUMMARY:Hearty Meals
DESCRIPTION:Hearty Meals is a free in-person lunch every Wednesday from noon-1pm every Wednesday.  All are welcome.
URL:https://silverdalelutheran.org/event/hearty-meals/2027-06-30/
LOCATION:Silverdale Lutheran Church\, 11701 Ridgepoint Dr NW\, Silverdale\, WA\, 98383\, United States
CATEGORIES:Community Event
END:VEVENT
BEGIN:VEVENT
DTSTART;TZID=America/Los_Angeles:20270702T080000
DTEND;TZID=America/Los_Angeles:20270702T090000
DTSTAMP:20260422T152819
CREATED:20250918T174712Z
LAST-MODIFIED:20250918T174713Z
UID:10004077-1814515200-1814518800@silverdalelutheran.org
SUMMARY:Men's Prayer Breakfast
DESCRIPTION:The Men’s Prayer Breakfast is about being fed with food for the body AND the soul. We pray for those in need\, have a short Bible study and breakfast with fellowship together. We meet every Friday morning at 8am at the Silverdale Bowling Alley. All men are welcome to please join us!
URL:https://silverdalelutheran.org/event/mens-prayer-breakfast/2027-07-02/
LOCATION:Silverdale Bowling Alley\, 10710 Silverdale Way NW\, Silverdale\, WA\, 98383
CATEGORIES:Community Event
END:VEVENT
BEGIN:VEVENT
DTSTART;TZID=America/Los_Angeles:20270705T090000
DTEND;TZID=America/Los_Angeles:20270705T120000
DTSTAMP:20260422T152819
CREATED:20250918T180712Z
LAST-MODIFIED:20250918T181755Z
UID:10004599-1814778000-1814788800@silverdalelutheran.org
SUMMARY:Ties That Bind
DESCRIPTION:A ministry started in 1969\, Silverdale Lutheran Church Quilters gather every Monday morning in the Fellowship Hall to create quilts to share with those in need of warmth. Each year the quilters will sew hundreds of quilts that are shipped to Lutheran World Relief for distribution across the world and additional quilts that are shared within our community. All are welcome to join in this creative work. Silverdale Lutheran Church supports this ministry with monetary and in-kind donations\, along with the helping hands of many volunteers.
URL:https://silverdalelutheran.org/event/ties-that-bind/2027-07-05/
LOCATION:Silverdale Lutheran Church\, 11701 Ridgepoint Dr NW\, Silverdale\, WA\, 98383\, United States
CATEGORIES:Community Event
ATTACH;FMTTYPE=image/jpeg:https://silverdalelutheran.org/wp-content/uploads/2025/09/Ties-That-Bind-1280-x-720-px.jpg
END:VEVENT
BEGIN:VEVENT
DTSTART;TZID=America/Los_Angeles:20270706T103000
DTEND;TZID=America/Los_Angeles:20270706T113000
DTSTAMP:20260422T152819
CREATED:20250929T183415Z
LAST-MODIFIED:20250929T183415Z
UID:10008486-1814869800-1814873400@silverdalelutheran.org
SUMMARY:Alzheimer's Support (St)
DESCRIPTION:
URL:https://silverdalelutheran.org/event/alzheimers-support-st/2027-07-06/
LOCATION:WA
CATEGORIES:Community Event
END:VEVENT
BEGIN:VEVENT
DTSTART;TZID=America/Los_Angeles:20270707T120000
DTEND;TZID=America/Los_Angeles:20270707T130000
DTSTAMP:20260422T152819
CREATED:20250917T165143Z
LAST-MODIFIED:20250918T155352Z
UID:10001725-1814961600-1814965200@silverdalelutheran.org
SUMMARY:Hearty Meals
DESCRIPTION:Hearty Meals is a free in-person lunch every Wednesday from noon-1pm every Wednesday.  All are welcome.
URL:https://silverdalelutheran.org/event/hearty-meals/2027-07-07/
LOCATION:Silverdale Lutheran Church\, 11701 Ridgepoint Dr NW\, Silverdale\, WA\, 98383\, United States
CATEGORIES:Community Event
END:VEVENT
BEGIN:VEVENT
DTSTART;TZID=America/Los_Angeles:20270707T181500
DTEND;TZID=America/Los_Angeles:20270707T191500
DTSTAMP:20260422T152820
CREATED:20250929T181512Z
LAST-MODIFIED:20250929T181512Z
UID:10006678-1814984100-1814987700@silverdalelutheran.org
SUMMARY:Al Anon (27)
DESCRIPTION:Monthly on the first Wednesday
URL:https://silverdalelutheran.org/event/al-anon-27-2/2027-07-07/
LOCATION:WA
CATEGORIES:Community Event
END:VEVENT
BEGIN:VEVENT
DTSTART;TZID=America/Los_Angeles:20270709T080000
DTEND;TZID=America/Los_Angeles:20270709T090000
DTSTAMP:20260422T152820
CREATED:20250918T174712Z
LAST-MODIFIED:20250918T174713Z
UID:10004078-1815120000-1815123600@silverdalelutheran.org
SUMMARY:Men's Prayer Breakfast
DESCRIPTION:The Men’s Prayer Breakfast is about being fed with food for the body AND the soul. We pray for those in need\, have a short Bible study and breakfast with fellowship together. We meet every Friday morning at 8am at the Silverdale Bowling Alley. All men are welcome to please join us!
URL:https://silverdalelutheran.org/event/mens-prayer-breakfast/2027-07-09/
LOCATION:Silverdale Bowling Alley\, 10710 Silverdale Way NW\, Silverdale\, WA\, 98383
CATEGORIES:Community Event
END:VEVENT
BEGIN:VEVENT
DTSTART;TZID=America/Los_Angeles:20270712T090000
DTEND;TZID=America/Los_Angeles:20270712T120000
DTSTAMP:20260422T152820
CREATED:20250918T180712Z
LAST-MODIFIED:20250918T181755Z
UID:10004600-1815382800-1815393600@silverdalelutheran.org
SUMMARY:Ties That Bind
DESCRIPTION:A ministry started in 1969\, Silverdale Lutheran Church Quilters gather every Monday morning in the Fellowship Hall to create quilts to share with those in need of warmth. Each year the quilters will sew hundreds of quilts that are shipped to Lutheran World Relief for distribution across the world and additional quilts that are shared within our community. All are welcome to join in this creative work. Silverdale Lutheran Church supports this ministry with monetary and in-kind donations\, along with the helping hands of many volunteers.
URL:https://silverdalelutheran.org/event/ties-that-bind/2027-07-12/
LOCATION:Silverdale Lutheran Church\, 11701 Ridgepoint Dr NW\, Silverdale\, WA\, 98383\, United States
CATEGORIES:Community Event
ATTACH;FMTTYPE=image/jpeg:https://silverdalelutheran.org/wp-content/uploads/2025/09/Ties-That-Bind-1280-x-720-px.jpg
END:VEVENT
BEGIN:VEVENT
DTSTART;TZID=America/Los_Angeles:20270714T120000
DTEND;TZID=America/Los_Angeles:20270714T130000
DTSTAMP:20260422T152820
CREATED:20250917T165143Z
LAST-MODIFIED:20250918T155352Z
UID:10001726-1815566400-1815570000@silverdalelutheran.org
SUMMARY:Hearty Meals
DESCRIPTION:Hearty Meals is a free in-person lunch every Wednesday from noon-1pm every Wednesday.  All are welcome.
URL:https://silverdalelutheran.org/event/hearty-meals/2027-07-14/
LOCATION:Silverdale Lutheran Church\, 11701 Ridgepoint Dr NW\, Silverdale\, WA\, 98383\, United States
CATEGORIES:Community Event
END:VEVENT
BEGIN:VEVENT
DTSTART;TZID=America/Los_Angeles:20270716T080000
DTEND;TZID=America/Los_Angeles:20270716T090000
DTSTAMP:20260422T152820
CREATED:20250918T174712Z
LAST-MODIFIED:20250918T174713Z
UID:10004079-1815724800-1815728400@silverdalelutheran.org
SUMMARY:Men's Prayer Breakfast
DESCRIPTION:The Men’s Prayer Breakfast is about being fed with food for the body AND the soul. We pray for those in need\, have a short Bible study and breakfast with fellowship together. We meet every Friday morning at 8am at the Silverdale Bowling Alley. All men are welcome to please join us!
URL:https://silverdalelutheran.org/event/mens-prayer-breakfast/2027-07-16/
LOCATION:Silverdale Bowling Alley\, 10710 Silverdale Way NW\, Silverdale\, WA\, 98383
CATEGORIES:Community Event
END:VEVENT
BEGIN:VEVENT
DTSTART;TZID=America/Los_Angeles:20270719T090000
DTEND;TZID=America/Los_Angeles:20270719T120000
DTSTAMP:20260422T152820
CREATED:20250918T180712Z
LAST-MODIFIED:20250918T181755Z
UID:10004601-1815987600-1815998400@silverdalelutheran.org
SUMMARY:Ties That Bind
DESCRIPTION:A ministry started in 1969\, Silverdale Lutheran Church Quilters gather every Monday morning in the Fellowship Hall to create quilts to share with those in need of warmth. Each year the quilters will sew hundreds of quilts that are shipped to Lutheran World Relief for distribution across the world and additional quilts that are shared within our community. All are welcome to join in this creative work. Silverdale Lutheran Church supports this ministry with monetary and in-kind donations\, along with the helping hands of many volunteers.
URL:https://silverdalelutheran.org/event/ties-that-bind/2027-07-19/
LOCATION:Silverdale Lutheran Church\, 11701 Ridgepoint Dr NW\, Silverdale\, WA\, 98383\, United States
CATEGORIES:Community Event
ATTACH;FMTTYPE=image/jpeg:https://silverdalelutheran.org/wp-content/uploads/2025/09/Ties-That-Bind-1280-x-720-px.jpg
END:VEVENT
BEGIN:VEVENT
DTSTART;TZID=America/Los_Angeles:20270721T120000
DTEND;TZID=America/Los_Angeles:20270721T130000
DTSTAMP:20260422T152820
CREATED:20250917T165143Z
LAST-MODIFIED:20250918T155352Z
UID:10001727-1816171200-1816174800@silverdalelutheran.org
SUMMARY:Hearty Meals
DESCRIPTION:Hearty Meals is a free in-person lunch every Wednesday from noon-1pm every Wednesday.  All are welcome.
URL:https://silverdalelutheran.org/event/hearty-meals/2027-07-21/
LOCATION:Silverdale Lutheran Church\, 11701 Ridgepoint Dr NW\, Silverdale\, WA\, 98383\, United States
CATEGORIES:Community Event
END:VEVENT
BEGIN:VEVENT
DTSTART;TZID=America/Los_Angeles:20270723T080000
DTEND;TZID=America/Los_Angeles:20270723T090000
DTSTAMP:20260422T152820
CREATED:20250918T174712Z
LAST-MODIFIED:20250918T174713Z
UID:10004080-1816329600-1816333200@silverdalelutheran.org
SUMMARY:Men's Prayer Breakfast
DESCRIPTION:The Men’s Prayer Breakfast is about being fed with food for the body AND the soul. We pray for those in need\, have a short Bible study and breakfast with fellowship together. We meet every Friday morning at 8am at the Silverdale Bowling Alley. All men are welcome to please join us!
URL:https://silverdalelutheran.org/event/mens-prayer-breakfast/2027-07-23/
LOCATION:Silverdale Bowling Alley\, 10710 Silverdale Way NW\, Silverdale\, WA\, 98383
CATEGORIES:Community Event
END:VEVENT
BEGIN:VEVENT
DTSTART;TZID=America/Los_Angeles:20270726T090000
DTEND;TZID=America/Los_Angeles:20270726T120000
DTSTAMP:20260422T152820
CREATED:20250918T180712Z
LAST-MODIFIED:20250918T181755Z
UID:10004602-1816592400-1816603200@silverdalelutheran.org
SUMMARY:Ties That Bind
DESCRIPTION:A ministry started in 1969\, Silverdale Lutheran Church Quilters gather every Monday morning in the Fellowship Hall to create quilts to share with those in need of warmth. Each year the quilters will sew hundreds of quilts that are shipped to Lutheran World Relief for distribution across the world and additional quilts that are shared within our community. All are welcome to join in this creative work. Silverdale Lutheran Church supports this ministry with monetary and in-kind donations\, along with the helping hands of many volunteers.
URL:https://silverdalelutheran.org/event/ties-that-bind/2027-07-26/
LOCATION:Silverdale Lutheran Church\, 11701 Ridgepoint Dr NW\, Silverdale\, WA\, 98383\, United States
CATEGORIES:Community Event
ATTACH;FMTTYPE=image/jpeg:https://silverdalelutheran.org/wp-content/uploads/2025/09/Ties-That-Bind-1280-x-720-px.jpg
END:VEVENT
BEGIN:VEVENT
DTSTART;TZID=America/Los_Angeles:20270728T120000
DTEND;TZID=America/Los_Angeles:20270728T130000
DTSTAMP:20260422T152820
CREATED:20250917T165143Z
LAST-MODIFIED:20250918T155352Z
UID:10001728-1816776000-1816779600@silverdalelutheran.org
SUMMARY:Hearty Meals
DESCRIPTION:Hearty Meals is a free in-person lunch every Wednesday from noon-1pm every Wednesday.  All are welcome.
URL:https://silverdalelutheran.org/event/hearty-meals/2027-07-28/
LOCATION:Silverdale Lutheran Church\, 11701 Ridgepoint Dr NW\, Silverdale\, WA\, 98383\, United States
CATEGORIES:Community Event
END:VEVENT
BEGIN:VEVENT
DTSTART;TZID=America/Los_Angeles:20270730T080000
DTEND;TZID=America/Los_Angeles:20270730T090000
DTSTAMP:20260422T152820
CREATED:20250918T174712Z
LAST-MODIFIED:20250918T174713Z
UID:10004081-1816934400-1816938000@silverdalelutheran.org
SUMMARY:Men's Prayer Breakfast
DESCRIPTION:The Men’s Prayer Breakfast is about being fed with food for the body AND the soul. We pray for those in need\, have a short Bible study and breakfast with fellowship together. We meet every Friday morning at 8am at the Silverdale Bowling Alley. All men are welcome to please join us!
URL:https://silverdalelutheran.org/event/mens-prayer-breakfast/2027-07-30/
LOCATION:Silverdale Bowling Alley\, 10710 Silverdale Way NW\, Silverdale\, WA\, 98383
CATEGORIES:Community Event
END:VEVENT
BEGIN:VEVENT
DTSTART;TZID=America/Los_Angeles:20270802T090000
DTEND;TZID=America/Los_Angeles:20270802T120000
DTSTAMP:20260422T152820
CREATED:20250918T180712Z
LAST-MODIFIED:20250918T181755Z
UID:10004603-1817197200-1817208000@silverdalelutheran.org
SUMMARY:Ties That Bind
DESCRIPTION:A ministry started in 1969\, Silverdale Lutheran Church Quilters gather every Monday morning in the Fellowship Hall to create quilts to share with those in need of warmth. Each year the quilters will sew hundreds of quilts that are shipped to Lutheran World Relief for distribution across the world and additional quilts that are shared within our community. All are welcome to join in this creative work. Silverdale Lutheran Church supports this ministry with monetary and in-kind donations\, along with the helping hands of many volunteers.
URL:https://silverdalelutheran.org/event/ties-that-bind/2027-08-02/
LOCATION:Silverdale Lutheran Church\, 11701 Ridgepoint Dr NW\, Silverdale\, WA\, 98383\, United States
CATEGORIES:Community Event
ATTACH;FMTTYPE=image/jpeg:https://silverdalelutheran.org/wp-content/uploads/2025/09/Ties-That-Bind-1280-x-720-px.jpg
END:VEVENT
BEGIN:VEVENT
DTSTART;TZID=America/Los_Angeles:20270803T103000
DTEND;TZID=America/Los_Angeles:20270803T113000
DTSTAMP:20260422T152820
CREATED:20250929T183415Z
LAST-MODIFIED:20250929T183415Z
UID:10008487-1817289000-1817292600@silverdalelutheran.org
SUMMARY:Alzheimer's Support (St)
DESCRIPTION:
URL:https://silverdalelutheran.org/event/alzheimers-support-st/2027-08-03/
LOCATION:WA
CATEGORIES:Community Event
END:VEVENT
BEGIN:VEVENT
DTSTART;TZID=America/Los_Angeles:20270804T120000
DTEND;TZID=America/Los_Angeles:20270804T130000
DTSTAMP:20260422T152820
CREATED:20250917T165143Z
LAST-MODIFIED:20250918T155352Z
UID:10001729-1817380800-1817384400@silverdalelutheran.org
SUMMARY:Hearty Meals
DESCRIPTION:Hearty Meals is a free in-person lunch every Wednesday from noon-1pm every Wednesday.  All are welcome.
URL:https://silverdalelutheran.org/event/hearty-meals/2027-08-04/
LOCATION:Silverdale Lutheran Church\, 11701 Ridgepoint Dr NW\, Silverdale\, WA\, 98383\, United States
CATEGORIES:Community Event
END:VEVENT
BEGIN:VEVENT
DTSTART;TZID=America/Los_Angeles:20270804T181500
DTEND;TZID=America/Los_Angeles:20270804T191500
DTSTAMP:20260422T152820
CREATED:20250929T181512Z
LAST-MODIFIED:20250929T181512Z
UID:10006679-1817403300-1817406900@silverdalelutheran.org
SUMMARY:Al Anon (27)
DESCRIPTION:Monthly on the first Wednesday
URL:https://silverdalelutheran.org/event/al-anon-27-2/2027-08-04/
LOCATION:WA
CATEGORIES:Community Event
END:VEVENT
BEGIN:VEVENT
DTSTART;TZID=America/Los_Angeles:20270806T080000
DTEND;TZID=America/Los_Angeles:20270806T090000
DTSTAMP:20260422T152820
CREATED:20250918T174712Z
LAST-MODIFIED:20250918T174713Z
UID:10004082-1817539200-1817542800@silverdalelutheran.org
SUMMARY:Men's Prayer Breakfast
DESCRIPTION:The Men’s Prayer Breakfast is about being fed with food for the body AND the soul. We pray for those in need\, have a short Bible study and breakfast with fellowship together. We meet every Friday morning at 8am at the Silverdale Bowling Alley. All men are welcome to please join us!
URL:https://silverdalelutheran.org/event/mens-prayer-breakfast/2027-08-06/
LOCATION:Silverdale Bowling Alley\, 10710 Silverdale Way NW\, Silverdale\, WA\, 98383
CATEGORIES:Community Event
END:VEVENT
BEGIN:VEVENT
DTSTART;TZID=America/Los_Angeles:20270809T090000
DTEND;TZID=America/Los_Angeles:20270809T120000
DTSTAMP:20260422T152820
CREATED:20250918T180712Z
LAST-MODIFIED:20250918T181755Z
UID:10004604-1817802000-1817812800@silverdalelutheran.org
SUMMARY:Ties That Bind
DESCRIPTION:A ministry started in 1969\, Silverdale Lutheran Church Quilters gather every Monday morning in the Fellowship Hall to create quilts to share with those in need of warmth. Each year the quilters will sew hundreds of quilts that are shipped to Lutheran World Relief for distribution across the world and additional quilts that are shared within our community. All are welcome to join in this creative work. Silverdale Lutheran Church supports this ministry with monetary and in-kind donations\, along with the helping hands of many volunteers.
URL:https://silverdalelutheran.org/event/ties-that-bind/2027-08-09/
LOCATION:Silverdale Lutheran Church\, 11701 Ridgepoint Dr NW\, Silverdale\, WA\, 98383\, United States
CATEGORIES:Community Event
ATTACH;FMTTYPE=image/jpeg:https://silverdalelutheran.org/wp-content/uploads/2025/09/Ties-That-Bind-1280-x-720-px.jpg
END:VEVENT
BEGIN:VEVENT
DTSTART;TZID=America/Los_Angeles:20270811T120000
DTEND;TZID=America/Los_Angeles:20270811T130000
DTSTAMP:20260422T152820
CREATED:20250917T165143Z
LAST-MODIFIED:20250918T155352Z
UID:10001730-1817985600-1817989200@silverdalelutheran.org
SUMMARY:Hearty Meals
DESCRIPTION:Hearty Meals is a free in-person lunch every Wednesday from noon-1pm every Wednesday.  All are welcome.
URL:https://silverdalelutheran.org/event/hearty-meals/2027-08-11/
LOCATION:Silverdale Lutheran Church\, 11701 Ridgepoint Dr NW\, Silverdale\, WA\, 98383\, United States
CATEGORIES:Community Event
END:VEVENT
BEGIN:VEVENT
DTSTART;TZID=America/Los_Angeles:20270813T080000
DTEND;TZID=America/Los_Angeles:20270813T090000
DTSTAMP:20260422T152820
CREATED:20250918T174712Z
LAST-MODIFIED:20250918T174713Z
UID:10004083-1818144000-1818147600@silverdalelutheran.org
SUMMARY:Men's Prayer Breakfast
DESCRIPTION:The Men’s Prayer Breakfast is about being fed with food for the body AND the soul. We pray for those in need\, have a short Bible study and breakfast with fellowship together. We meet every Friday morning at 8am at the Silverdale Bowling Alley. All men are welcome to please join us!
URL:https://silverdalelutheran.org/event/mens-prayer-breakfast/2027-08-13/
LOCATION:Silverdale Bowling Alley\, 10710 Silverdale Way NW\, Silverdale\, WA\, 98383
CATEGORIES:Community Event
END:VEVENT
BEGIN:VEVENT
DTSTART;TZID=America/Los_Angeles:20270816T090000
DTEND;TZID=America/Los_Angeles:20270816T120000
DTSTAMP:20260422T152820
CREATED:20250918T180712Z
LAST-MODIFIED:20250918T181755Z
UID:10004605-1818406800-1818417600@silverdalelutheran.org
SUMMARY:Ties That Bind
DESCRIPTION:A ministry started in 1969\, Silverdale Lutheran Church Quilters gather every Monday morning in the Fellowship Hall to create quilts to share with those in need of warmth. Each year the quilters will sew hundreds of quilts that are shipped to Lutheran World Relief for distribution across the world and additional quilts that are shared within our community. All are welcome to join in this creative work. Silverdale Lutheran Church supports this ministry with monetary and in-kind donations\, along with the helping hands of many volunteers.
URL:https://silverdalelutheran.org/event/ties-that-bind/2027-08-16/
LOCATION:Silverdale Lutheran Church\, 11701 Ridgepoint Dr NW\, Silverdale\, WA\, 98383\, United States
CATEGORIES:Community Event
ATTACH;FMTTYPE=image/jpeg:https://silverdalelutheran.org/wp-content/uploads/2025/09/Ties-That-Bind-1280-x-720-px.jpg
END:VEVENT
BEGIN:VEVENT
DTSTART;TZID=America/Los_Angeles:20270818T120000
DTEND;TZID=America/Los_Angeles:20270818T130000
DTSTAMP:20260422T152820
CREATED:20250917T165143Z
LAST-MODIFIED:20250918T155352Z
UID:10001731-1818590400-1818594000@silverdalelutheran.org
SUMMARY:Hearty Meals
DESCRIPTION:Hearty Meals is a free in-person lunch every Wednesday from noon-1pm every Wednesday.  All are welcome.
URL:https://silverdalelutheran.org/event/hearty-meals/2027-08-18/
LOCATION:Silverdale Lutheran Church\, 11701 Ridgepoint Dr NW\, Silverdale\, WA\, 98383\, United States
CATEGORIES:Community Event
END:VEVENT
BEGIN:VEVENT
DTSTART;TZID=America/Los_Angeles:20270820T080000
DTEND;TZID=America/Los_Angeles:20270820T090000
DTSTAMP:20260422T152820
CREATED:20250918T174712Z
LAST-MODIFIED:20250918T174713Z
UID:10004084-1818748800-1818752400@silverdalelutheran.org
SUMMARY:Men's Prayer Breakfast
DESCRIPTION:The Men’s Prayer Breakfast is about being fed with food for the body AND the soul. We pray for those in need\, have a short Bible study and breakfast with fellowship together. We meet every Friday morning at 8am at the Silverdale Bowling Alley. All men are welcome to please join us!
URL:https://silverdalelutheran.org/event/mens-prayer-breakfast/2027-08-20/
LOCATION:Silverdale Bowling Alley\, 10710 Silverdale Way NW\, Silverdale\, WA\, 98383
CATEGORIES:Community Event
END:VEVENT
END:VCALENDAR