BEGIN:VCALENDAR
VERSION:2.0
PRODID:-//Silverdale Lutheran Church - ECPv6.15.12.2//NONSGML v1.0//EN
CALSCALE:GREGORIAN
METHOD:PUBLISH
X-ORIGINAL-URL:https://silverdalelutheran.org
X-WR-CALDESC:Events for Silverdale Lutheran Church
REFRESH-INTERVAL;VALUE=DURATION:PT1H
X-Robots-Tag:noindex
X-PUBLISHED-TTL:PT1H
BEGIN:VTIMEZONE
TZID:America/Los_Angeles
BEGIN:DAYLIGHT
TZOFFSETFROM:-0800
TZOFFSETTO:-0700
TZNAME:PDT
DTSTART:20260308T100000
END:DAYLIGHT
BEGIN:STANDARD
TZOFFSETFROM:-0700
TZOFFSETTO:-0800
TZNAME:PST
DTSTART:20261101T090000
END:STANDARD
BEGIN:DAYLIGHT
TZOFFSETFROM:-0800
TZOFFSETTO:-0700
TZNAME:PDT
DTSTART:20270314T100000
END:DAYLIGHT
BEGIN:STANDARD
TZOFFSETFROM:-0700
TZOFFSETTO:-0800
TZNAME:PST
DTSTART:20271107T090000
END:STANDARD
BEGIN:DAYLIGHT
TZOFFSETFROM:-0800
TZOFFSETTO:-0700
TZNAME:PDT
DTSTART:20280312T100000
END:DAYLIGHT
BEGIN:STANDARD
TZOFFSETFROM:-0700
TZOFFSETTO:-0800
TZNAME:PST
DTSTART:20281105T090000
END:STANDARD
BEGIN:DAYLIGHT
TZOFFSETFROM:-0800
TZOFFSETTO:-0700
TZNAME:PDT
DTSTART:20290311T100000
END:DAYLIGHT
BEGIN:STANDARD
TZOFFSETFROM:-0700
TZOFFSETTO:-0800
TZNAME:PST
DTSTART:20291104T090000
END:STANDARD
BEGIN:DAYLIGHT
TZOFFSETFROM:-0800
TZOFFSETTO:-0700
TZNAME:PDT
DTSTART:20300310T100000
END:DAYLIGHT
BEGIN:STANDARD
TZOFFSETFROM:-0700
TZOFFSETTO:-0800
TZNAME:PST
DTSTART:20301103T090000
END:STANDARD
BEGIN:DAYLIGHT
TZOFFSETFROM:-0800
TZOFFSETTO:-0700
TZNAME:PDT
DTSTART:20310309T100000
END:DAYLIGHT
BEGIN:STANDARD
TZOFFSETFROM:-0700
TZOFFSETTO:-0800
TZNAME:PST
DTSTART:20311102T090000
END:STANDARD
END:VTIMEZONE
BEGIN:VEVENT
DTSTART;TZID=America/Los_Angeles:20270707T173000
DTEND;TZID=America/Los_Angeles:20270707T184500
DTSTAMP:20260421T183157
CREATED:20251218T172839Z
LAST-MODIFIED:20251218T172910Z
UID:10010297-1814981400-1814985900@silverdalelutheran.org
SUMMARY:Grief Lessons: A Six-Week Series at SLC
DESCRIPTION:  \n 
URL:https://silverdalelutheran.org/event/grief-lessons-a-six-week-series-at-slc/2027-07-07/
LOCATION:Silverdale Lutheran Church\, 11701 Ridgepoint Dr NW\, Silverdale\, WA\, 98383\, United States
CATEGORIES:Class
ATTACH;FMTTYPE=image/jpeg:https://silverdalelutheran.org/wp-content/uploads/2025/12/Grief-Lessons-A-Six-Week-Series-at-SLC-1.jpg
END:VEVENT
BEGIN:VEVENT
DTSTART;TZID=America/Los_Angeles:20270818T173000
DTEND;TZID=America/Los_Angeles:20270818T184500
DTSTAMP:20260421T183157
CREATED:20251218T172839Z
LAST-MODIFIED:20251218T172910Z
UID:10010298-1818610200-1818614700@silverdalelutheran.org
SUMMARY:Grief Lessons: A Six-Week Series at SLC
DESCRIPTION:  \n 
URL:https://silverdalelutheran.org/event/grief-lessons-a-six-week-series-at-slc/2027-08-18/
LOCATION:Silverdale Lutheran Church\, 11701 Ridgepoint Dr NW\, Silverdale\, WA\, 98383\, United States
CATEGORIES:Class
ATTACH;FMTTYPE=image/jpeg:https://silverdalelutheran.org/wp-content/uploads/2025/12/Grief-Lessons-A-Six-Week-Series-at-SLC-1.jpg
END:VEVENT
BEGIN:VEVENT
DTSTART;TZID=America/Los_Angeles:20270929T173000
DTEND;TZID=America/Los_Angeles:20270929T184500
DTSTAMP:20260421T183157
CREATED:20251218T172839Z
LAST-MODIFIED:20251218T172910Z
UID:10010299-1822239000-1822243500@silverdalelutheran.org
SUMMARY:Grief Lessons: A Six-Week Series at SLC
DESCRIPTION:  \n 
URL:https://silverdalelutheran.org/event/grief-lessons-a-six-week-series-at-slc/2027-09-29/
LOCATION:Silverdale Lutheran Church\, 11701 Ridgepoint Dr NW\, Silverdale\, WA\, 98383\, United States
CATEGORIES:Class
ATTACH;FMTTYPE=image/jpeg:https://silverdalelutheran.org/wp-content/uploads/2025/12/Grief-Lessons-A-Six-Week-Series-at-SLC-1.jpg
END:VEVENT
BEGIN:VEVENT
DTSTART;TZID=America/Los_Angeles:20271110T173000
DTEND;TZID=America/Los_Angeles:20271110T184500
DTSTAMP:20260421T183157
CREATED:20251218T172839Z
LAST-MODIFIED:20251218T172910Z
UID:10010300-1825867800-1825872300@silverdalelutheran.org
SUMMARY:Grief Lessons: A Six-Week Series at SLC
DESCRIPTION:  \n 
URL:https://silverdalelutheran.org/event/grief-lessons-a-six-week-series-at-slc/2027-11-10/
LOCATION:Silverdale Lutheran Church\, 11701 Ridgepoint Dr NW\, Silverdale\, WA\, 98383\, United States
CATEGORIES:Class
ATTACH;FMTTYPE=image/jpeg:https://silverdalelutheran.org/wp-content/uploads/2025/12/Grief-Lessons-A-Six-Week-Series-at-SLC-1.jpg
END:VEVENT
BEGIN:VEVENT
DTSTART;TZID=America/Los_Angeles:20271222T173000
DTEND;TZID=America/Los_Angeles:20271222T184500
DTSTAMP:20260421T183157
CREATED:20251218T172839Z
LAST-MODIFIED:20251218T172910Z
UID:10010301-1829496600-1829501100@silverdalelutheran.org
SUMMARY:Grief Lessons: A Six-Week Series at SLC
DESCRIPTION:  \n 
URL:https://silverdalelutheran.org/event/grief-lessons-a-six-week-series-at-slc/2027-12-22/
LOCATION:Silverdale Lutheran Church\, 11701 Ridgepoint Dr NW\, Silverdale\, WA\, 98383\, United States
CATEGORIES:Class
ATTACH;FMTTYPE=image/jpeg:https://silverdalelutheran.org/wp-content/uploads/2025/12/Grief-Lessons-A-Six-Week-Series-at-SLC-1.jpg
END:VEVENT
BEGIN:VEVENT
DTSTART;TZID=America/Los_Angeles:20280202T173000
DTEND;TZID=America/Los_Angeles:20280202T184500
DTSTAMP:20260421T183157
CREATED:20251218T172839Z
LAST-MODIFIED:20251218T172910Z
UID:10010302-1833125400-1833129900@silverdalelutheran.org
SUMMARY:Grief Lessons: A Six-Week Series at SLC
DESCRIPTION:  \n 
URL:https://silverdalelutheran.org/event/grief-lessons-a-six-week-series-at-slc/2028-02-02/
LOCATION:Silverdale Lutheran Church\, 11701 Ridgepoint Dr NW\, Silverdale\, WA\, 98383\, United States
CATEGORIES:Class
ATTACH;FMTTYPE=image/jpeg:https://silverdalelutheran.org/wp-content/uploads/2025/12/Grief-Lessons-A-Six-Week-Series-at-SLC-1.jpg
END:VEVENT
BEGIN:VEVENT
DTSTART;TZID=America/Los_Angeles:20280315T173000
DTEND;TZID=America/Los_Angeles:20280315T184500
DTSTAMP:20260421T183157
CREATED:20251218T172839Z
LAST-MODIFIED:20251218T172910Z
UID:10010303-1836754200-1836758700@silverdalelutheran.org
SUMMARY:Grief Lessons: A Six-Week Series at SLC
DESCRIPTION:  \n 
URL:https://silverdalelutheran.org/event/grief-lessons-a-six-week-series-at-slc/2028-03-15/
LOCATION:Silverdale Lutheran Church\, 11701 Ridgepoint Dr NW\, Silverdale\, WA\, 98383\, United States
CATEGORIES:Class
ATTACH;FMTTYPE=image/jpeg:https://silverdalelutheran.org/wp-content/uploads/2025/12/Grief-Lessons-A-Six-Week-Series-at-SLC-1.jpg
END:VEVENT
BEGIN:VEVENT
DTSTART;TZID=America/Los_Angeles:20280426T173000
DTEND;TZID=America/Los_Angeles:20280426T184500
DTSTAMP:20260421T183157
CREATED:20251218T172839Z
LAST-MODIFIED:20251218T172910Z
UID:10010304-1840383000-1840387500@silverdalelutheran.org
SUMMARY:Grief Lessons: A Six-Week Series at SLC
DESCRIPTION:  \n 
URL:https://silverdalelutheran.org/event/grief-lessons-a-six-week-series-at-slc/2028-04-26/
LOCATION:Silverdale Lutheran Church\, 11701 Ridgepoint Dr NW\, Silverdale\, WA\, 98383\, United States
CATEGORIES:Class
ATTACH;FMTTYPE=image/jpeg:https://silverdalelutheran.org/wp-content/uploads/2025/12/Grief-Lessons-A-Six-Week-Series-at-SLC-1.jpg
END:VEVENT
BEGIN:VEVENT
DTSTART;TZID=America/Los_Angeles:20280607T173000
DTEND;TZID=America/Los_Angeles:20280607T184500
DTSTAMP:20260421T183157
CREATED:20251218T172839Z
LAST-MODIFIED:20251218T172910Z
UID:10010305-1844011800-1844016300@silverdalelutheran.org
SUMMARY:Grief Lessons: A Six-Week Series at SLC
DESCRIPTION:  \n 
URL:https://silverdalelutheran.org/event/grief-lessons-a-six-week-series-at-slc/2028-06-07/
LOCATION:Silverdale Lutheran Church\, 11701 Ridgepoint Dr NW\, Silverdale\, WA\, 98383\, United States
CATEGORIES:Class
ATTACH;FMTTYPE=image/jpeg:https://silverdalelutheran.org/wp-content/uploads/2025/12/Grief-Lessons-A-Six-Week-Series-at-SLC-1.jpg
END:VEVENT
BEGIN:VEVENT
DTSTART;TZID=America/Los_Angeles:20280719T173000
DTEND;TZID=America/Los_Angeles:20280719T184500
DTSTAMP:20260421T183157
CREATED:20251218T172839Z
LAST-MODIFIED:20251218T172910Z
UID:10010306-1847640600-1847645100@silverdalelutheran.org
SUMMARY:Grief Lessons: A Six-Week Series at SLC
DESCRIPTION:  \n 
URL:https://silverdalelutheran.org/event/grief-lessons-a-six-week-series-at-slc/2028-07-19/
LOCATION:Silverdale Lutheran Church\, 11701 Ridgepoint Dr NW\, Silverdale\, WA\, 98383\, United States
CATEGORIES:Class
ATTACH;FMTTYPE=image/jpeg:https://silverdalelutheran.org/wp-content/uploads/2025/12/Grief-Lessons-A-Six-Week-Series-at-SLC-1.jpg
END:VEVENT
BEGIN:VEVENT
DTSTART;TZID=America/Los_Angeles:20280830T173000
DTEND;TZID=America/Los_Angeles:20280830T184500
DTSTAMP:20260421T183157
CREATED:20251218T172839Z
LAST-MODIFIED:20251218T172910Z
UID:10010307-1851269400-1851273900@silverdalelutheran.org
SUMMARY:Grief Lessons: A Six-Week Series at SLC
DESCRIPTION:  \n 
URL:https://silverdalelutheran.org/event/grief-lessons-a-six-week-series-at-slc/2028-08-30/
LOCATION:Silverdale Lutheran Church\, 11701 Ridgepoint Dr NW\, Silverdale\, WA\, 98383\, United States
CATEGORIES:Class
ATTACH;FMTTYPE=image/jpeg:https://silverdalelutheran.org/wp-content/uploads/2025/12/Grief-Lessons-A-Six-Week-Series-at-SLC-1.jpg
END:VEVENT
BEGIN:VEVENT
DTSTART;TZID=America/Los_Angeles:20281011T173000
DTEND;TZID=America/Los_Angeles:20281011T184500
DTSTAMP:20260421T183157
CREATED:20251218T172839Z
LAST-MODIFIED:20251218T172910Z
UID:10010308-1854898200-1854902700@silverdalelutheran.org
SUMMARY:Grief Lessons: A Six-Week Series at SLC
DESCRIPTION:  \n 
URL:https://silverdalelutheran.org/event/grief-lessons-a-six-week-series-at-slc/2028-10-11/
LOCATION:Silverdale Lutheran Church\, 11701 Ridgepoint Dr NW\, Silverdale\, WA\, 98383\, United States
CATEGORIES:Class
ATTACH;FMTTYPE=image/jpeg:https://silverdalelutheran.org/wp-content/uploads/2025/12/Grief-Lessons-A-Six-Week-Series-at-SLC-1.jpg
END:VEVENT
BEGIN:VEVENT
DTSTART;TZID=America/Los_Angeles:20281122T173000
DTEND;TZID=America/Los_Angeles:20281122T184500
DTSTAMP:20260421T183157
CREATED:20251218T172839Z
LAST-MODIFIED:20251218T172910Z
UID:10010309-1858527000-1858531500@silverdalelutheran.org
SUMMARY:Grief Lessons: A Six-Week Series at SLC
DESCRIPTION:  \n 
URL:https://silverdalelutheran.org/event/grief-lessons-a-six-week-series-at-slc/2028-11-22/
LOCATION:Silverdale Lutheran Church\, 11701 Ridgepoint Dr NW\, Silverdale\, WA\, 98383\, United States
CATEGORIES:Class
ATTACH;FMTTYPE=image/jpeg:https://silverdalelutheran.org/wp-content/uploads/2025/12/Grief-Lessons-A-Six-Week-Series-at-SLC-1.jpg
END:VEVENT
BEGIN:VEVENT
DTSTART;TZID=America/Los_Angeles:20290103T173000
DTEND;TZID=America/Los_Angeles:20290103T184500
DTSTAMP:20260421T183157
CREATED:20251218T172839Z
LAST-MODIFIED:20251218T172910Z
UID:10010310-1862155800-1862160300@silverdalelutheran.org
SUMMARY:Grief Lessons: A Six-Week Series at SLC
DESCRIPTION:  \n 
URL:https://silverdalelutheran.org/event/grief-lessons-a-six-week-series-at-slc/2029-01-03/
LOCATION:Silverdale Lutheran Church\, 11701 Ridgepoint Dr NW\, Silverdale\, WA\, 98383\, United States
CATEGORIES:Class
ATTACH;FMTTYPE=image/jpeg:https://silverdalelutheran.org/wp-content/uploads/2025/12/Grief-Lessons-A-Six-Week-Series-at-SLC-1.jpg
END:VEVENT
BEGIN:VEVENT
DTSTART;TZID=America/Los_Angeles:20290214T173000
DTEND;TZID=America/Los_Angeles:20290214T184500
DTSTAMP:20260421T183157
CREATED:20251218T172839Z
LAST-MODIFIED:20251218T172910Z
UID:10010311-1865784600-1865789100@silverdalelutheran.org
SUMMARY:Grief Lessons: A Six-Week Series at SLC
DESCRIPTION:  \n 
URL:https://silverdalelutheran.org/event/grief-lessons-a-six-week-series-at-slc/2029-02-14/
LOCATION:Silverdale Lutheran Church\, 11701 Ridgepoint Dr NW\, Silverdale\, WA\, 98383\, United States
CATEGORIES:Class
ATTACH;FMTTYPE=image/jpeg:https://silverdalelutheran.org/wp-content/uploads/2025/12/Grief-Lessons-A-Six-Week-Series-at-SLC-1.jpg
END:VEVENT
BEGIN:VEVENT
DTSTART;TZID=America/Los_Angeles:20290328T173000
DTEND;TZID=America/Los_Angeles:20290328T184500
DTSTAMP:20260421T183157
CREATED:20251218T172839Z
LAST-MODIFIED:20251218T172910Z
UID:10010312-1869413400-1869417900@silverdalelutheran.org
SUMMARY:Grief Lessons: A Six-Week Series at SLC
DESCRIPTION:  \n 
URL:https://silverdalelutheran.org/event/grief-lessons-a-six-week-series-at-slc/2029-03-28/
LOCATION:Silverdale Lutheran Church\, 11701 Ridgepoint Dr NW\, Silverdale\, WA\, 98383\, United States
CATEGORIES:Class
ATTACH;FMTTYPE=image/jpeg:https://silverdalelutheran.org/wp-content/uploads/2025/12/Grief-Lessons-A-Six-Week-Series-at-SLC-1.jpg
END:VEVENT
BEGIN:VEVENT
DTSTART;TZID=America/Los_Angeles:20290509T173000
DTEND;TZID=America/Los_Angeles:20290509T184500
DTSTAMP:20260421T183157
CREATED:20251218T172839Z
LAST-MODIFIED:20251218T172910Z
UID:10010313-1873042200-1873046700@silverdalelutheran.org
SUMMARY:Grief Lessons: A Six-Week Series at SLC
DESCRIPTION:  \n 
URL:https://silverdalelutheran.org/event/grief-lessons-a-six-week-series-at-slc/2029-05-09/
LOCATION:Silverdale Lutheran Church\, 11701 Ridgepoint Dr NW\, Silverdale\, WA\, 98383\, United States
CATEGORIES:Class
ATTACH;FMTTYPE=image/jpeg:https://silverdalelutheran.org/wp-content/uploads/2025/12/Grief-Lessons-A-Six-Week-Series-at-SLC-1.jpg
END:VEVENT
BEGIN:VEVENT
DTSTART;TZID=America/Los_Angeles:20290620T173000
DTEND;TZID=America/Los_Angeles:20290620T184500
DTSTAMP:20260421T183157
CREATED:20251218T172839Z
LAST-MODIFIED:20251218T172910Z
UID:10010314-1876671000-1876675500@silverdalelutheran.org
SUMMARY:Grief Lessons: A Six-Week Series at SLC
DESCRIPTION:  \n 
URL:https://silverdalelutheran.org/event/grief-lessons-a-six-week-series-at-slc/2029-06-20/
LOCATION:Silverdale Lutheran Church\, 11701 Ridgepoint Dr NW\, Silverdale\, WA\, 98383\, United States
CATEGORIES:Class
ATTACH;FMTTYPE=image/jpeg:https://silverdalelutheran.org/wp-content/uploads/2025/12/Grief-Lessons-A-Six-Week-Series-at-SLC-1.jpg
END:VEVENT
BEGIN:VEVENT
DTSTART;TZID=America/Los_Angeles:20290801T173000
DTEND;TZID=America/Los_Angeles:20290801T184500
DTSTAMP:20260421T183157
CREATED:20251218T172839Z
LAST-MODIFIED:20251218T172910Z
UID:10010315-1880299800-1880304300@silverdalelutheran.org
SUMMARY:Grief Lessons: A Six-Week Series at SLC
DESCRIPTION:  \n 
URL:https://silverdalelutheran.org/event/grief-lessons-a-six-week-series-at-slc/2029-08-01/
LOCATION:Silverdale Lutheran Church\, 11701 Ridgepoint Dr NW\, Silverdale\, WA\, 98383\, United States
CATEGORIES:Class
ATTACH;FMTTYPE=image/jpeg:https://silverdalelutheran.org/wp-content/uploads/2025/12/Grief-Lessons-A-Six-Week-Series-at-SLC-1.jpg
END:VEVENT
BEGIN:VEVENT
DTSTART;TZID=America/Los_Angeles:20290912T173000
DTEND;TZID=America/Los_Angeles:20290912T184500
DTSTAMP:20260421T183157
CREATED:20251218T172839Z
LAST-MODIFIED:20251218T172910Z
UID:10010316-1883928600-1883933100@silverdalelutheran.org
SUMMARY:Grief Lessons: A Six-Week Series at SLC
DESCRIPTION:  \n 
URL:https://silverdalelutheran.org/event/grief-lessons-a-six-week-series-at-slc/2029-09-12/
LOCATION:Silverdale Lutheran Church\, 11701 Ridgepoint Dr NW\, Silverdale\, WA\, 98383\, United States
CATEGORIES:Class
ATTACH;FMTTYPE=image/jpeg:https://silverdalelutheran.org/wp-content/uploads/2025/12/Grief-Lessons-A-Six-Week-Series-at-SLC-1.jpg
END:VEVENT
BEGIN:VEVENT
DTSTART;TZID=America/Los_Angeles:20291024T173000
DTEND;TZID=America/Los_Angeles:20291024T184500
DTSTAMP:20260421T183157
CREATED:20251218T172839Z
LAST-MODIFIED:20251218T172910Z
UID:10010317-1887557400-1887561900@silverdalelutheran.org
SUMMARY:Grief Lessons: A Six-Week Series at SLC
DESCRIPTION:  \n 
URL:https://silverdalelutheran.org/event/grief-lessons-a-six-week-series-at-slc/2029-10-24/
LOCATION:Silverdale Lutheran Church\, 11701 Ridgepoint Dr NW\, Silverdale\, WA\, 98383\, United States
CATEGORIES:Class
ATTACH;FMTTYPE=image/jpeg:https://silverdalelutheran.org/wp-content/uploads/2025/12/Grief-Lessons-A-Six-Week-Series-at-SLC-1.jpg
END:VEVENT
BEGIN:VEVENT
DTSTART;TZID=America/Los_Angeles:20291205T173000
DTEND;TZID=America/Los_Angeles:20291205T184500
DTSTAMP:20260421T183157
CREATED:20251218T172839Z
LAST-MODIFIED:20251218T172910Z
UID:10010318-1891186200-1891190700@silverdalelutheran.org
SUMMARY:Grief Lessons: A Six-Week Series at SLC
DESCRIPTION:  \n 
URL:https://silverdalelutheran.org/event/grief-lessons-a-six-week-series-at-slc/2029-12-05/
LOCATION:Silverdale Lutheran Church\, 11701 Ridgepoint Dr NW\, Silverdale\, WA\, 98383\, United States
CATEGORIES:Class
ATTACH;FMTTYPE=image/jpeg:https://silverdalelutheran.org/wp-content/uploads/2025/12/Grief-Lessons-A-Six-Week-Series-at-SLC-1.jpg
END:VEVENT
BEGIN:VEVENT
DTSTART;TZID=America/Los_Angeles:20300116T173000
DTEND;TZID=America/Los_Angeles:20300116T184500
DTSTAMP:20260421T183157
CREATED:20251218T172839Z
LAST-MODIFIED:20251218T172910Z
UID:10010319-1894815000-1894819500@silverdalelutheran.org
SUMMARY:Grief Lessons: A Six-Week Series at SLC
DESCRIPTION:  \n 
URL:https://silverdalelutheran.org/event/grief-lessons-a-six-week-series-at-slc/2030-01-16/
LOCATION:Silverdale Lutheran Church\, 11701 Ridgepoint Dr NW\, Silverdale\, WA\, 98383\, United States
CATEGORIES:Class
ATTACH;FMTTYPE=image/jpeg:https://silverdalelutheran.org/wp-content/uploads/2025/12/Grief-Lessons-A-Six-Week-Series-at-SLC-1.jpg
END:VEVENT
BEGIN:VEVENT
DTSTART;TZID=America/Los_Angeles:20300227T173000
DTEND;TZID=America/Los_Angeles:20300227T184500
DTSTAMP:20260421T183157
CREATED:20251218T172839Z
LAST-MODIFIED:20251218T172910Z
UID:10010320-1898443800-1898448300@silverdalelutheran.org
SUMMARY:Grief Lessons: A Six-Week Series at SLC
DESCRIPTION:  \n 
URL:https://silverdalelutheran.org/event/grief-lessons-a-six-week-series-at-slc/2030-02-27/
LOCATION:Silverdale Lutheran Church\, 11701 Ridgepoint Dr NW\, Silverdale\, WA\, 98383\, United States
CATEGORIES:Class
ATTACH;FMTTYPE=image/jpeg:https://silverdalelutheran.org/wp-content/uploads/2025/12/Grief-Lessons-A-Six-Week-Series-at-SLC-1.jpg
END:VEVENT
BEGIN:VEVENT
DTSTART;TZID=America/Los_Angeles:20300410T173000
DTEND;TZID=America/Los_Angeles:20300410T184500
DTSTAMP:20260421T183157
CREATED:20251218T172839Z
LAST-MODIFIED:20251218T172910Z
UID:10010321-1902072600-1902077100@silverdalelutheran.org
SUMMARY:Grief Lessons: A Six-Week Series at SLC
DESCRIPTION:  \n 
URL:https://silverdalelutheran.org/event/grief-lessons-a-six-week-series-at-slc/2030-04-10/
LOCATION:Silverdale Lutheran Church\, 11701 Ridgepoint Dr NW\, Silverdale\, WA\, 98383\, United States
CATEGORIES:Class
ATTACH;FMTTYPE=image/jpeg:https://silverdalelutheran.org/wp-content/uploads/2025/12/Grief-Lessons-A-Six-Week-Series-at-SLC-1.jpg
END:VEVENT
BEGIN:VEVENT
DTSTART;TZID=America/Los_Angeles:20300522T173000
DTEND;TZID=America/Los_Angeles:20300522T184500
DTSTAMP:20260421T183157
CREATED:20251218T172839Z
LAST-MODIFIED:20251218T172910Z
UID:10010322-1905701400-1905705900@silverdalelutheran.org
SUMMARY:Grief Lessons: A Six-Week Series at SLC
DESCRIPTION:  \n 
URL:https://silverdalelutheran.org/event/grief-lessons-a-six-week-series-at-slc/2030-05-22/
LOCATION:Silverdale Lutheran Church\, 11701 Ridgepoint Dr NW\, Silverdale\, WA\, 98383\, United States
CATEGORIES:Class
ATTACH;FMTTYPE=image/jpeg:https://silverdalelutheran.org/wp-content/uploads/2025/12/Grief-Lessons-A-Six-Week-Series-at-SLC-1.jpg
END:VEVENT
BEGIN:VEVENT
DTSTART;TZID=America/Los_Angeles:20300703T173000
DTEND;TZID=America/Los_Angeles:20300703T184500
DTSTAMP:20260421T183157
CREATED:20251218T172839Z
LAST-MODIFIED:20251218T172910Z
UID:10010323-1909330200-1909334700@silverdalelutheran.org
SUMMARY:Grief Lessons: A Six-Week Series at SLC
DESCRIPTION:  \n 
URL:https://silverdalelutheran.org/event/grief-lessons-a-six-week-series-at-slc/2030-07-03/
LOCATION:Silverdale Lutheran Church\, 11701 Ridgepoint Dr NW\, Silverdale\, WA\, 98383\, United States
CATEGORIES:Class
ATTACH;FMTTYPE=image/jpeg:https://silverdalelutheran.org/wp-content/uploads/2025/12/Grief-Lessons-A-Six-Week-Series-at-SLC-1.jpg
END:VEVENT
BEGIN:VEVENT
DTSTART;TZID=America/Los_Angeles:20300814T173000
DTEND;TZID=America/Los_Angeles:20300814T184500
DTSTAMP:20260421T183157
CREATED:20251218T172839Z
LAST-MODIFIED:20251218T172910Z
UID:10010324-1912959000-1912963500@silverdalelutheran.org
SUMMARY:Grief Lessons: A Six-Week Series at SLC
DESCRIPTION:  \n 
URL:https://silverdalelutheran.org/event/grief-lessons-a-six-week-series-at-slc/2030-08-14/
LOCATION:Silverdale Lutheran Church\, 11701 Ridgepoint Dr NW\, Silverdale\, WA\, 98383\, United States
CATEGORIES:Class
ATTACH;FMTTYPE=image/jpeg:https://silverdalelutheran.org/wp-content/uploads/2025/12/Grief-Lessons-A-Six-Week-Series-at-SLC-1.jpg
END:VEVENT
BEGIN:VEVENT
DTSTART;TZID=America/Los_Angeles:20300925T173000
DTEND;TZID=America/Los_Angeles:20300925T184500
DTSTAMP:20260421T183157
CREATED:20251218T172839Z
LAST-MODIFIED:20251218T172910Z
UID:10010325-1916587800-1916592300@silverdalelutheran.org
SUMMARY:Grief Lessons: A Six-Week Series at SLC
DESCRIPTION:  \n 
URL:https://silverdalelutheran.org/event/grief-lessons-a-six-week-series-at-slc/2030-09-25/
LOCATION:Silverdale Lutheran Church\, 11701 Ridgepoint Dr NW\, Silverdale\, WA\, 98383\, United States
CATEGORIES:Class
ATTACH;FMTTYPE=image/jpeg:https://silverdalelutheran.org/wp-content/uploads/2025/12/Grief-Lessons-A-Six-Week-Series-at-SLC-1.jpg
END:VEVENT
BEGIN:VEVENT
DTSTART;TZID=America/Los_Angeles:20301106T173000
DTEND;TZID=America/Los_Angeles:20301106T184500
DTSTAMP:20260421T183157
CREATED:20251218T172839Z
LAST-MODIFIED:20251218T172910Z
UID:10010326-1920216600-1920221100@silverdalelutheran.org
SUMMARY:Grief Lessons: A Six-Week Series at SLC
DESCRIPTION:  \n 
URL:https://silverdalelutheran.org/event/grief-lessons-a-six-week-series-at-slc/2030-11-06/
LOCATION:Silverdale Lutheran Church\, 11701 Ridgepoint Dr NW\, Silverdale\, WA\, 98383\, United States
CATEGORIES:Class
ATTACH;FMTTYPE=image/jpeg:https://silverdalelutheran.org/wp-content/uploads/2025/12/Grief-Lessons-A-Six-Week-Series-at-SLC-1.jpg
END:VEVENT
END:VCALENDAR