BEGIN:VCALENDAR
VERSION:2.0
PRODID:-//Silverdale Lutheran Church - ECPv6.15.12.2//NONSGML v1.0//EN
CALSCALE:GREGORIAN
METHOD:PUBLISH
X-WR-CALNAME:Silverdale Lutheran Church
X-ORIGINAL-URL:https://silverdalelutheran.org
X-WR-CALDESC:Events for Silverdale Lutheran Church
REFRESH-INTERVAL;VALUE=DURATION:PT1H
X-Robots-Tag:noindex
X-PUBLISHED-TTL:PT1H
BEGIN:VTIMEZONE
TZID:America/Los_Angeles
BEGIN:DAYLIGHT
TZOFFSETFROM:-0800
TZOFFSETTO:-0700
TZNAME:PDT
DTSTART:20240310T100000
END:DAYLIGHT
BEGIN:STANDARD
TZOFFSETFROM:-0700
TZOFFSETTO:-0800
TZNAME:PST
DTSTART:20241103T090000
END:STANDARD
BEGIN:DAYLIGHT
TZOFFSETFROM:-0800
TZOFFSETTO:-0700
TZNAME:PDT
DTSTART:20250309T100000
END:DAYLIGHT
BEGIN:STANDARD
TZOFFSETFROM:-0700
TZOFFSETTO:-0800
TZNAME:PST
DTSTART:20251102T090000
END:STANDARD
BEGIN:DAYLIGHT
TZOFFSETFROM:-0800
TZOFFSETTO:-0700
TZNAME:PDT
DTSTART:20260308T100000
END:DAYLIGHT
BEGIN:STANDARD
TZOFFSETFROM:-0700
TZOFFSETTO:-0800
TZNAME:PST
DTSTART:20261101T090000
END:STANDARD
END:VTIMEZONE
BEGIN:VEVENT
DTSTART;TZID=America/Los_Angeles:20251113T083000
DTEND;TZID=America/Los_Angeles:20251113T113000
DTSTAMP:20260421T144415
CREATED:20250929T181743Z
LAST-MODIFIED:20250929T181743Z
UID:10006984-1763022600-1763033400@silverdalelutheran.org
SUMMARY:Bible Study Fellowship (S\, 21-23)
DESCRIPTION:
URL:https://silverdalelutheran.org/event/bible-study-fellowship-s-21-23/2025-11-13/
LOCATION:WA
CATEGORIES:Private Group
END:VEVENT
BEGIN:VEVENT
DTSTART;TZID=America/Los_Angeles:20251113T103000
DTEND;TZID=America/Los_Angeles:20251113T120000
DTSTAMP:20260421T144415
CREATED:20250917T170040Z
LAST-MODIFIED:20250918T155018Z
UID:10002161-1763029800-1763035200@silverdalelutheran.org
SUMMARY:PB's Thursday Bible Study
DESCRIPTION:PB’s Thursday Bible StudyThe Gospel of John\n\n\nThis year PB’s Thursday Bible Study will walk through the Gospel of John.  This Gospel is often said to be a more “theological” Gospel than the synoptic Gospels (Matthew\, Mark\, and Luke).  One way to look at it is this: The Gospel of John is written in such a way that we will now not miss what many did.  It is a well known fact that the Gospel according to John was Luther’s most loved Gospel.  Come and take a deep dive into this amazing Gospel that truly does deliver God’s mercy and grace in Christ Jesus.  We hope to cover about a ½ chapter in each session and finish by the end of next summer! \nThis class meets in Fellowship Hall Thursday mornings.  You can also join in via ZOOM
URL:https://silverdalelutheran.org/event/pbs-thursday-bible-study/2025-11-13/
LOCATION:Silverdale Lutheran Church\, 11701 Ridgepoint Dr NW\, Silverdale\, WA\, 98383\, United States
END:VEVENT
BEGIN:VEVENT
DTSTART;TZID=America/Los_Angeles:20251113T120000
DTEND;TZID=America/Los_Angeles:20251113T130000
DTSTAMP:20260421T144415
CREATED:20250917T170332Z
LAST-MODIFIED:20250918T154936Z
UID:10002422-1763035200-1763038800@silverdalelutheran.org
SUMMARY:Song of the Church
DESCRIPTION:Song of the Church \n\n\nThis group is a bit like “Choir-lite.” We meet weekly Thursdays at noon and do vocal exercises. Then we study and rehearse the upcoming Sunday’s hymns and songs. Song of the Church is a good opportunity to exercise the voice and to dive deeper into the rich musical tradition of the church. No audition or experience is required for this singing\, and there is no performance obligation. \nMeets in the Sanctuary at Silverdale Lutheran Church.  Questions?  Contact Music Director Justin Cormier
URL:https://silverdalelutheran.org/event/song-of-the-church/2025-11-13/
LOCATION:Silverdale Lutheran Church\, 11701 Ridgepoint Dr NW\, Silverdale\, WA\, 98383\, United States
END:VEVENT
BEGIN:VEVENT
DTSTART;TZID=America/Los_Angeles:20251113T130000
DTEND;TZID=America/Los_Angeles:20251113T140000
DTSTAMP:20260421T144415
CREATED:20250917T170554Z
LAST-MODIFIED:20250918T154844Z
UID:10002683-1763038800-1763042400@silverdalelutheran.org
SUMMARY:Our'Chestra
DESCRIPTION:An ensemble of synthesizers and acoustic instruments\, rehearses weekly and plays for worship once per month. We play hymns and classical repertoire. \nMeets in either the Sanctuary or one of the GP Classrooms. \nQuestions?  Contact Music Director Justin Cormier
URL:https://silverdalelutheran.org/event/ourchestra/2025-11-13/
LOCATION:Silverdale Lutheran Church\, 11701 Ridgepoint Dr NW\, Silverdale\, WA\, 98383\, United States
ORGANIZER;CN="Justin Cormier":MAILTO:jcormier@silverdalelutheran.org
END:VEVENT
BEGIN:VEVENT
DTSTART;TZID=America/Los_Angeles:20251113T130000
DTEND;TZID=America/Los_Angeles:20251113T140000
DTSTAMP:20260421T144415
CREATED:20250917T171720Z
LAST-MODIFIED:20250917T171720Z
UID:10003205-1763038800-1763042400@silverdalelutheran.org
SUMMARY:Faith and Fellowship for Older Men (St)
DESCRIPTION:Fellowship and Faith for Older Men  \nThis time of fellowship is offered to older men looking to connect with each other and with God and faith. \nEnrollment:     3 openings \nWhen:              Weekly on Thursdays 1 p.m. to 2:30 p.m. \nWhere:             Library at Silverdale Lutheran Church \nContact:           Doug Hazen at (360) 692 0208 or doughazen1234@gmail.com
URL:https://silverdalelutheran.org/event/faith-and-fellowship-for-older-men-st/2025-11-13/
LOCATION:Silverdale Lutheran Church\, 11701 Ridgepoint Dr NW\, Silverdale\, WA\, 98383\, United States
END:VEVENT
BEGIN:VEVENT
DTSTART;TZID=America/Los_Angeles:20251113T173000
DTEND;TZID=America/Los_Angeles:20251113T183000
DTSTAMP:20260421T144415
CREATED:20250917T171148Z
LAST-MODIFIED:20250918T154753Z
UID:10002944-1763055000-1763058600@silverdalelutheran.org
SUMMARY:SLiCk Pickers
DESCRIPTION:A bluegrass-style band that rehearses weekly and plays worship once a month. \nMeets in the Sanctuary for Practice one hour a week.
URL:https://silverdalelutheran.org/event/slick-pickers/2025-11-13/
LOCATION:Silverdale Lutheran Church\, 11701 Ridgepoint Dr NW\, Silverdale\, WA\, 98383\, United States
ORGANIZER;CN="Justin Cormier":MAILTO:jcormier@silverdalelutheran.org
END:VEVENT
BEGIN:VEVENT
DTSTART;TZID=America/Los_Angeles:20251113T183000
DTEND;TZID=America/Los_Angeles:20251113T193000
DTSTAMP:20260421T144415
CREATED:20250917T171921Z
LAST-MODIFIED:20250918T154719Z
UID:10003466-1763058600-1763062200@silverdalelutheran.org
SUMMARY:Cubscout Den Mtg (GP Classrooms)
DESCRIPTION:Cubscout Den meets in GP every Thursday with exception to 2nd Thursday’s of month. \nFor more information please see:  https://silverdalelutheran.org/scouting/
URL:https://silverdalelutheran.org/event/cubscout-den-mtg-gp-classrooms/2025-11-13/
LOCATION:Silverdale Lutheran – Gathering Place\, 11701 Ridgepoint Dr NW\, Silverdale\, WA\, 98383\, United States
END:VEVENT
BEGIN:VEVENT
DTSTART;TZID=America/Los_Angeles:20251113T183000
DTEND;TZID=America/Los_Angeles:20251113T200000
DTSTAMP:20260421T144415
CREATED:20250930T212421Z
LAST-MODIFIED:20250930T212912Z
UID:10009867-1763058600-1763064000@silverdalelutheran.org
SUMMARY:Young Adults (HS)
DESCRIPTION:Join us the 2nd and 4th Thursday of each month!
URL:https://silverdalelutheran.org/event/young-adults-hs/2025-11-13/
LOCATION:Silverdale Lutheran – Gathering Place\, 11701 Ridgepoint Dr NW\, Silverdale\, WA\, 98383\, United States
CATEGORIES:Young Adults
ORGANIZER;CN="Pastor Jonathan":MAILTO:jsansgaard@gmail.com
END:VEVENT
BEGIN:VEVENT
DTSTART;TZID=America/Los_Angeles:20251113T183000
DTEND;TZID=America/Los_Angeles:20251113T200000
DTSTAMP:20260421T144415
CREATED:20250930T212505Z
LAST-MODIFIED:20250930T213226Z
UID:10010105-1763058600-1763064000@silverdalelutheran.org
SUMMARY:Young Adults (HS)
DESCRIPTION:Join us the 2nd and 4th Tuesday of each month!
URL:https://silverdalelutheran.org/event/young-adults-hs-2/2025-11-13/
LOCATION:Silverdale Lutheran – Gathering Place\, 11701 Ridgepoint Dr NW\, Silverdale\, WA\, 98383\, United States
CATEGORIES:Young Adults
ATTACH;FMTTYPE=image/png:https://silverdalelutheran.org/wp-content/uploads/2025/09/thumbnail_image.png
ORGANIZER;CN="Pastor Jonathan":MAILTO:jsansgaard@gmail.com
END:VEVENT
BEGIN:VEVENT
DTSTART;TZID=America/Los_Angeles:20251113T184500
DTEND;TZID=America/Los_Angeles:20251113T193000
DTSTAMP:20260421T144415
CREATED:20250917T172054Z
LAST-MODIFIED:20250918T154645Z
UID:10003727-1763059500-1763062200@silverdalelutheran.org
SUMMARY:Alleluia Ringers (S)
DESCRIPTION:Handbell choir rehearses weekly. This ministry is open to anyone Junior High age and older and is an excellent ministry for those who already read music rhythms. If you haven’t played handbells before\, we’ll teach you! \n 
URL:https://silverdalelutheran.org/event/alleluia-ringers-s/2025-11-13/
LOCATION:Silverdale Lutheran Church\, 11701 Ridgepoint Dr NW\, Silverdale\, WA\, 98383\, United States
ORGANIZER;CN="Justin Cormier":MAILTO:jcormier@silverdalelutheran.org
END:VEVENT
BEGIN:VEVENT
DTSTART;TZID=America/Los_Angeles:20251113T190000
DTEND;TZID=America/Los_Angeles:20251113T200000
DTSTAMP:20260421T144415
CREATED:20250929T182215Z
LAST-MODIFIED:20250929T182215Z
UID:10007506-1763060400-1763064000@silverdalelutheran.org
SUMMARY:Venture Scouting (23)
DESCRIPTION:
URL:https://silverdalelutheran.org/event/venture-scouting-23/2025-11-13/
LOCATION:Silverdale Lutheran – Gathering Place\, 11701 Ridgepoint Dr NW\, Silverdale\, WA\, 98383\, United States
END:VEVENT
END:VCALENDAR