BEGIN:VCALENDAR
VERSION:2.0
PRODID:-//Silverdale Lutheran Church - ECPv6.15.12.2//NONSGML v1.0//EN
CALSCALE:GREGORIAN
METHOD:PUBLISH
X-WR-CALNAME:Silverdale Lutheran Church
X-ORIGINAL-URL:https://silverdalelutheran.org
X-WR-CALDESC:Events for Silverdale Lutheran Church
REFRESH-INTERVAL;VALUE=DURATION:PT1H
X-Robots-Tag:noindex
X-PUBLISHED-TTL:PT1H
BEGIN:VTIMEZONE
TZID:America/Los_Angeles
BEGIN:DAYLIGHT
TZOFFSETFROM:-0800
TZOFFSETTO:-0700
TZNAME:PDT
DTSTART:20240310T100000
END:DAYLIGHT
BEGIN:STANDARD
TZOFFSETFROM:-0700
TZOFFSETTO:-0800
TZNAME:PST
DTSTART:20241103T090000
END:STANDARD
BEGIN:DAYLIGHT
TZOFFSETFROM:-0800
TZOFFSETTO:-0700
TZNAME:PDT
DTSTART:20250309T100000
END:DAYLIGHT
BEGIN:STANDARD
TZOFFSETFROM:-0700
TZOFFSETTO:-0800
TZNAME:PST
DTSTART:20251102T090000
END:STANDARD
BEGIN:DAYLIGHT
TZOFFSETFROM:-0800
TZOFFSETTO:-0700
TZNAME:PDT
DTSTART:20260308T100000
END:DAYLIGHT
BEGIN:STANDARD
TZOFFSETFROM:-0700
TZOFFSETTO:-0800
TZNAME:PST
DTSTART:20261101T090000
END:STANDARD
END:VTIMEZONE
BEGIN:VEVENT
DTSTART;TZID=America/Los_Angeles:20251109T083000
DTEND;TZID=America/Los_Angeles:20251109T093000
DTSTAMP:20260421T084312
CREATED:20250916T203047Z
LAST-MODIFIED:20250929T182545Z
UID:10007887-1762677000-1762680600@silverdalelutheran.org
SUMMARY:Sunday Worship - Early Service 8:30am
DESCRIPTION:Join us for Sunday Worship.\n8:30 am – Early Service\nSunday School for all ages between services
URL:https://silverdalelutheran.org/event/sunday-worship-830am-2/2025-11-09/
LOCATION:Silverdale Lutheran Church\, 11701 Ridgepoint Dr NW\, Silverdale\, WA\, 98383\, United States
END:VEVENT
BEGIN:VEVENT
DTSTART;TZID=America/Los_Angeles:20251109T094500
DTEND;TZID=America/Los_Angeles:20251109T104500
DTSTAMP:20260421T084312
CREATED:20250929T182919Z
LAST-MODIFIED:20250929T182919Z
UID:10008148-1762681500-1762685100@silverdalelutheran.org
SUMMARY:PB's Sunday Adult Education Class
DESCRIPTION:
URL:https://silverdalelutheran.org/event/pbs-sunday-adult-education-class/2025-11-09/
LOCATION:Silverdale Lutheran Church\, 11701 Ridgepoint Dr NW\, Silverdale\, WA\, 98383\, United States
END:VEVENT
BEGIN:VEVENT
DTSTART;TZID=America/Los_Angeles:20251109T110000
DTEND;TZID=America/Los_Angeles:20251109T120000
DTSTAMP:20260421T084312
CREATED:20250916T203317Z
LAST-MODIFIED:20250918T174943Z
UID:10001056-1762686000-1762689600@silverdalelutheran.org
SUMMARY:Sunday Worship - Late Service - 11:00 am
DESCRIPTION:Join us for Sunday Worship.\n11:00 am – Late Service\nSunday School for all ages between services
URL:https://silverdalelutheran.org/event/sunday-worship-1100-am/2025-11-09/
LOCATION:Silverdale Lutheran Church\, 11701 Ridgepoint Dr NW\, Silverdale\, WA\, 98383\, United States
CATEGORIES:Worship
END:VEVENT
BEGIN:VEVENT
DTSTART;TZID=America/Los_Angeles:20251109T190000
DTEND;TZID=America/Los_Angeles:20251109T203000
DTSTAMP:20260421T084312
CREATED:20250918T175222Z
LAST-MODIFIED:20250918T175552Z
UID:10004252-1762714800-1762720200@silverdalelutheran.org
SUMMARY:High School Youth Night
DESCRIPTION:SLY is our high school youth group that meets from 7-8:30pm on Sunday nights in the Gathering Place. This group often has additional opportunities to hang out and grow in their faith. Some of these experiences include acts of service\, backpacking\, retreats\, and fun!
URL:https://silverdalelutheran.org/event/high-school-youth-night/2025-11-09/
LOCATION:Silverdale Lutheran – Gathering Place\, 11701 Ridgepoint Dr NW\, Silverdale\, WA\, 98383\, United States
CATEGORIES:High School
ORGANIZER;CN="Jessica Voigt":MAILTO:jvoigt@silverdalelutheran.org
END:VEVENT
END:VCALENDAR