BEGIN:VCALENDAR
VERSION:2.0
PRODID:-//Silverdale Lutheran Church - ECPv6.15.12.2//NONSGML v1.0//EN
CALSCALE:GREGORIAN
METHOD:PUBLISH
X-WR-CALNAME:Silverdale Lutheran Church
X-ORIGINAL-URL:https://silverdalelutheran.org
X-WR-CALDESC:Events for Silverdale Lutheran Church
REFRESH-INTERVAL;VALUE=DURATION:PT1H
X-Robots-Tag:noindex
X-PUBLISHED-TTL:PT1H
BEGIN:VTIMEZONE
TZID:America/Los_Angeles
BEGIN:DAYLIGHT
TZOFFSETFROM:-0800
TZOFFSETTO:-0700
TZNAME:PDT
DTSTART:20240310T100000
END:DAYLIGHT
BEGIN:STANDARD
TZOFFSETFROM:-0700
TZOFFSETTO:-0800
TZNAME:PST
DTSTART:20241103T090000
END:STANDARD
BEGIN:DAYLIGHT
TZOFFSETFROM:-0800
TZOFFSETTO:-0700
TZNAME:PDT
DTSTART:20250309T100000
END:DAYLIGHT
BEGIN:STANDARD
TZOFFSETFROM:-0700
TZOFFSETTO:-0800
TZNAME:PST
DTSTART:20251102T090000
END:STANDARD
BEGIN:DAYLIGHT
TZOFFSETFROM:-0800
TZOFFSETTO:-0700
TZNAME:PDT
DTSTART:20260308T100000
END:DAYLIGHT
BEGIN:STANDARD
TZOFFSETFROM:-0700
TZOFFSETTO:-0800
TZNAME:PST
DTSTART:20261101T090000
END:STANDARD
END:VTIMEZONE
BEGIN:VEVENT
DTSTART;TZID=America/Los_Angeles:20251015T103000
DTEND;TZID=America/Los_Angeles:20251015T120000
DTSTAMP:20260421T144416
CREATED:20250917T164917Z
LAST-MODIFIED:20250917T164917Z
UID:10001374-1760524200-1760529600@silverdalelutheran.org
SUMMARY:Manna Bible Study
DESCRIPTION:Manna Bible Study meets on Wednesdays at 10:30am to discuss the texts for the upcoming Sunday Worship Service. \nThis class meets at 10:30am in room 4 (main building) of Silverdale Lutheran Church – you can also join via Zoom. \nClick to view past recordings
URL:https://silverdalelutheran.org/event/manna-bible-study/2025-10-15/
LOCATION:Silverdale Lutheran Church\, 11701 Ridgepoint Dr NW\, Silverdale\, WA\, 98383\, United States
END:VEVENT
BEGIN:VEVENT
DTSTART;TZID=America/Los_Angeles:20251015T120000
DTEND;TZID=America/Los_Angeles:20251015T130000
DTSTAMP:20260421T144416
CREATED:20250917T165143Z
LAST-MODIFIED:20250918T155352Z
UID:10001635-1760529600-1760533200@silverdalelutheran.org
SUMMARY:Hearty Meals
DESCRIPTION:Hearty Meals is a free in-person lunch every Wednesday from noon-1pm every Wednesday.  All are welcome.
URL:https://silverdalelutheran.org/event/hearty-meals/2025-10-15/
LOCATION:Silverdale Lutheran Church\, 11701 Ridgepoint Dr NW\, Silverdale\, WA\, 98383\, United States
CATEGORIES:Community Event
END:VEVENT
BEGIN:VEVENT
DTSTART;TZID=America/Los_Angeles:20251015T130000
DTEND;TZID=America/Los_Angeles:20251015T140000
DTSTAMP:20260421T144416
CREATED:20250929T192040Z
LAST-MODIFIED:20250929T192040Z
UID:10009358-1760533200-1760536800@silverdalelutheran.org
SUMMARY:Parkinsons group (St)
DESCRIPTION:Monthly on the third Wednesday
URL:https://silverdalelutheran.org/event/parkinsons-group-st/2025-10-15/
LOCATION:Silverdale Lutheran Church\, 11701 Ridgepoint Dr NW\, Silverdale\, WA\, 98383\, United States
CATEGORIES:Private Group
END:VEVENT
BEGIN:VEVENT
DTSTART;TZID=America/Los_Angeles:20251015T183000
DTEND;TZID=America/Los_Angeles:20251015T200000
DTSTAMP:20260421T144416
CREATED:20250916T201057Z
LAST-MODIFIED:20250918T155219Z
UID:10000007-1760553000-1760558400@silverdalelutheran.org
SUMMARY:middle youth night
DESCRIPTION:What: Youth Night\nWho:  6th – 8th grade\nWhen: Every Wednesday night from 6:30pm – 8pm\nWhere:  Gathering Place at SLC\n 
URL:https://silverdalelutheran.org/event/middle-youth-night/2025-10-15/
LOCATION:Silverdale Lutheran – Gathering Place\, 11701 Ridgepoint Dr NW\, Silverdale\, WA\, 98383\, United States
ORGANIZER;CN="Jessica Voigt":MAILTO:jvoigt@silverdalelutheran.org
END:VEVENT
BEGIN:VEVENT
DTSTART;TZID=America/Los_Angeles:20251015T190000
DTEND;TZID=America/Los_Angeles:20251015T200000
DTSTAMP:20260421T144416
CREATED:20250917T165813Z
LAST-MODIFIED:20250918T155059Z
UID:10001896-1760554800-1760558400@silverdalelutheran.org
SUMMARY:Sanctuary Choir Practice
DESCRIPTION:SLC has a rich variety of musical styles in worship. Sanctuary Choir practices in the Sanctuary – one hour a week.  They generally sing for worship once or twice a month. \nFor more information contact Justin Cormier \nMusic Ministries \n  \n 
URL:https://silverdalelutheran.org/event/sanctuary-choir-practice/2025-10-15/
LOCATION:Silverdale Lutheran Church\, 11701 Ridgepoint Dr NW\, Silverdale\, WA\, 98383\, United States
END:VEVENT
END:VCALENDAR