BEGIN:VCALENDAR
VERSION:2.0
PRODID:-//Silverdale Lutheran Church - ECPv6.15.12.2//NONSGML v1.0//EN
CALSCALE:GREGORIAN
METHOD:PUBLISH
X-WR-CALNAME:Silverdale Lutheran Church
X-ORIGINAL-URL:https://silverdalelutheran.org
X-WR-CALDESC:Events for Silverdale Lutheran Church
REFRESH-INTERVAL;VALUE=DURATION:PT1H
X-Robots-Tag:noindex
X-PUBLISHED-TTL:PT1H
BEGIN:VTIMEZONE
TZID:America/Los_Angeles
BEGIN:DAYLIGHT
TZOFFSETFROM:-0800
TZOFFSETTO:-0700
TZNAME:PDT
DTSTART:20240310T100000
END:DAYLIGHT
BEGIN:STANDARD
TZOFFSETFROM:-0700
TZOFFSETTO:-0800
TZNAME:PST
DTSTART:20241103T090000
END:STANDARD
BEGIN:DAYLIGHT
TZOFFSETFROM:-0800
TZOFFSETTO:-0700
TZNAME:PDT
DTSTART:20250309T100000
END:DAYLIGHT
BEGIN:STANDARD
TZOFFSETFROM:-0700
TZOFFSETTO:-0800
TZNAME:PST
DTSTART:20251102T090000
END:STANDARD
BEGIN:DAYLIGHT
TZOFFSETFROM:-0800
TZOFFSETTO:-0700
TZNAME:PDT
DTSTART:20260308T100000
END:DAYLIGHT
BEGIN:STANDARD
TZOFFSETFROM:-0700
TZOFFSETTO:-0800
TZNAME:PST
DTSTART:20261101T090000
END:STANDARD
END:VTIMEZONE
BEGIN:VEVENT
DTSTART;TZID=America/Los_Angeles:20251013T083000
DTEND;TZID=America/Los_Angeles:20251014T113000
DTSTAMP:20260421T143454
CREATED:20250929T180033Z
LAST-MODIFIED:20250929T191603Z
UID:10009037-1760344200-1760441400@silverdalelutheran.org
SUMMARY:Bible Study Fellowship (GP\, 21-23\, N)
DESCRIPTION:
URL:https://silverdalelutheran.org/event/bible-study-fellowship-gp-21-23-n-2/2025-10-13/
LOCATION:WA
CATEGORIES:Private Group
END:VEVENT
BEGIN:VEVENT
DTSTART;TZID=America/Los_Angeles:20251014T100000
DTEND;TZID=America/Los_Angeles:20251014T120000
DTSTAMP:20260421T143454
CREATED:20250929T180205Z
LAST-MODIFIED:20250929T180233Z
UID:10005615-1760436000-1760443200@silverdalelutheran.org
SUMMARY:Weekly Staff Meeting (4)
DESCRIPTION:
URL:https://silverdalelutheran.org/event/weekly-staff-meeting-4/2025-10-14/
LOCATION:WA
END:VEVENT
BEGIN:VEVENT
DTSTART;TZID=America/Los_Angeles:20251014T120000
DTEND;TZID=America/Los_Angeles:20251014T130000
DTSTAMP:20260421T143454
CREATED:20250929T180552Z
LAST-MODIFIED:20250929T180552Z
UID:10005876-1760443200-1760446800@silverdalelutheran.org
SUMMARY:Al-Anon (27)
DESCRIPTION:
URL:https://silverdalelutheran.org/event/al-anon-27/2025-10-14/
LOCATION:WA
END:VEVENT
BEGIN:VEVENT
DTSTART;TZID=America/Los_Angeles:20251014T130000
DTEND;TZID=America/Los_Angeles:20251014T143000
DTSTAMP:20260421T143454
CREATED:20250929T181025Z
LAST-MODIFIED:20250929T181025Z
UID:10006137-1760446800-1760452200@silverdalelutheran.org
SUMMARY:Pastor Text Study (4)
DESCRIPTION:
URL:https://silverdalelutheran.org/event/pastor-text-study-4/2025-10-14/
LOCATION:WA
END:VEVENT
BEGIN:VEVENT
DTSTART;TZID=America/Los_Angeles:20251014T140000
DTEND;TZID=America/Los_Angeles:20251014T153000
DTSTAMP:20260421T143454
CREATED:20250929T191757Z
LAST-MODIFIED:20250929T191757Z
UID:10009297-1760450400-1760455800@silverdalelutheran.org
SUMMARY:Gift of Years (4)
DESCRIPTION:Monthly on the second Tuesday
URL:https://silverdalelutheran.org/event/gift-of-years-4/2025-10-14/
LOCATION:WA
CATEGORIES:Bible Studies
END:VEVENT
BEGIN:VEVENT
DTSTART;TZID=America/Los_Angeles:20251014T173000
DTEND;TZID=America/Los_Angeles:20251014T190000
DTSTAMP:20260421T143454
CREATED:20250929T191851Z
LAST-MODIFIED:20250929T191851Z
UID:10009357-1760463000-1760468400@silverdalelutheran.org
SUMMARY:SLP Advisory Board Meeting (4)
DESCRIPTION:
URL:https://silverdalelutheran.org/event/slp-advisory-board-meeting-4/
LOCATION:WA
CATEGORIES:SLC Business
END:VEVENT
BEGIN:VEVENT
DTSTART;TZID=America/Los_Angeles:20251014T180000
DTEND;TZID=America/Los_Angeles:20251014T200000
DTSTAMP:20260421T143454
CREATED:20250929T183535Z
LAST-MODIFIED:20250929T183620Z
UID:10008526-1760464800-1760472000@silverdalelutheran.org
SUMMARY:Antir.org (GP)
DESCRIPTION:
URL:https://silverdalelutheran.org/event/antir-org/2025-10-14/
LOCATION:WA
CATEGORIES:Private Group
END:VEVENT
BEGIN:VEVENT
DTSTART;TZID=America/Los_Angeles:20251014T190000
DTEND;TZID=America/Los_Angeles:20251014T203000
DTSTAMP:20260421T143454
CREATED:20250929T181247Z
LAST-MODIFIED:20250929T181247Z
UID:10006398-1760468400-1760473800@silverdalelutheran.org
SUMMARY:Hometown Band
DESCRIPTION:
URL:https://silverdalelutheran.org/event/hometown-band/2025-10-14/
LOCATION:WA
CATEGORIES:Private Group
END:VEVENT
END:VCALENDAR